| DAPARdata 1.0.1 Samuel Wieczorek
 
 | Snapshot Date: 2016-10-08 07:15:25 -0700 (Sat, 08 Oct 2016) |  | URL: https://hedgehog.fhcrc.org/bioc-data/branches/RELEASE_3_3/experiment/pkgs/DAPARdata |  | Last Changed Rev: 3805 / Revision: 3935 |  | Last Changed Date: 2016-06-19 23:51:39 -0700 (Sun, 19 Jun 2016) | 
 | zin2 | Linux (Ubuntu 14.04.2 LTS) / x86_64 | OK | OK | OK |  |  | 
| moscato2 | Windows Server 2008 R2 Enterprise SP1 (64-bit) / x64 | OK | OK | OK | [ OK ] |  | 
##############################################################################
##############################################################################
###
### Running command:
###
###   cd DAPARdata.buildbin-libdir/DAPARdata && zip -r ../../DAPARdata_1.0.1.zip . & cd ../..
###
##############################################################################
##############################################################################
  adding: data/ (256 bytes security) (stored 0%)
  adding: data/datalist (188 bytes security) (deflated 36%)
  adding: data/UPSpep2.RData (188 bytes security) (deflated 16%)
  adding: data/UPSpep25.RData (188 bytes security) (deflated 0%)
  adding: data/UPSprot2.RData (188 bytes security) (deflated 7%)
  adding: data/UPSprot25.RData (188 bytes security) (deflated 0%)
  adding: DESCRIPTION (188 bytes security) (deflated 34%)
  adding: doc/ (256 bytes security) (stored 0%)
  adding: doc/index.html (188 bytes security) (deflated 67%)
  adding: doc/UPSpep-prot2.pdf (188 bytes security) (deflated 1%)
  adding: doc/UPSpep-prot2.Rnw (188 bytes security) (deflated 50%)
  adding: doc/UPSpep-prot25.pdf (188 bytes security) (deflated 1%)
  adding: doc/UPSpep-prot25.Rnw (188 bytes security) (deflated 50%)
  adding: extdata/ (256 bytes security) (stored 0%)
  adding: extdata/samples2.txt (188 bytes security) (deflated 56%)
  adding: extdata/samples25.txt (188 bytes security) (deflated 55%)
  adding: extdata/UPSpep2.MSnset (188 bytes security) (deflated 16%)
  adding: extdata/UPSpep2.txt (188 bytes security) (deflated 64%)
  adding: extdata/UPSpep25.MSnset (188 bytes security) (deflated 13%)
  adding: extdata/UPSpep25.txt (188 bytes security) (deflated 64%)
  adding: extdata/UPSprot2.MSnset (188 bytes security) (deflated 7%)
  adding: extdata/UPSprot2.txt (188 bytes security) (deflated 65%)
  adding: extdata/UPSprot25.MSnset (188 bytes security) (deflated 7%)
  adding: extdata/UPSprot25.txt (188 bytes security) (deflated 65%)
  adding: help/ (256 bytes security) (stored 0%)
  adding: help/aliases.rds (188 bytes security) (stored 0%)
  adding: help/AnIndex (188 bytes security) (deflated 52%)
  adding: help/DAPARdata.rdb (188 bytes security) (deflated 1%)
  adding: help/DAPARdata.rdx (188 bytes security) (stored 0%)
  adding: help/paths.rds (188 bytes security) (stored 0%)
  adding: html/ (256 bytes security) (stored 0%)
  adding: html/00Index.html (188 bytes security) (deflated 60%)
  adding: html/R.css (188 bytes security) (deflated 75%)
  adding: INDEX (188 bytes security) (deflated 63%)
  adding: MD5 (188 bytes security) (deflated 48%)
  adding: Meta/ (256 bytes security) (stored 0%)
  adding: Meta/data.rds (188 bytes security) (stored 0%)
  adding: Meta/hsearch.rds (188 bytes security) (stored 0%)
  adding: Meta/links.rds (188 bytes security) (stored 0%)
  adding: Meta/nsInfo.rds (188 bytes security) (stored 0%)
  adding: Meta/package.rds (188 bytes security) (stored 0%)
  adding: Meta/Rd.rds (188 bytes security) (stored 0%)
  adding: Meta/vignette.rds (188 bytes security) (stored 0%)
  adding: NAMESPACE (188 bytes security) (deflated 21%)
  adding: NEWS (188 bytes security) (deflated 25%)
  adding: R/ (256 bytes security) (stored 0%)
  adding: R/DAPARdata (188 bytes security) (deflated 41%)
  adding: R/DAPARdata.rdb (188 bytes security) (deflated 6%)
  adding: R/DAPARdata.rdx (188 bytes security) (stored 0%)
  adding: scripts/ (256 bytes security) (stored 0%)
  adding: scripts/UPSpep10.R (188 bytes security) (deflated 56%)
  adding: scripts/UPSpep2.R (188 bytes security) (deflated 56%)
  adding: scripts/UPSprot10.R (188 bytes security) (deflated 55%)
  adding: scripts/UPSprot2.R (188 bytes security) (deflated 56%)