| vsn 3.40.0 Wolfgang Huber
 
 | Snapshot Date: 2016-10-12 17:20:15 -0700 (Wed, 12 Oct 2016) |  | URL: https://hedgehog.fhcrc.org/bioconductor/branches/RELEASE_3_3/madman/Rpacks/vsn |  | Last Changed Rev: 117079 / Revision: 122332 |  | Last Changed Date: 2016-05-03 14:20:18 -0700 (Tue, 03 May 2016) | 
 | zin2 | Linux (Ubuntu 14.04.2 LTS) / x86_64 | OK | OK | OK |  |  | 
| moscato2 | Windows Server 2008 R2 Enterprise SP1 (64-bit) / x64 | OK | OK | OK | [ OK ] |  | 
| oaxaca | Mac OS X Mavericks (10.9.5) / x86_64 | OK | OK | OK | OK |  | 
##############################################################################
##############################################################################
###
### Running command:
###
###   cd vsn.buildbin-libdir/vsn && zip -r ../../vsn_3.40.0.zip . & cd ../..
###
##############################################################################
##############################################################################
  adding: CITATION (188 bytes security) (deflated 56%)
  adding: data/ (256 bytes security) (stored 0%)
  adding: data/kidney.RData (188 bytes security) (deflated 0%)
  adding: data/lymphoma.RData (188 bytes security) (deflated 0%)
  adding: DESCRIPTION (188 bytes security) (deflated 50%)
  adding: doc/ (256 bytes security) (stored 0%)
  adding: doc/convergence2.pdf (188 bytes security) (deflated 57%)
  adding: doc/convergence2.Rnw (188 bytes security) (deflated 38%)
  adding: doc/index.html (188 bytes security) (deflated 69%)
  adding: doc/likelihoodcomputations.pdf (188 bytes security) (deflated 9%)
  adding: doc/likelihoodcomputations.Rnw (188 bytes security) (deflated 68%)
  adding: doc/vsn.pdf (188 bytes security) (deflated 17%)
  adding: doc/vsn.R (188 bytes security) (deflated 78%)
  adding: doc/vsn.Rnw (188 bytes security) (deflated 66%)
  adding: help/ (256 bytes security) (stored 0%)
  adding: help/aliases.rds (188 bytes security) (stored 0%)
  adding: help/AnIndex (188 bytes security) (deflated 71%)
  adding: help/paths.rds (188 bytes security) (stored 0%)
  adding: help/vsn.rdb (188 bytes security) (deflated 0%)
  adding: help/vsn.rdx (188 bytes security) (stored 0%)
  adding: html/ (256 bytes security) (stored 0%)
  adding: html/00Index.html (188 bytes security) (deflated 80%)
  adding: html/R.css (188 bytes security) (deflated 75%)
  adding: INDEX (188 bytes security) (deflated 63%)
  adding: libs/ (256 bytes security) (stored 0%)
  adding: libs/i386/ (256 bytes security) (stored 0%)
  adding: libs/i386/vsn.dll (188 bytes security) (deflated 55%)
  adding: libs/x64/ (256 bytes security) (stored 0%)
  adding: libs/x64/vsn.dll (188 bytes security) (deflated 55%)
  adding: MD5 (188 bytes security) (deflated 45%)
  adding: Meta/ (256 bytes security) (stored 0%)
  adding: Meta/data.rds (188 bytes security) (stored 0%)
  adding: Meta/hsearch.rds (188 bytes security) (stored 0%)
  adding: Meta/links.rds (188 bytes security) (stored 0%)
  adding: Meta/nsInfo.rds (188 bytes security) (stored 0%)
  adding: Meta/package.rds (188 bytes security) (stored 0%)
  adding: Meta/Rd.rds (188 bytes security) (stored 0%)
  adding: Meta/vignette.rds (188 bytes security) (stored 0%)
  adding: NAMESPACE (188 bytes security) (deflated 55%)
  adding: R/ (256 bytes security) (stored 0%)
  adding: R/vsn (188 bytes security) (deflated 41%)
  adding: R/vsn.rdb (188 bytes security) (deflated 28%)
  adding: R/vsn.rdx (188 bytes security) (stored 0%)
  adding: scripts/ (256 bytes security) (stored 0%)
  adding: scripts/convergence.Rnw (188 bytes security) (deflated 59%)
  adding: scripts/lymphomasamples.txt (188 bytes security) (deflated 45%)
  adding: scripts/makedata.R (188 bytes security) (deflated 67%)
  adding: scripts/README (188 bytes security) (deflated 50%)
  adding: scripts/swirl.R (188 bytes security) (deflated 61%)
  adding: scripts/testderiv.R (188 bytes security) (deflated 51%)
  adding: scripts/testmlest.R (188 bytes security) (deflated 66%)
  adding: scripts/testprofiling.R (188 bytes security) (deflated 48%)
  adding: vignettes/ (256 bytes security) (stored 0%)
  adding: vignettes/convergence2.pdf (188 bytes security) (deflated 57%)
  adding: vignettes/convergence2.Rnw (188 bytes security) (deflated 67%)