synapter 1.14.2 Laurent Gatto  and Sebastian Gibb
 | Snapshot Date: 2016-10-12 17:20:15 -0700 (Wed, 12 Oct 2016) |  | URL: https://hedgehog.fhcrc.org/bioconductor/branches/RELEASE_3_3/madman/Rpacks/synapter |  | Last Changed Rev: 117513 / Revision: 122332 |  | Last Changed Date: 2016-05-15 13:18:19 -0700 (Sun, 15 May 2016) |  
  | zin2  | Linux (Ubuntu 14.04.2 LTS) / x86_64  |  OK  |  OK  |  OK  |  |   | 
| moscato2  | Windows Server 2008 R2 Enterprise SP1 (64-bit) / x64  |  OK  |  OK  |  OK  | [ OK ] |   | 
| oaxaca  | Mac OS X Mavericks (10.9.5) / x86_64  |  OK  |  OK  |  OK  |  OK  |   | 
##############################################################################
##############################################################################
###
### Running command:
###
###   cd synapter.buildbin-libdir/synapter && zip -r ../../synapter_1.14.2.zip . & cd ../..
###
##############################################################################
##############################################################################
  adding: CITATION (188 bytes security) (deflated 67%)
  adding: data/ (256 bytes security) (stored 0%)
  adding: data/synapterTiny.rda (188 bytes security) (deflated 0%)
  adding: DESCRIPTION (188 bytes security) (deflated 42%)
  adding: doc/ (256 bytes security) (stored 0%)
  adding: doc/index.html (188 bytes security) (deflated 57%)
  adding: doc/synapter.pdf (188 bytes security) (deflated 15%)
  adding: doc/synapter.R (188 bytes security) (deflated 67%)
  adding: doc/synapter.Rnw (188 bytes security) (deflated 66%)
  adding: extdata/ (256 bytes security) (stored 0%)
  adding: extdata/04_test_database.fasta (188 bytes security) (deflated 49%)
  adding: extdata/synapter.css (188 bytes security) (deflated 70%)
  adding: help/ (256 bytes security) (stored 0%)
  adding: help/aliases.rds (188 bytes security) (stored 0%)
  adding: help/AnIndex (188 bytes security) (deflated 84%)
  adding: help/paths.rds (188 bytes security) (stored 0%)
  adding: help/synapter.rdb (188 bytes security) (deflated 0%)
  adding: help/synapter.rdx (188 bytes security) (stored 0%)
  adding: html/ (256 bytes security) (stored 0%)
  adding: html/00Index.html (188 bytes security) (deflated 90%)
  adding: html/R.css (188 bytes security) (deflated 75%)
  adding: INDEX (188 bytes security) (deflated 61%)
  adding: MD5 (188 bytes security) (deflated 42%)
  adding: Meta/ (256 bytes security) (stored 0%)
  adding: Meta/data.rds (188 bytes security) (stored 0%)
  adding: Meta/hsearch.rds (188 bytes security) (stored 0%)
  adding: Meta/links.rds (188 bytes security) (stored 0%)
  adding: Meta/nsInfo.rds (188 bytes security) (stored 0%)
  adding: Meta/package.rds (188 bytes security) (stored 0%)
  adding: Meta/Rd.rds (188 bytes security) (stored 0%)
  adding: Meta/vignette.rds (188 bytes security) (stored 0%)
  adding: NAMESPACE (188 bytes security) (deflated 73%)
  adding: NEWS (188 bytes security) (deflated 70%)
  adding: R/ (256 bytes security) (stored 0%)
  adding: R/synapter (188 bytes security) (deflated 41%)
  adding: R/synapter.rdb (188 bytes security) (deflated 27%)
  adding: R/synapter.rdx (188 bytes security) (deflated 3%)
  adding: scripts/ (256 bytes security) (stored 0%)
  adding: scripts/run_test_report.R (188 bytes security) (deflated 59%)