| hopach 2.31.0 Katherine S. Pollard
 
 | Snapshot Date: 2016-04-20 17:20:35 -0700 (Wed, 20 Apr 2016) |  | URL: https://hedgehog.fhcrc.org/bioconductor/trunk/madman/Rpacks/hopach |  | Last Changed Rev: 109592 / Revision: 116626 |  | Last Changed Date: 2015-10-13 12:59:53 -0700 (Tue, 13 Oct 2015) | 
 | zin2 | Linux (Ubuntu 14.04.2 LTS) / x86_64 | OK | OK | OK |  |  | 
| moscato2 | Windows Server 2008 R2 Enterprise SP1 (64-bit) / x64 | OK | OK | OK | OK |  | 
| morelia | Mac OS X Mavericks (10.9.5) / x86_64 | OK | OK | OK | [ OK ] |  | 
##############################################################################
##############################################################################
###
### Running command:
###
###   rm -rf hopach.buildbin-libdir && mkdir hopach.buildbin-libdir && /Users/biocbuild/BBS/utils/build-universal.sh hopach_2.31.0.tar.gz /Library/Frameworks/R.framework/Versions/Current/Resources/bin/R hopach.buildbin-libdir
###
##############################################################################
##############################################################################
>>>>>>> 
>>>>>>> INSTALLATION WITH 'R CMD INSTALL --preclean --no-multiarch --library=hopach.buildbin-libdir hopach_2.31.0.tar.gz'
>>>>>>> 
* installing *source* package ‘hopach’ ...
** libs
clang -I/Library/Frameworks/R.framework/Resources/include -DNDEBUG  -I/usr/local/include -I/usr/local/include/freetype2 -I/opt/X11/include    -fPIC  -Wall -mtune=core2 -g -O2  -c Rdistances.c -o Rdistances.o
clang -I/Library/Frameworks/R.framework/Resources/include -DNDEBUG  -I/usr/local/include -I/usr/local/include/freetype2 -I/opt/X11/include    -fPIC  -Wall -mtune=core2 -g -O2  -c hdist.c -o hdist.o
clang -dynamiclib -Wl,-headerpad_max_install_names -undefined dynamic_lookup -single_module -multiply_defined suppress -L/Library/Frameworks/R.framework/Resources/lib -L/usr/local/lib -o hopach.so Rdistances.o hdist.o -F/Library/Frameworks/R.framework/.. -framework R -Wl,-framework -Wl,CoreFoundation
installing to /Users/biocbuild/bbs-3.3-bioc/meat/hopach.buildbin-libdir/hopach/libs
** R
** data
** inst
** preparing package for lazy loading
Creating a generic function from function ‘as.hdist’ in package ‘hopach’
Creating a generic function for ‘as.matrix’ from package ‘base’ in package ‘hopach’
** help
*** installing help indices
** building package indices
** installing vignettes
** testing if installed package can be loaded
* DONE (hopach)
>>>>>>> 
>>>>>>> FIXING LINKS FOR hopach.buildbin-libdir/hopach/libs//hopach.so
>>>>>>> 
install_name_tool -change "/usr/local/lib/libgcc_s.1.dylib" "/Library/Frameworks/R.framework/Versions/3.3/Resources/lib/libgcc_s.1.dylib" "hopach.buildbin-libdir/hopach/libs//hopach.so"
install_name_tool -change "/usr/local/lib/libgfortran.3.dylib" "/Library/Frameworks/R.framework/Versions/3.3/Resources/lib/libgfortran.3.dylib" "hopach.buildbin-libdir/hopach/libs//hopach.so"
install_name_tool -change "/usr/local/lib/libreadline.5.2.dylib" "/Library/Frameworks/R.framework/Versions/3.3/Resources/lib/libreadline.5.2.dylib" "hopach.buildbin-libdir/hopach/libs//hopach.so"
install_name_tool -change "/usr/local/lib/libreadline.dylib" "/Library/Frameworks/R.framework/Versions/3.3/Resources/lib/libreadline.dylib" "hopach.buildbin-libdir/hopach/libs//hopach.so"
install_name_tool -change "/usr/local/lib/libquadmath.0.dylib" "/Library/Frameworks/R.framework/Versions/3.3/Resources/lib/libquadmath.0.dylib" "hopach.buildbin-libdir/hopach/libs//hopach.so"