flowType 2.10.0 Nima Aghaeepour
 | Snapshot Date: 2016-10-12 17:20:15 -0700 (Wed, 12 Oct 2016) |  | URL: https://hedgehog.fhcrc.org/bioconductor/branches/RELEASE_3_3/madman/Rpacks/flowType |  | Last Changed Rev: 117079 / Revision: 122332 |  | Last Changed Date: 2016-05-03 14:20:18 -0700 (Tue, 03 May 2016) |  
  | zin2  | Linux (Ubuntu 14.04.2 LTS) / x86_64  |  OK  |  OK  |  OK  |  |   | 
| moscato2  | Windows Server 2008 R2 Enterprise SP1 (64-bit) / x64  |  OK  |  OK  |  OK  | [ OK ] |   | 
| oaxaca  | Mac OS X Mavericks (10.9.5) / x86_64  |  OK  |  OK  |  WARNINGS  |  OK  |   | 
##############################################################################
##############################################################################
###
### Running command:
###
###   cd flowType.buildbin-libdir/flowType && zip -r ../../flowType_2.10.0.zip . & cd ../..
###
##############################################################################
##############################################################################
  adding: data/ (256 bytes security) (stored 0%)
  adding: data/DLBCLExample.rda (188 bytes security) (stored 0%)
  adding: data/HIVData.rda (188 bytes security) (deflated 0%)
  adding: data/HIVMetaData.rda (188 bytes security) (stored 0%)
  adding: DESCRIPTION (188 bytes security) (deflated 37%)
  adding: doc/ (256 bytes security) (stored 0%)
  adding: doc/flowType.pdf (188 bytes security) (deflated 8%)
  adding: doc/flowType.R (188 bytes security) (deflated 72%)
  adding: doc/flowType.Rnw (188 bytes security) (deflated 57%)
  adding: doc/index.html (188 bytes security) (deflated 59%)
  adding: help/ (256 bytes security) (stored 0%)
  adding: help/aliases.rds (188 bytes security) (stored 0%)
  adding: help/AnIndex (188 bytes security) (deflated 74%)
  adding: help/flowType.rdb (188 bytes security) (deflated 1%)
  adding: help/flowType.rdx (188 bytes security) (stored 0%)
  adding: help/paths.rds (188 bytes security) (stored 0%)
  adding: html/ (256 bytes security) (stored 0%)
  adding: html/00Index.html (188 bytes security) (deflated 77%)
  adding: html/R.css (188 bytes security) (deflated 75%)
  adding: INDEX (188 bytes security) (deflated 65%)
  adding: libs/ (256 bytes security) (stored 0%)
  adding: libs/i386/ (256 bytes security) (stored 0%)
  adding: libs/i386/flowType.dll (188 bytes security) (deflated 65%)
  adding: libs/x64/ (256 bytes security) (stored 0%)
  adding: libs/x64/flowType.dll (188 bytes security) (deflated 67%)
  adding: MD5 (188 bytes security) (deflated 43%)
  adding: Meta/ (256 bytes security) (stored 0%)
  adding: Meta/data.rds (188 bytes security) (stored 0%)
  adding: Meta/hsearch.rds (188 bytes security) (stored 0%)
  adding: Meta/links.rds (188 bytes security) (stored 0%)
  adding: Meta/nsInfo.rds (188 bytes security) (stored 0%)
  adding: Meta/package.rds (188 bytes security) (stored 0%)
  adding: Meta/Rd.rds (188 bytes security) (stored 0%)
  adding: Meta/vignette.rds (188 bytes security) (stored 0%)
  adding: NAMESPACE (188 bytes security) (deflated 59%)
  adding: NEWS (188 bytes security) (deflated 55%)
  adding: R/ (256 bytes security) (stored 0%)
  adding: R/flowType (188 bytes security) (deflated 41%)
  adding: R/flowType.rdb (188 bytes security) (deflated 47%)
  adding: R/flowType.rdx (188 bytes security) (stored 0%)