bsseq 1.8.2 Kasper Daniel Hansen
 | Snapshot Date: 2016-10-12 17:20:15 -0700 (Wed, 12 Oct 2016) |  | URL: https://hedgehog.fhcrc.org/bioconductor/branches/RELEASE_3_3/madman/Rpacks/bsseq |  | Last Changed Rev: 117513 / Revision: 122332 |  | Last Changed Date: 2016-05-15 13:18:19 -0700 (Sun, 15 May 2016) |  
  | zin2  | Linux (Ubuntu 14.04.2 LTS) / x86_64  |  OK  |  OK  |  OK  |  |   | 
| moscato2  | Windows Server 2008 R2 Enterprise SP1 (64-bit) / x64  |  OK  |  OK  |  OK  | [ OK ] |   | 
| oaxaca  | Mac OS X Mavericks (10.9.5) / x86_64  |  OK  |  OK  |  OK  |  OK  |   | 
##############################################################################
##############################################################################
###
### Running command:
###
###   cd bsseq.buildbin-libdir/bsseq && zip -r ../../bsseq_1.8.2.zip . & cd ../..
###
##############################################################################
##############################################################################
  adding: CITATION (188 bytes security) (deflated 42%)
  adding: data/ (256 bytes security) (stored 0%)
  adding: data/datalist (188 bytes security) (stored 0%)
  adding: data/Rdata.rdb (188 bytes security) (deflated 0%)
  adding: data/Rdata.rds (188 bytes security) (deflated 1%)
  adding: data/Rdata.rdx (188 bytes security) (stored 0%)
  adding: DESCRIPTION (188 bytes security) (deflated 47%)
  adding: doc/ (256 bytes security) (stored 0%)
  adding: doc/bsseq.pdf (188 bytes security) (deflated 13%)
  adding: doc/bsseq.R (188 bytes security) (deflated 76%)
  adding: doc/bsseq.Rnw (188 bytes security) (deflated 63%)
  adding: doc/bsseq_analysis.pdf (188 bytes security) (deflated 10%)
  adding: doc/bsseq_analysis.R (188 bytes security) (deflated 72%)
  adding: doc/bsseq_analysis.Rnw (188 bytes security) (deflated 61%)
  adding: doc/index.html (188 bytes security) (deflated 66%)
  adding: extdata/ (256 bytes security) (stored 0%)
  adding: extdata/test_data.cytosineReport.gz (188 bytes security) (stored 0%)
  adding: extdata/test_data.fastq_bismark.bismark.cov.gz (188 bytes security) (deflated 0%)
  adding: help/ (256 bytes security) (stored 0%)
  adding: help/aliases.rds (188 bytes security) (stored 0%)
  adding: help/AnIndex (188 bytes security) (deflated 79%)
  adding: help/bsseq.rdb (188 bytes security) (deflated 1%)
  adding: help/bsseq.rdx (188 bytes security) (stored 0%)
  adding: help/paths.rds (188 bytes security) (stored 0%)
  adding: html/ (256 bytes security) (stored 0%)
  adding: html/00Index.html (188 bytes security) (deflated 84%)
  adding: html/R.css (188 bytes security) (deflated 75%)
  adding: INDEX (188 bytes security) (deflated 65%)
  adding: MD5 (188 bytes security) (deflated 44%)
  adding: Meta/ (256 bytes security) (stored 0%)
  adding: Meta/data.rds (188 bytes security) (stored 0%)
  adding: Meta/hsearch.rds (188 bytes security) (stored 0%)
  adding: Meta/links.rds (188 bytes security) (stored 0%)
  adding: Meta/nsInfo.rds (188 bytes security) (stored 0%)
  adding: Meta/package.rds (188 bytes security) (stored 0%)
  adding: Meta/Rd.rds (188 bytes security) (stored 0%)
  adding: Meta/vignette.rds (188 bytes security) (stored 0%)
  adding: NAMESPACE (188 bytes security) (deflated 65%)
  adding: NEWS.Rd (188 bytes security) (deflated 58%)
  adding: R/ (256 bytes security) (stored 0%)
  adding: R/bsseq (188 bytes security) (deflated 41%)
  adding: R/bsseq.rdb (188 bytes security) (deflated 26%)
  adding: R/bsseq.rdx (188 bytes security) (stored 0%)
  adding: scripts/ (256 bytes security) (stored 0%)
  adding: scripts/get_BS.chr22.R (188 bytes security) (deflated 61%)
  adding: unitTests/ (256 bytes security) (stored 0%)
  adding: unitTests/test_base.R (188 bytes security) (deflated 75%)
  adding: unitTests/test_perm.R (188 bytes security) (deflated 89%)
  adding: unitTests/test_read.bismark.R (188 bytes security) (deflated 82%)