| SLGI 1.32.0 Nolwenn Le Meur
 
 | Snapshot Date: 2016-10-12 17:20:15 -0700 (Wed, 12 Oct 2016) |  | URL: https://hedgehog.fhcrc.org/bioconductor/branches/RELEASE_3_3/madman/Rpacks/SLGI |  | Last Changed Rev: 117079 / Revision: 122332 |  | Last Changed Date: 2016-05-03 14:20:18 -0700 (Tue, 03 May 2016) | 
 | zin2 | Linux (Ubuntu 14.04.2 LTS) / x86_64 | OK | OK | OK |  |  | 
| moscato2 | Windows Server 2008 R2 Enterprise SP1 (64-bit) / x64 | OK | OK | [ OK ] | OK |  | 
| oaxaca | Mac OS X Mavericks (10.9.5) / x86_64 | OK | OK | OK | OK |  | 
##############################################################################
##############################################################################
###
### Running command:
###
###   rm -rf SLGI.buildbin-libdir SLGI.Rcheck && mkdir SLGI.buildbin-libdir SLGI.Rcheck && E:\biocbld\bbs-3.3-bioc\R\bin\R.exe CMD INSTALL --build --merge-multiarch --library=SLGI.buildbin-libdir SLGI_1.32.0.tar.gz >SLGI.Rcheck\00install.out 2>&1 && cp SLGI.Rcheck\00install.out SLGI-install.out  && E:\biocbld\bbs-3.3-bioc\R\bin\R.exe CMD check --library=SLGI.buildbin-libdir --install="check:SLGI-install.out" --force-multiarch --no-vignettes --timings SLGI_1.32.0.tar.gz
###
##############################################################################
##############################################################################
* using log directory 'E:/biocbld/bbs-3.3-bioc/meat/SLGI.Rcheck'
* using R version 3.3.1 (2016-06-21)
* using platform: x86_64-w64-mingw32 (64-bit)
* using session charset: ISO8859-1
* using option '--no-vignettes'
* checking for file 'SLGI/DESCRIPTION' ... OK
* this is package 'SLGI' version '1.32.0'
* checking package namespace information ... OK
* checking package dependencies ... OK
* checking if this is a source package ... OK
* checking if there is a namespace ... OK
* checking for hidden files and directories ... OK
* checking for portable file names ... OK
* checking whether package 'SLGI' can be installed ... OK
* checking installed package size ... NOTE
  installed size is 15.9Mb
  sub-directories of 1Mb or more:
    data      4.2Mb
    extdata  11.3Mb
* checking package directory ... OK
* checking 'build' directory ... OK
* checking DESCRIPTION meta-information ... NOTE
Malformed Description field: should contain one or more complete sentences.
Packages listed in more than one of Depends, Imports, Suggests, Enhances:
  'ScISI' 'lattice' 'GO.db'
A package should be listed in only one of these fields.
* checking top-level files ... OK
* checking for left-over files ... OK
* checking index information ... OK
* checking package subdirectories ... OK
* checking R files for non-ASCII characters ... OK
* checking R files for syntax errors ... OK
* loading checks for arch 'i386'
** checking whether the package can be loaded ... OK
** checking whether the package can be loaded with stated dependencies ... OK
** checking whether the package can be unloaded cleanly ... OK
** checking whether the namespace can be loaded with stated dependencies ... OK
** checking whether the namespace can be unloaded cleanly ... OK
* loading checks for arch 'x64'
** checking whether the package can be loaded ... OK
** checking whether the package can be loaded with stated dependencies ... OK
** checking whether the package can be unloaded cleanly ... OK
** checking whether the namespace can be loaded with stated dependencies ... OK
** checking whether the namespace can be unloaded cleanly ... OK
* checking dependencies in R code ... NOTE
'library' or 'require' call to 'GO.db' in package code.
  Please use :: or requireNamespace() instead.
  See section 'Suggested packages' in the 'Writing R Extensions' manual.
* checking S3 generic/method consistency ... OK
* checking replacement functions ... OK
* checking foreign function calls ... OK
* checking R code for possible problems ... OK
* checking Rd files ... OK
* checking Rd metadata ... OK
* checking Rd cross-references ... OK
* checking for missing documentation entries ... OK
* checking for code/documentation mismatches ... OK
* checking Rd \usage sections ... OK
* checking Rd contents ... OK
* checking for unstated dependencies in examples ... OK
* checking contents of 'data' directory ... OK
* checking data for non-ASCII characters ... OK
* checking data for ASCII and uncompressed saves ... OK
* checking installed files from 'inst/doc' ... OK
* checking files in 'vignettes' ... OK
* checking examples ...
** running examples for arch 'i386' ... OK
Examples with CPU or elapsed time > 5s
                 user system elapsed
iSummary        29.32   0.98   35.95
plot            19.73   3.25   23.00
siResult-class  16.38   4.32   20.70
compare         17.22   3.20   20.42
modelSLGI       13.84   1.89   15.72
topInteraction  11.02   2.54   13.55
normInteraction  7.05   2.07    9.12
twoWayTable      7.56   0.12    7.69
AtongFnDomain    5.62   0.05    5.66
** running examples for arch 'x64' ... OK
Examples with CPU or elapsed time > 5s
                 user system elapsed
iSummary        34.43   1.17   35.60
plot            16.16   4.25   20.40
siResult-class  15.08   4.44   19.54
modelSLGI       14.82   3.84   18.66
compare         14.58   1.38   15.94
topInteraction   8.81   2.77   11.57
normInteraction  6.99   2.77    9.77
twoWayTable      7.16   0.09    7.25
AtongFnDomain    5.45   0.01    5.46
* checking for unstated dependencies in vignettes ... OK
* checking package vignettes in 'inst/doc' ... OK
* checking running R code from vignettes ... SKIPPED
* checking re-building of vignette outputs ... SKIPPED
* checking PDF version of manual ... OK
* DONE
Status: 3 NOTEs
See
  'E:/biocbld/bbs-3.3-bioc/meat/SLGI.Rcheck/00check.log'
for details.
 
install for i386
* installing *source* package 'SLGI' ...
** R
** data
** inst
** preparing package for lazy loading
No methods found in "Biobase" for requests: listlen
No methods found in "annotate" for requests: pubmed, buildPubMedAbst
No methods found in "BiocGenerics" for requests: plot
** help
*** installing help indices
** building package indices
** installing vignettes
** testing if installed package can be loaded
No methods found in "Biobase" for requests: listlen
No methods found in "annotate" for requests: pubmed, buildPubMedAbst
No methods found in "BiocGenerics" for requests: plot
install for x64
* installing *source* package 'SLGI' ...
** testing if installed package can be loaded
No methods found in "Biobase" for requests: listlen
No methods found in "annotate" for requests: pubmed, buildPubMedAbst
No methods found in "BiocGenerics" for requests: plot
* MD5 sums
packaged installation of 'SLGI' as SLGI_1.32.0.zip
* DONE (SLGI)