MSGFplus 1.6.2 Thomas Lin Pedersen
 | Snapshot Date: 2016-10-12 17:20:15 -0700 (Wed, 12 Oct 2016) |  | URL: https://hedgehog.fhcrc.org/bioconductor/branches/RELEASE_3_3/madman/Rpacks/MSGFplus |  | Last Changed Rev: 117513 / Revision: 122332 |  | Last Changed Date: 2016-05-15 13:18:19 -0700 (Sun, 15 May 2016) |  
  | zin2  | Linux (Ubuntu 14.04.2 LTS) / x86_64  |  OK  |  OK  |  OK  |  |   | 
| moscato2  | Windows Server 2008 R2 Enterprise SP1 (64-bit) / x64  |  OK  |  OK  |  OK  | [ OK ] |   | 
| oaxaca  | Mac OS X Mavericks (10.9.5) / x86_64  |  OK  |  OK  |  OK  |  OK  |   | 
##############################################################################
##############################################################################
###
### Running command:
###
###   cd MSGFplus.buildbin-libdir/MSGFplus && zip -r ../../MSGFplus_1.6.2.zip . & cd ../..
###
##############################################################################
##############################################################################
  adding: DESCRIPTION (188 bytes security) (deflated 47%)
  adding: doc/ (256 bytes security) (stored 0%)
  adding: doc/index.html (188 bytes security) (deflated 59%)
  adding: doc/Using_MSGFplus.html (188 bytes security) (deflated 72%)
  adding: doc/Using_MSGFplus.R (188 bytes security) (deflated 71%)
  adding: doc/Using_MSGFplus.Rmd (188 bytes security) (deflated 59%)
  adding: extdata/ (256 bytes security) (stored 0%)
  adding: extdata/milk-proteins.fasta (188 bytes security) (deflated 52%)
  adding: help/ (256 bytes security) (stored 0%)
  adding: help/aliases.rds (188 bytes security) (stored 0%)
  adding: help/AnIndex (188 bytes security) (deflated 86%)
  adding: help/MSGFplus.rdb (188 bytes security) (deflated 3%)
  adding: help/MSGFplus.rdx (188 bytes security) (stored 0%)
  adding: help/paths.rds (188 bytes security) (stored 0%)
  adding: html/ (256 bytes security) (stored 0%)
  adding: html/00Index.html (188 bytes security) (deflated 91%)
  adding: html/R.css (188 bytes security) (deflated 75%)
  adding: INDEX (188 bytes security) (deflated 75%)
  adding: MD5 (188 bytes security) (deflated 42%)
  adding: Meta/ (256 bytes security) (stored 0%)
  adding: Meta/hsearch.rds (188 bytes security) (stored 0%)
  adding: Meta/links.rds (188 bytes security) (stored 0%)
  adding: Meta/nsInfo.rds (188 bytes security) (stored 0%)
  adding: Meta/package.rds (188 bytes security) (stored 0%)
  adding: Meta/Rd.rds (188 bytes security) (stored 0%)
  adding: Meta/vignette.rds (188 bytes security) (stored 0%)
  adding: modification_temp.txt (188 bytes security) (deflated 1%)
  adding: NAMESPACE (188 bytes security) (deflated 70%)
  adding: NEWS (188 bytes security) (deflated 73%)
  adding: R/ (256 bytes security) (stored 0%)
  adding: R/MSGFplus (188 bytes security) (deflated 41%)
  adding: R/MSGFplus.rdb (188 bytes security) (deflated 32%)
  adding: R/MSGFplus.rdx (188 bytes security) (deflated 1%)