IHW 0.99.14 Nikos Ignatiadis
 | Snapshot Date: 2016-04-20 17:20:35 -0700 (Wed, 20 Apr 2016) |  | URL: https://hedgehog.fhcrc.org/bioconductor/trunk/madman/Rpacks/IHW |  | Last Changed Rev: 116466 / Revision: 116626 |  | Last Changed Date: 2016-04-18 12:12:09 -0700 (Mon, 18 Apr 2016) |  
  | zin2  | Linux (Ubuntu 14.04.2 LTS) / x86_64  |  OK  |  OK  |  OK  |  |   | 
| moscato2  | Windows Server 2008 R2 Enterprise SP1 (64-bit) / x64  |  OK  |  OK  |  OK  |  OK  |   | 
| morelia  | Mac OS X Mavericks (10.9.5) / x86_64  | [ OK ] |  OK  |  OK  |  OK  |   | 
##############################################################################
##############################################################################
###
### Running command:
###
###   /Library/Frameworks/R.framework/Versions/Current/Resources/bin/R CMD INSTALL IHW
###
##############################################################################
##############################################################################
* installing to library ‘/Library/Frameworks/R.framework/Versions/3.3/Resources/library’
* installing *source* package ‘IHW’ ...
** R
** inst
** preparing package for lazy loading
Creating a generic function for ‘weights’ from package ‘stats’ in package ‘IHW’
Creating a generic function for ‘nrow’ from package ‘base’ in package ‘IHW’
Creating a generic function for ‘plot’ from package ‘graphics’ in package ‘IHW’
** help
*** installing help indices
** building package indices
** installing vignettes
** testing if installed package can be loaded
* DONE (IHW)