GOSemSim 1.30.3 Guangchuang Yu
 | Snapshot Date: 2016-10-12 17:20:15 -0700 (Wed, 12 Oct 2016) |  | URL: https://hedgehog.fhcrc.org/bioconductor/branches/RELEASE_3_3/madman/Rpacks/GOSemSim |  | Last Changed Rev: 119446 / Revision: 122332 |  | Last Changed Date: 2016-07-18 21:49:20 -0700 (Mon, 18 Jul 2016) |  
  | zin2  | Linux (Ubuntu 14.04.2 LTS) / x86_64  | [ OK ] |  OK  |  OK  |  |   | 
| moscato2  | Windows Server 2008 R2 Enterprise SP1 (64-bit) / x64  |  OK  |  OK  |  OK  |  OK  |   | 
| oaxaca  | Mac OS X Mavericks (10.9.5) / x86_64  |  OK  |  OK  |  OK  |  OK  |   | 
##############################################################################
##############################################################################
###
### Running command:
###
###   /home/biocbuild/bbs-3.3-bioc/R/bin/R CMD INSTALL GOSemSim
###
##############################################################################
##############################################################################
* installing to library ‘/home/biocbuild/bbs-3.3-bioc/R/library’
* installing *source* package ‘GOSemSim’ ...
** libs
g++ -I/home/biocbuild/bbs-3.3-bioc/R/include -DNDEBUG  -I/usr/local/include -I"/home/biocbuild/bbs-3.3-bioc/R/library/Rcpp/include"   -fpic  -g -O2  -Wall -c ICmethod.cpp -o ICmethod.o
ICmethod.cpp: In function ‘Rcpp::NumericMatrix infoContentMethod_cpp(Rcpp::StringVector&, Rcpp::StringVector&, Rcpp::List&, Rcpp::NumericVector&, const string&, const string&)’:
ICmethod.cpp:82:40: warning: comparison between signed and unsigned integer expressions [-Wsign-compare]
     for (std::size_t i=0; i < ic_.size(); i++ ) {
                                        ^
ICmethod.cpp:88:40: warning: comparison between signed and unsigned integer expressions [-Wsign-compare]
     for (std::size_t i=0; i < ic_.size(); i++ ) {
                                        ^
ICmethod.cpp:107:41: warning: comparison between signed and unsigned integer expressions [-Wsign-compare]
     for (std::size_t i=0; i < anc_.size(); i++ ) {
                                         ^
ICmethod.cpp:118:42: warning: comparison between signed and unsigned integer expressions [-Wsign-compare]
   for ( std::size_t i = 0; i < id1_.size(); i++ ) {
                                          ^
ICmethod.cpp:125:46: warning: comparison between signed and unsigned integer expressions [-Wsign-compare]
       for ( std::size_t j = 0; j < id2_.size(); j++ ) {
                                              ^
ICmethod.cpp:152:46: warning: comparison between signed and unsigned integer expressions [-Wsign-compare]
       for ( std::size_t j = 0; j < id2_.size(); j++ ) {
                                              ^
g++ -I/home/biocbuild/bbs-3.3-bioc/R/include -DNDEBUG  -I/usr/local/include -I"/home/biocbuild/bbs-3.3-bioc/R/library/Rcpp/include"   -fpic  -g -O2  -Wall -c RcppExports.cpp -o RcppExports.o
g++ -shared -L/home/biocbuild/bbs-3.3-bioc/R/lib -L/usr/local/lib -o GOSemSim.so ICmethod.o RcppExports.o -L/home/biocbuild/bbs-3.3-bioc/R/lib -lR
installing to /home/biocbuild/bbs-3.3-bioc/R/library/GOSemSim/libs
** R
** data
** inst
** preparing package for lazy loading
** help
*** installing help indices
** building package indices
** installing vignettes
** testing if installed package can be loaded
* DONE (GOSemSim)