Back to the "Multiple platform build/check report" A [B] C  D  E  F  G  H  I  J  K  L  M  N  O  P  Q  R  S  T  U  V  W  X  Y  Z 

BioC 3.3: INSTALL report for BrowserViz on moscato2

This page was generated on 2015-11-25 11:33:24 -0800 (Wed, 25 Nov 2015).

Package 122/1108HostnameOS / ArchINSTALLBUILDCHECKBUILD BIN
BrowserViz 1.3.0
Paul Shannon
Snapshot Date: 2015-11-24 17:20:15 -0800 (Tue, 24 Nov 2015)
URL: https://hedgehog.fhcrc.org/bioconductor/trunk/madman/Rpacks/BrowserViz
Last Changed Rev: 109592 / Revision: 110897
Last Changed Date: 2015-10-13 12:59:53 -0700 (Tue, 13 Oct 2015)
zin2 Linux (Ubuntu 14.04.2 LTS) / x86_64  OK  OK  OK UNNEEDED, same version exists in internal repository
moscato2 Windows Server 2008 R2 Enterprise SP1 (64-bit) / x64 [ OK ] OK  ERROR  OK 
morelia Mac OS X Mavericks (10.9.5) / x86_64  OK  OK  OK  OK UNNEEDED, same version exists in internal repository

Summary

Package: BrowserViz
Version: 1.3.0
Command: C:\cygwin\bin\curl.exe -O http://zin2/BBS/3.3/bioc/src/contrib/BrowserViz_1.3.0.tar.gz && E:\biocbld\bbs-3.3-bioc\R\bin\R.exe CMD INSTALL --merge-multiarch BrowserViz_1.3.0.tar.gz && rm BrowserViz_1.3.0.tar.gz
StartedAt: 2015-11-24 18:22:32 -0800 (Tue, 24 Nov 2015)
EndedAt: 2015-11-24 18:22:56 -0800 (Tue, 24 Nov 2015)
EllapsedTime: 23.8 seconds
RetCode: 0
Status:  OK  

Command output

##############################################################################
##############################################################################
###
### Running command:
###
###   C:\cygwin\bin\curl.exe -O http://zin2/BBS/3.3/bioc/src/contrib/BrowserViz_1.3.0.tar.gz && E:\biocbld\bbs-3.3-bioc\R\bin\R.exe CMD INSTALL --merge-multiarch BrowserViz_1.3.0.tar.gz && rm BrowserViz_1.3.0.tar.gz
###
##############################################################################
##############################################################################




install for i386

* installing to library 'E:/biocbld/bbs-3.3-bioc/R/library'
* installing *source* package 'BrowserViz' ...
** R
** inst
** preparing package for lazy loading
** help
*** installing help indices
** building package indices
** installing vignettes
** testing if installed package can be loaded

install for x64

* installing to library 'E:/biocbld/bbs-3.3-bioc/R/library'
* installing *source* package 'BrowserViz' ...
** testing if installed package can be loaded
* DONE (BrowserViz)