| ACME 2.28.0 Sean Davis
 
 | Snapshot Date: 2016-10-12 17:20:15 -0700 (Wed, 12 Oct 2016) |  | URL: https://hedgehog.fhcrc.org/bioconductor/branches/RELEASE_3_3/madman/Rpacks/ACME |  | Last Changed Rev: 117079 / Revision: 122332 |  | Last Changed Date: 2016-05-03 14:20:18 -0700 (Tue, 03 May 2016) | 
 | zin2 | Linux (Ubuntu 14.04.2 LTS) / x86_64 | OK | OK | OK |  |  | 
| moscato2 | Windows Server 2008 R2 Enterprise SP1 (64-bit) / x64 | OK | OK | OK | [ OK ] |  | 
| oaxaca | Mac OS X Mavericks (10.9.5) / x86_64 | OK | OK | OK | OK |  | 
##############################################################################
##############################################################################
###
### Running command:
###
###   cd ACME.buildbin-libdir/ACME && zip -r ../../ACME_2.28.0.zip . & cd ../..
###
##############################################################################
##############################################################################
  adding: CITATION (188 bytes security) (deflated 43%)
  adding: data/ (256 bytes security) (stored 0%)
  adding: data/datalist (188 bytes security) (stored 0%)
  adding: data/example.agff.rda (188 bytes security) (deflated 0%)
  adding: DESCRIPTION (188 bytes security) (deflated 46%)
  adding: doc/ (256 bytes security) (stored 0%)
  adding: doc/ACME.pdf (188 bytes security) (deflated 6%)
  adding: doc/ACME.R (188 bytes security) (deflated 73%)
  adding: doc/ACME.Rnw (188 bytes security) (deflated 55%)
  adding: doc/index.html (188 bytes security) (deflated 57%)
  adding: extdata/ (256 bytes security) (stored 0%)
  adding: extdata/testsamp1.gff (188 bytes security) (deflated 78%)
  adding: extdata/testsamp2.gff (188 bytes security) (deflated 78%)
  adding: help/ (256 bytes security) (stored 0%)
  adding: help/ACME.rdb (188 bytes security) (deflated 1%)
  adding: help/ACME.rdx (188 bytes security) (stored 0%)
  adding: help/aliases.rds (188 bytes security) (stored 0%)
  adding: help/AnIndex (188 bytes security) (deflated 73%)
  adding: help/paths.rds (188 bytes security) (stored 0%)
  adding: html/ (256 bytes security) (stored 0%)
  adding: html/00Index.html (188 bytes security) (deflated 78%)
  adding: html/R.css (188 bytes security) (deflated 75%)
  adding: INDEX (188 bytes security) (deflated 56%)
  adding: libs/ (256 bytes security) (stored 0%)
  adding: libs/i386/ (256 bytes security) (stored 0%)
  adding: libs/i386/ACME.dll (188 bytes security) (deflated 61%)
  adding: libs/x64/ (256 bytes security) (stored 0%)
  adding: libs/x64/ACME.dll (188 bytes security) (deflated 59%)
  adding: MD5 (188 bytes security) (deflated 42%)
  adding: Meta/ (256 bytes security) (stored 0%)
  adding: Meta/data.rds (188 bytes security) (stored 0%)
  adding: Meta/hsearch.rds (188 bytes security) (stored 0%)
  adding: Meta/links.rds (188 bytes security) (stored 0%)
  adding: Meta/nsInfo.rds (188 bytes security) (stored 0%)
  adding: Meta/package.rds (188 bytes security) (stored 0%)
  adding: Meta/Rd.rds (188 bytes security) (stored 0%)
  adding: Meta/vignette.rds (188 bytes security) (stored 0%)
  adding: NAMESPACE (188 bytes security) (deflated 39%)
  adding: R/ (256 bytes security) (stored 0%)
  adding: R/ACME (188 bytes security) (deflated 41%)
  adding: R/ACME.rdb (188 bytes security) (deflated 19%)
  adding: R/ACME.rdx (188 bytes security) (stored 0%)