Back to Build/check report for BioC 3.23 experimental data
ABCDEFGHIJKLMNOPQR[S]TUVWXYZ

This page was generated on 2025-11-11 15:01 -0500 (Tue, 11 Nov 2025).

HostnameOSArch (*)R versionInstalled pkgs
nebbiolo1Linux (Ubuntu 24.04.3 LTS)x86_64R Under development (unstable) (2025-10-20 r88955) -- "Unsuffered Consequences" 4823
Click on any hostname to see more info about the system (e.g. compilers)      (*) as reported by 'uname -p', except on Windows and Mac OS X

Package 356/431HostnameOS / ArchINSTALLBUILDCHECK
scRNAseq 2.25.0  (landing page)
Aaron Lun
Snapshot Date: 2025-11-11 07:00 -0500 (Tue, 11 Nov 2025)
git_url: https://git.bioconductor.org/packages/scRNAseq
git_branch: devel
git_last_commit: 2fad4dd
git_last_commit_date: 2025-10-29 09:58:50 -0500 (Wed, 29 Oct 2025)
nebbiolo1Linux (Ubuntu 24.04.3 LTS) / x86_64  OK    OK    OK  UNNEEDED, same version is already published


CHECK results for scRNAseq on nebbiolo1

To the developers/maintainers of the scRNAseq package:
- Use the following Renviron settings to reproduce errors and warnings.
- If 'R CMD check' started to fail recently on the Linux builder(s) over a missing dependency, add the missing dependency to 'Suggests:' in your DESCRIPTION file. See Renviron.bioc for more information.

raw results


Summary

Package: scRNAseq
Version: 2.25.0
Command: /home/biocbuild/bbs-3.23-bioc/R/bin/R CMD check --install=check:scRNAseq.install-out.txt --library=/home/biocbuild/bbs-3.23-bioc/R/site-library --timings scRNAseq_2.25.0.tar.gz
StartedAt: 2025-11-11 12:59:10 -0500 (Tue, 11 Nov 2025)
EndedAt: 2025-11-11 13:15:37 -0500 (Tue, 11 Nov 2025)
EllapsedTime: 986.8 seconds
RetCode: 0
Status:   OK  
CheckDir: scRNAseq.Rcheck
Warnings: 0

Command output

##############################################################################
##############################################################################
###
### Running command:
###
###   /home/biocbuild/bbs-3.23-bioc/R/bin/R CMD check --install=check:scRNAseq.install-out.txt --library=/home/biocbuild/bbs-3.23-bioc/R/site-library --timings scRNAseq_2.25.0.tar.gz
###
##############################################################################
##############################################################################


* using log directory ‘/home/biocbuild/bbs-3.23-data-experiment/meat/scRNAseq.Rcheck’
* using R Under development (unstable) (2025-10-20 r88955)
* using platform: x86_64-pc-linux-gnu
* R was compiled by
    gcc (Ubuntu 13.3.0-6ubuntu2~24.04) 13.3.0
    GNU Fortran (Ubuntu 13.3.0-6ubuntu2~24.04) 13.3.0
* running under: Ubuntu 24.04.3 LTS
* using session charset: UTF-8
* checking for file ‘scRNAseq/DESCRIPTION’ ... OK
* this is package ‘scRNAseq’ version ‘2.25.0’
* package encoding: UTF-8
* checking package namespace information ... OK
* checking package dependencies ... OK
* checking if this is a source package ... OK
* checking if there is a namespace ... OK
* checking for hidden files and directories ... NOTE
Found the following hidden files and directories:
  .BBSoptions
These were most likely included in error. See section ‘Package
structure’ in the ‘Writing R Extensions’ manual.
* checking for portable file names ... OK
* checking for sufficient/correct file permissions ... OK
* checking whether package ‘scRNAseq’ can be installed ... OK
* checking installed package size ... OK
* checking package directory ... OK
* checking ‘build’ directory ... OK
* checking DESCRIPTION meta-information ... OK
* checking top-level files ... OK
* checking for left-over files ... OK
* checking index information ... OK
* checking package subdirectories ... OK
* checking code files for non-ASCII characters ... OK
* checking R files for syntax errors ... OK
* checking whether the package can be loaded ... OK
* checking whether the package can be loaded with stated dependencies ... OK
* checking whether the package can be unloaded cleanly ... OK
* checking whether the namespace can be loaded with stated dependencies ... OK
* checking whether the namespace can be unloaded cleanly ... OK
* checking loading without being on the library search path ... OK
* checking dependencies in R code ... OK
* checking S3 generic/method consistency ... OK
* checking replacement functions ... OK
* checking foreign function calls ... OK
* checking R code for possible problems ... OK
* checking Rd files ... OK
* checking Rd metadata ... OK
* checking Rd cross-references ... OK
* checking for missing documentation entries ... OK
* checking for code/documentation mismatches ... OK
* checking Rd \usage sections ... OK
* checking Rd contents ... OK
* checking for unstated dependencies in examples ... OK
* checking files in ‘vignettes’ ... OK
* checking examples ... OK
Examples with CPU (user + system) or elapsed time > 5s
                           user system elapsed
BhaduriOrganoidData      24.936 10.788  36.034
HeOrganAtlasData         14.906 11.362  30.128
BacherTCellData          17.413  5.665  24.117
ZeiselNervousData        15.062  7.416  24.183
JessaBrainData           10.586  5.227  17.027
ErnstSpermatogenesisData 10.816  4.931  16.966
StoeckiusHashingData     10.003  2.178  13.300
LunSpikeInData            8.848  1.609  11.312
ZhaoImmuneLiverData       6.710  3.434  10.931
BachMammaryData           6.737  1.009   8.699
GiladiHSCData             5.169  2.427   8.150
AztekinTailData           6.423  0.709   7.349
KolodziejczykESCData      4.928  1.460   6.785
ZilionisLungData          4.193  1.613   6.200
NestorowaHSCData          4.376  0.995   5.779
MessmerESCData            4.273  0.755   5.373
* checking for unstated dependencies in ‘tests’ ... OK
* checking tests ...
  Running ‘testthat.R’
 OK
* checking for unstated dependencies in vignettes ... OK
* checking package vignettes ... OK
* checking re-building of vignette outputs ... OK
* checking PDF version of manual ... OK
* DONE

Status: 1 NOTE
See
  ‘/home/biocbuild/bbs-3.23-data-experiment/meat/scRNAseq.Rcheck/00check.log’
for details.


Installation output

scRNAseq.Rcheck/00install.out

##############################################################################
##############################################################################
###
### Running command:
###
###   /home/biocbuild/bbs-3.23-bioc/R/bin/R CMD INSTALL scRNAseq
###
##############################################################################
##############################################################################


* installing to library ‘/home/biocbuild/bbs-3.23-bioc/R/site-library’
* installing *source* package ‘scRNAseq’ ...
** this is package ‘scRNAseq’ version ‘2.25.0’
** using staged installation
** R
** inst
** byte-compile and prepare package for lazy loading
** help
*** installing help indices
** building package indices
** installing vignettes
** testing if installed package can be loaded from temporary location
** testing if installed package can be loaded from final location
** testing if installed package keeps a record of temporary installation path
* DONE (scRNAseq)

Tests output

scRNAseq.Rcheck/tests/testthat.Rout


R Under development (unstable) (2025-10-20 r88955) -- "Unsuffered Consequences"
Copyright (C) 2025 The R Foundation for Statistical Computing
Platform: x86_64-pc-linux-gnu

R is free software and comes with ABSOLUTELY NO WARRANTY.
You are welcome to redistribute it under certain conditions.
Type 'license()' or 'licence()' for distribution details.

R is a collaborative project with many contributors.
Type 'contributors()' for more information and
'citation()' on how to cite R or R packages in publications.

Type 'demo()' for some demos, 'help()' for on-line help, or
'help.start()' for an HTML browser interface to help.
Type 'q()' to quit R.

> library(testthat)
> library(scRNAseq)
Loading required package: SingleCellExperiment
Loading required package: SummarizedExperiment
Loading required package: MatrixGenerics
Loading required package: matrixStats

Attaching package: 'MatrixGenerics'

The following objects are masked from 'package:matrixStats':

    colAlls, colAnyNAs, colAnys, colAvgsPerRowSet, colCollapse,
    colCounts, colCummaxs, colCummins, colCumprods, colCumsums,
    colDiffs, colIQRDiffs, colIQRs, colLogSumExps, colMadDiffs,
    colMads, colMaxs, colMeans2, colMedians, colMins, colOrderStats,
    colProds, colQuantiles, colRanges, colRanks, colSdDiffs, colSds,
    colSums2, colTabulates, colVarDiffs, colVars, colWeightedMads,
    colWeightedMeans, colWeightedMedians, colWeightedSds,
    colWeightedVars, rowAlls, rowAnyNAs, rowAnys, rowAvgsPerColSet,
    rowCollapse, rowCounts, rowCummaxs, rowCummins, rowCumprods,
    rowCumsums, rowDiffs, rowIQRDiffs, rowIQRs, rowLogSumExps,
    rowMadDiffs, rowMads, rowMaxs, rowMeans2, rowMedians, rowMins,
    rowOrderStats, rowProds, rowQuantiles, rowRanges, rowRanks,
    rowSdDiffs, rowSds, rowSums2, rowTabulates, rowVarDiffs, rowVars,
    rowWeightedMads, rowWeightedMeans, rowWeightedMedians,
    rowWeightedSds, rowWeightedVars

Loading required package: GenomicRanges
Loading required package: stats4
Loading required package: BiocGenerics
Loading required package: generics

Attaching package: 'generics'

The following objects are masked from 'package:base':

    as.difftime, as.factor, as.ordered, intersect, is.element, setdiff,
    setequal, union


Attaching package: 'BiocGenerics'

The following objects are masked from 'package:stats':

    IQR, mad, sd, var, xtabs

The following objects are masked from 'package:base':

    Filter, Find, Map, Position, Reduce, anyDuplicated, aperm, append,
    as.data.frame, basename, cbind, colnames, dirname, do.call,
    duplicated, eval, evalq, get, grep, grepl, is.unsorted, lapply,
    mapply, match, mget, order, paste, pmax, pmax.int, pmin, pmin.int,
    rank, rbind, rownames, sapply, saveRDS, table, tapply, unique,
    unsplit, which.max, which.min

Loading required package: S4Vectors

Attaching package: 'S4Vectors'

The following object is masked from 'package:utils':

    findMatches

The following objects are masked from 'package:base':

    I, expand.grid, unname

Loading required package: IRanges
Loading required package: Seqinfo
Loading required package: Biobase
Welcome to Bioconductor

    Vignettes contain introductory material; view with
    'browseVignettes()'. To cite Bioconductor, see
    'citation("Biobase")', and for packages 'citation("pkgname")'.


Attaching package: 'Biobase'

The following object is masked from 'package:MatrixGenerics':

    rowMedians

The following objects are masked from 'package:matrixStats':

    anyMissing, rowMedians

> test_check("scRNAseq")
[ FAIL 0 | WARN 35 | SKIP 1 | PASS 186 ]

══ Skipped tests (1) ═══════════════════════════════════════════════════════════
• is.null(gh_token) is TRUE (1): 'test-uploadDirectory.R:59:5'

[ FAIL 0 | WARN 35 | SKIP 1 | PASS 186 ]
Warning message:
call dbDisconnect() when finished working with a connection 
> 
> proc.time()
   user  system elapsed 
298.705  45.838 365.625 

Example timings

scRNAseq.Rcheck/scRNAseq-Ex.timings

nameusersystemelapsed
AztekinTailData6.4230.7097.349
BachMammaryData6.7371.0098.699
BacherTCellData17.413 5.66524.117
BaronPancreasData1.0200.1741.236
BhaduriOrganoidData24.93610.78836.034
BuettnerESCData3.2490.7834.302
BunisHSPCData1.0430.6231.793
CampbellBrainData1.9771.3253.589
ChenBrainData1.0380.4701.650
DarmanisBrainData0.2920.0890.386
ERCCSpikeInConcentrations0.0230.0100.034
ErnstSpermatogenesisData10.816 4.93116.966
FletcherOlfactoryData0.8840.3911.287
GiladiHSCData5.1692.4278.150
GrunHSCData0.2810.0330.320
GrunPancreasData0.6530.3541.029
HeOrganAtlasData14.90611.36230.128
HermannSpermatogenesisData0.9990.3821.423
HuCortexData0.7080.2581.022
JessaBrainData10.586 5.22717.027
KolodziejczykESCData4.9281.4606.785
KotliarovPBMCData2.5070.6663.471
LaMannoBrainData1.6760.3882.112
LawlorPancreasData0.8390.1360.977
LedergorMyelomaData1.5170.2191.918
LengESCData0.5490.0680.621
LunSpikeInData 8.848 1.60911.312
MacoskoRetinaData1.8200.5322.612
MairPBMCData0.5370.0770.622
MarquesBrainData0.8210.1451.048
MessmerESCData4.2730.7555.373
MuraroPancreasData0.9420.1591.123
NestorowaHSCData4.3760.9955.779
NowakowskiCortexData1.5810.1421.745
PaulHSCData2.9870.5633.623
PollenGliaData0.2310.0340.267
ReprocessedData2.0490.4352.493
RichardTCellData3.9540.6554.856
RomanovBrainData0.5620.1660.747
SegerstolpePancreasData1.3840.5031.957
ShekharRetinaData2.2280.7583.205
StoeckiusHashingData10.003 2.17813.300
TasicBrainData2.1740.6672.846
UsoskinBrainData0.9520.1351.101
WuKidneyData0.4270.1990.644
XinPancreasData0.8670.3011.186
ZeiselBrainData1.1640.2531.444
ZeiselNervousData15.062 7.41624.183
ZhaoImmuneLiverData 6.710 3.43410.931
ZhongPrefrontalData0.6160.2110.900
ZilionisLungData4.1931.6136.200
countErccMolecules0.0380.0000.039
fetchDataset0.4550.0510.506
listDatasets0.1760.1380.315
listPaths0.5070.0181.384
listVersions0.0100.0010.449
polishDataset0.1160.0060.121
saveDataset0.8690.1460.931
searchDatasets1.6740.1051.917
surveyDatasets0.8970.0280.925