Back to Build/check report for BioC 3.23 experimental data
ABCDEF[G]HIJKLMNOPQRSTUVWXYZ

This page was generated on 2025-11-11 15:01 -0500 (Tue, 11 Nov 2025).

HostnameOSArch (*)R versionInstalled pkgs
nebbiolo1Linux (Ubuntu 24.04.3 LTS)x86_64R Under development (unstable) (2025-10-20 r88955) -- "Unsuffered Consequences" 4823
Click on any hostname to see more info about the system (e.g. compilers)      (*) as reported by 'uname -p', except on Windows and Mac OS X

Package 148/431HostnameOS / ArchINSTALLBUILDCHECK
geneLenDataBase 1.47.0  (landing page)
Federico Marini
Snapshot Date: 2025-11-11 07:00 -0500 (Tue, 11 Nov 2025)
git_url: https://git.bioconductor.org/packages/geneLenDataBase
git_branch: devel
git_last_commit: 8b3da6c
git_last_commit_date: 2025-10-29 09:31:54 -0500 (Wed, 29 Oct 2025)
nebbiolo1Linux (Ubuntu 24.04.3 LTS) / x86_64  OK    OK    OK  UNNEEDED, same version is already published


CHECK results for geneLenDataBase on nebbiolo1

To the developers/maintainers of the geneLenDataBase package:
- Use the following Renviron settings to reproduce errors and warnings.
- If 'R CMD check' started to fail recently on the Linux builder(s) over a missing dependency, add the missing dependency to 'Suggests:' in your DESCRIPTION file. See Renviron.bioc for more information.

raw results


Summary

Package: geneLenDataBase
Version: 1.47.0
Command: /home/biocbuild/bbs-3.23-bioc/R/bin/R CMD check --install=check:geneLenDataBase.install-out.txt --library=/home/biocbuild/bbs-3.23-bioc/R/site-library --timings geneLenDataBase_1.47.0.tar.gz
StartedAt: 2025-11-11 12:23:13 -0500 (Tue, 11 Nov 2025)
EndedAt: 2025-11-11 12:32:21 -0500 (Tue, 11 Nov 2025)
EllapsedTime: 548.4 seconds
RetCode: 0
Status:   OK  
CheckDir: geneLenDataBase.Rcheck
Warnings: 0

Command output

##############################################################################
##############################################################################
###
### Running command:
###
###   /home/biocbuild/bbs-3.23-bioc/R/bin/R CMD check --install=check:geneLenDataBase.install-out.txt --library=/home/biocbuild/bbs-3.23-bioc/R/site-library --timings geneLenDataBase_1.47.0.tar.gz
###
##############################################################################
##############################################################################


* using log directory ‘/home/biocbuild/bbs-3.23-data-experiment/meat/geneLenDataBase.Rcheck’
* using R Under development (unstable) (2025-10-20 r88955)
* using platform: x86_64-pc-linux-gnu
* R was compiled by
    gcc (Ubuntu 13.3.0-6ubuntu2~24.04) 13.3.0
    GNU Fortran (Ubuntu 13.3.0-6ubuntu2~24.04) 13.3.0
* running under: Ubuntu 24.04.3 LTS
* using session charset: UTF-8
* checking for file ‘geneLenDataBase/DESCRIPTION’ ... OK
* this is package ‘geneLenDataBase’ version ‘1.47.0’
* package encoding: UTF-8
* checking package namespace information ... OK
* checking package dependencies ... OK
* checking if this is a source package ... OK
* checking if there is a namespace ... OK
* checking for hidden files and directories ... OK
* checking for portable file names ... OK
* checking for sufficient/correct file permissions ... OK
* checking whether package ‘geneLenDataBase’ can be installed ... OK
* checking installed package size ... INFO
  installed size is 100.0Mb
  sub-directories of 1Mb or more:
    data  99.5Mb
* checking package directory ... OK
* checking DESCRIPTION meta-information ... OK
* checking top-level files ... OK
* checking for left-over files ... OK
* checking index information ... OK
* checking package subdirectories ... OK
* checking code files for non-ASCII characters ... OK
* checking R files for syntax errors ... OK
* checking whether the package can be loaded ... OK
* checking whether the package can be loaded with stated dependencies ... OK
* checking whether the package can be unloaded cleanly ... OK
* checking whether the namespace can be loaded with stated dependencies ... OK
* checking whether the namespace can be unloaded cleanly ... OK
* checking loading without being on the library search path ... OK
* checking dependencies in R code ... NOTE
Unexported object imported by a ':::' call: ‘txdbmaker:::.UCSC_TXNAME2GENEID_MAPDEFS’
  See the note in ?`:::` about the use of this operator.
* checking S3 generic/method consistency ... OK
* checking replacement functions ... OK
* checking foreign function calls ... OK
* checking R code for possible problems ... OK
* checking Rd files ... OK
* checking Rd metadata ... OK
* checking Rd cross-references ... OK
* checking for missing documentation entries ... OK
* checking for code/documentation mismatches ... OK
* checking Rd \usage sections ... OK
* checking Rd contents ... OK
* checking for unstated dependencies in examples ... OK
* checking contents of ‘data’ directory ... OK
* checking data for non-ASCII characters ... OK
* checking data for ASCII and uncompressed saves ... OK
* checking examples ... OK
Examples with CPU (user + system) or elapsed time > 5s
                 user system elapsed
supportedGeneIDs 2.49  0.107   5.905
* checking PDF version of manual ... OK
* DONE

Status: 1 NOTE
See
  ‘/home/biocbuild/bbs-3.23-data-experiment/meat/geneLenDataBase.Rcheck/00check.log’
for details.


Installation output

geneLenDataBase.Rcheck/00install.out

##############################################################################
##############################################################################
###
### Running command:
###
###   /home/biocbuild/bbs-3.23-bioc/R/bin/R CMD INSTALL geneLenDataBase
###
##############################################################################
##############################################################################


* installing to library ‘/home/biocbuild/bbs-3.23-bioc/R/site-library’
* installing *source* package ‘geneLenDataBase’ ...
** this is package ‘geneLenDataBase’ version ‘1.47.0’
** using staged installation
** R
** data
** byte-compile and prepare package for lazy loading
** help
*** installing help indices
** building package indices
** testing if installed package can be loaded from temporary location
** testing if installed package can be loaded from final location
** testing if installed package keeps a record of temporary installation path
* DONE (geneLenDataBase)

Tests output


Example timings

geneLenDataBase.Rcheck/geneLenDataBase-Ex.timings

nameusersystemelapsed
anoCar1.ensGene.LENGTH0.0680.0080.077
anoCar1.genscan.LENGTH0.0470.0020.048
anoCar1.xenoRefGene.LENGTH0.8040.0130.818
anoGam1.ensGene.LENGTH0.0580.0010.059
anoGam1.geneid.LENGTH0.0420.0020.045
anoGam1.genscan.LENGTH0.0590.0020.061
apiMel1.genscan.LENGTH0.0540.0010.054
apiMel2.ensGene.LENGTH0.0870.0020.089
apiMel2.geneid.LENGTH0.0450.0010.047
apiMel2.genscan.LENGTH0.1080.0030.111
aplCal1.xenoRefGene.LENGTH0.4140.0010.415
bosTau2.geneSymbol.LENGTH0.0370.0010.039
bosTau2.geneid.LENGTH0.2270.0110.238
bosTau2.genscan.LENGTH0.0830.0020.086
bosTau2.refGene.LENGTH0.0400.0010.041
bosTau2.sgpGene.LENGTH0.1020.0020.104
bosTau3.ensGene.LENGTH0.0980.0030.101
bosTau3.geneSymbol.LENGTH0.0350.0010.036
bosTau3.geneid.LENGTH0.1190.0070.126
bosTau3.genscan.LENGTH0.1180.0110.129
bosTau3.refGene.LENGTH0.0340.0000.034
bosTau3.sgpGene.LENGTH0.0960.0000.097
bosTau4.ensGene.LENGTH0.1040.0010.105
bosTau4.geneSymbol.LENGTH0.0350.0000.035
bosTau4.genscan.LENGTH0.0670.0000.067
bosTau4.nscanGene.LENGTH0.0290.0000.030
bosTau4.refGene.LENGTH0.0350.0000.034
braFlo1.xenoRefGene.LENGTH0.3910.0010.393
caeJap1.xenoRefGene.LENGTH0.3280.0100.338
caePb1.xenoRefGene.LENGTH0.4390.0010.439
caePb2.xenoRefGene.LENGTH0.4170.0020.419
caeRem2.xenoRefGene.LENGTH0.3870.0050.392
caeRem3.xenoRefGene.LENGTH0.3520.0000.353
calJac1.genscan.LENGTH0.2210.0050.227
calJac1.nscanGene.LENGTH0.0960.0010.096
calJac1.xenoRefGene.LENGTH0.6180.0040.622
canFam1.ensGene.LENGTH0.1040.0010.104
canFam1.geneSymbol.LENGTH0.0060.0000.005
canFam1.genscan.LENGTH0.0620.0000.061
canFam1.nscanGene.LENGTH0.0610.0010.063
canFam1.refGene.LENGTH0.0050.0000.006
canFam1.xenoRefGene.LENGTH0.5950.0030.600
canFam2.ensGene.LENGTH0.0950.0010.096
canFam2.geneSymbol.LENGTH0.0050.0000.006
canFam2.genscan.LENGTH0.0560.0000.056
canFam2.nscanGene.LENGTH0.0620.0000.062
canFam2.refGene.LENGTH0.0040.0000.006
canFam2.xenoRefGene.LENGTH0.6150.0000.617
cavPor3.ensGene.LENGTH0.0870.0000.087
cavPor3.genscan.LENGTH0.0930.0030.095
cavPor3.nscanGene.LENGTH0.0640.0000.063
cavPor3.xenoRefGene.LENGTH0.6470.0030.649
cb1.xenoRefGene.LENGTH0.3850.0020.387
cb3.xenoRefGene.LENGTH0.3100.0010.312
ce2.geneSymbol.LENGTH0.0660.0010.067
ce2.geneid.LENGTH0.0590.0010.059
ce2.refGene.LENGTH0.0630.0020.064
ce4.geneSymbol.LENGTH0.0650.0010.065
ce4.refGene.LENGTH0.0550.0030.058
ce4.xenoRefGene.LENGTH0.0790.0000.080
ce6.ensGene.LENGTH0.0880.0000.087
ce6.geneSymbol.LENGTH0.0660.0000.067
ce6.refGene.LENGTH0.0610.0020.063
ce6.xenoRefGene.LENGTH0.0810.0010.082
ci1.geneSymbol.LENGTH0.0050.0000.006
ci1.refGene.LENGTH0.0040.0000.005
ci1.xenoRefGene.LENGTH0.1600.0010.161
ci2.ensGene.LENGTH0.0640.0000.065
ci2.geneSymbol.LENGTH0.0040.0010.005
ci2.refGene.LENGTH0.0030.0010.004
ci2.xenoRefGene.LENGTH0.2610.0020.263
danRer3.ensGene.LENGTH0.3390.0040.342
danRer3.geneSymbol.LENGTH0.0530.0010.054
danRer3.refGene.LENGTH0.0480.0020.049
danRer4.ensGene.LENGTH0.1240.0000.123
danRer4.geneSymbol.LENGTH0.0530.0000.054
danRer4.genscan.LENGTH0.0640.0010.066
danRer4.nscanGene.LENGTH0.0890.0010.091
danRer4.refGene.LENGTH0.0510.0030.054
danRer5.ensGene.LENGTH0.1170.0020.120
danRer5.geneSymbol.LENGTH0.0480.0010.049
danRer5.refGene.LENGTH0.0430.0020.044
danRer5.vegaGene.LENGTH0.0480.0000.048
danRer5.vegaPseudoGene.LENGTH0.0020.0010.003
danRer6.ensGene.LENGTH0.1060.0010.107
danRer6.geneSymbol.LENGTH0.0480.0010.050
danRer6.refGene.LENGTH0.0450.0000.045
danRer6.xenoRefGene.LENGTH0.4760.0020.479
dm1.geneSymbol.LENGTH0.0640.0010.065
dm1.genscan.LENGTH0.0240.0000.025
dm1.refGene.LENGTH0.0570.0020.059
dm2.geneSymbol.LENGTH0.0620.0000.061
dm2.geneid.LENGTH0.0320.0020.034
dm2.genscan.LENGTH0.8150.0870.903
dm2.nscanGene.LENGTH0.0400.0020.042
dm2.refGene.LENGTH0.0560.0000.056
dm3.geneSymbol.LENGTH0.0630.0010.065
dm3.nscanPasaGene.LENGTH0.0450.0010.045
dm3.refGene.LENGTH0.0620.0000.062
downloadLengthFromUCSC000
dp2.genscan.LENGTH0.0270.0010.029
dp2.xenoRefGene.LENGTH0.1770.0000.176
dp3.geneid.LENGTH0.0330.0010.034
dp3.genscan.LENGTH0.0220.0010.023
dp3.xenoRefGene.LENGTH0.0980.0000.097
droAna1.geneid.LENGTH0.0590.0000.059
droAna1.genscan.LENGTH0.0190.0020.021
droAna1.xenoRefGene.LENGTH0.1680.0010.169
droAna2.genscan.LENGTH0.0430.0000.043
droAna2.xenoRefGene.LENGTH0.2330.0000.234
droEre1.genscan.LENGTH0.0260.0000.025
droEre1.xenoRefGene.LENGTH0.2240.0070.231
droGri1.genscan.LENGTH0.0330.0020.036
droGri1.xenoRefGene.LENGTH0.2380.0030.242
droMoj1.geneid.LENGTH0.1110.0020.113
droMoj1.genscan.LENGTH0.0490.0010.050
droMoj1.xenoRefGene.LENGTH0.1920.0020.194
droMoj2.genscan.LENGTH0.0330.0010.033
droMoj2.xenoRefGene.LENGTH0.2300.0010.231
droPer1.genscan.LENGTH0.0350.0000.036
droPer1.xenoRefGene.LENGTH0.2340.0010.235
droSec1.genscan.LENGTH0.0260.0010.026
droSec1.xenoRefGene.LENGTH0.2330.0020.236
droSim1.geneid.LENGTH0.0340.0000.034
droSim1.genscan.LENGTH0.0220.0000.022
droSim1.xenoRefGene.LENGTH0.2020.0020.204
droVir1.geneid.LENGTH0.0930.0010.094
droVir1.genscan.LENGTH0.0380.0010.039
droVir1.xenoRefGene.LENGTH0.2150.0000.215
droVir2.genscan.LENGTH0.0300.0020.033
droVir2.xenoRefGene.LENGTH0.2440.0020.246
droYak1.geneid.LENGTH0.0360.0010.037
droYak1.genscan.LENGTH0.0250.0020.027
droYak1.xenoRefGene.LENGTH0.1990.0000.199
droYak2.genscan.LENGTH0.0240.0010.025
droYak2.xenoRefGene.LENGTH0.2410.0010.242
equCab1.geneSymbol.LENGTH0.0040.0010.005
equCab1.geneid.LENGTH0.0770.0030.080
equCab1.nscanGene.LENGTH0.0380.0010.039
equCab1.refGene.LENGTH0.0040.0010.005
equCab1.sgpGene.LENGTH0.0640.0010.065
equCab2.ensGene.LENGTH0.0920.0000.092
equCab2.geneSymbol.LENGTH0.0070.0000.007
equCab2.nscanGene.LENGTH0.0470.0010.048
equCab2.refGene.LENGTH0.0060.0000.007
equCab2.xenoRefGene.LENGTH0.6120.0160.628
felCat3.ensGene.LENGTH0.0930.0020.095
felCat3.geneSymbol.LENGTH0.0020.0010.003
felCat3.geneid.LENGTH0.4800.0040.484
felCat3.genscan.LENGTH0.1130.0020.115
felCat3.nscanGene.LENGTH0.0890.0010.090
felCat3.refGene.LENGTH0.0040.0000.004
felCat3.sgpGene.LENGTH0.1290.0000.130
felCat3.xenoRefGene.LENGTH0.9970.0020.999
fr1.ensGene.LENGTH0.0710.0000.072
fr1.genscan.LENGTH0.0540.0020.056
fr2.ensGene.LENGTH0.1220.0030.125
galGal2.ensGene.LENGTH0.0560.0000.056
galGal2.geneSymbol.LENGTH0.0170.0000.017
galGal2.geneid.LENGTH0.0380.0000.038
galGal2.genscan.LENGTH0.0520.0010.053
galGal2.refGene.LENGTH0.0160.0000.016
galGal2.sgpGene.LENGTH0.0440.0000.045
galGal3.ensGene.LENGTH0.0720.0000.073
galGal3.geneSymbol.LENGTH0.0160.0000.016
galGal3.genscan.LENGTH0.0480.0000.048
galGal3.nscanGene.LENGTH0.070.000.07
galGal3.refGene.LENGTH0.0120.0020.014
galGal3.xenoRefGene.LENGTH0.4530.0050.458
gasAcu1.ensGene.LENGTH0.2780.0330.311
gasAcu1.nscanGene.LENGTH0.0930.0060.100
hg16.acembly.LENGTH0.5690.0120.581
hg16.ensGene.LENGTH0.0660.0000.067
hg16.exoniphy.LENGTH0.2290.0050.234
hg16.geneSymbol.LENGTH0.1000.0020.101
hg16.geneid.LENGTH0.0430.0010.044
hg16.genscan.LENGTH0.0550.0000.056
hg16.knownGene.LENGTH0.1030.0010.104
hg16.refGene.LENGTH0.0910.0010.091
hg16.sgpGene.LENGTH0.0520.0010.053
hg17.acembly.LENGTH0.3780.0040.382
hg17.acescan.LENGTH0.0090.0010.010
hg17.ccdsGene.LENGTH0.0210.0000.021
hg17.ensGene.LENGTH0.1000.0010.101
hg17.exoniphy.LENGTH0.3920.0050.398
hg17.geneSymbol.LENGTH0.0920.0010.093
hg17.geneid.LENGTH0.0660.0010.068
hg17.genscan.LENGTH0.0570.0010.059
hg17.knownGene.LENGTH0.1000.0020.102
hg17.refGene.LENGTH0.0940.0010.095
hg17.sgpGene.LENGTH0.0700.0000.071
hg17.vegaGene.LENGTH0.0390.0010.041
hg17.vegaPseudoGene.LENGTH0.0170.0000.017
hg17.xenoRefGene.LENGTH0.2140.0000.214
hg18.acembly.LENGTH0.4280.0050.433
hg18.acescan.LENGTH0.0090.0000.010
hg18.ccdsGene.LENGTH0.0330.0000.033
hg18.ensGene.LENGTH0.1750.0020.177
hg18.exoniphy.LENGTH0.4530.0030.457
hg18.geneSymbol.LENGTH0.1020.0010.104
hg18.geneid.LENGTH0.0730.0010.074
hg18.genscan.LENGTH0.0590.0020.062
hg18.knownGene.LENGTH0.1400.0010.141
hg18.knownGeneOld3.LENGTH0.0650.0000.065
hg18.refGene.LENGTH0.0980.0000.099
hg18.sgpGene.LENGTH0.0790.0010.081
hg18.sibGene.LENGTH0.5800.0020.583
hg18.xenoRefGene.LENGTH0.3290.0020.331
hg19.ccdsGene.LENGTH0.0380.0020.039
hg19.ensGene.LENGTH0.2740.0010.276
hg19.exoniphy.LENGTH0.4150.0000.415
hg19.geneSymbol.LENGTH0.0960.0020.097
hg19.knownGene.LENGTH0.1570.0010.158
hg19.nscanGene.LENGTH0.1370.0070.144
hg19.refGene.LENGTH0.0930.0010.093
hg19.xenoRefGene.LENGTH0.3200.0010.320
loxAfr3.xenoRefGene.LENGTH0.670.010.68
mm7.ensGene.LENGTH0.3050.0050.309
mm7.geneSymbol.LENGTH0.0840.0020.085
mm7.geneid.LENGTH0.0790.0010.081
mm7.genscan.LENGTH0.0620.0020.063
mm7.knownGene.LENGTH0.0910.0020.093
mm7.refGene.LENGTH0.0770.0010.079
mm7.sgpGene.LENGTH0.0740.0000.074
mm7.xenoRefGene.LENGTH0.2720.0010.272
mm8.ccdsGene.LENGTH0.0200.0010.022
mm8.ensGene.LENGTH0.0760.0000.077
mm8.geneSymbol.LENGTH0.0820.0000.084
mm8.geneid.LENGTH0.0750.0020.077
mm8.genscan.LENGTH0.060.000.06
mm8.knownGene.LENGTH0.0840.0020.087
mm8.nscanGene.LENGTH0.0590.0010.060
mm8.refGene.LENGTH0.0760.0020.077
mm8.sgpGene.LENGTH0.0760.0010.077
mm8.sibGene.LENGTH0.7020.0030.706
mm8.xenoRefGene.LENGTH0.3280.0020.330
mm9.acembly.LENGTH0.2870.0020.288
mm9.ccdsGene.LENGTH0.0260.0010.028
mm9.ensGene.LENGTH0.1450.0010.147
mm9.exoniphy.LENGTH0.4350.0010.436
mm9.geneSymbol.LENGTH0.0830.0000.084
mm9.geneid.LENGTH0.0770.0020.079
mm9.genscan.LENGTH0.0600.0020.061
mm9.knownGene.LENGTH0.1020.0020.104
mm9.nscanGene.LENGTH0.0570.0000.058
mm9.refGene.LENGTH0.0760.0010.077
mm9.sgpGene.LENGTH0.0700.0030.072
mm9.xenoRefGene.LENGTH0.3560.0020.357
monDom1.genscan.LENGTH0.0610.0010.062
monDom4.ensGene.LENGTH0.0690.0020.071
monDom4.geneSymbol.LENGTH0.0040.0000.003
monDom4.genscan.LENGTH0.0480.0010.050
monDom4.nscanGene.LENGTH0.0480.0010.048
monDom4.refGene.LENGTH0.0030.0000.004
monDom4.xenoRefGene.LENGTH0.3240.0010.325
monDom5.ensGene.LENGTH0.1110.0010.111
monDom5.geneSymbol.LENGTH0.0040.0000.004
monDom5.genscan.LENGTH0.0510.0010.052
monDom5.nscanGene.LENGTH0.1060.0010.107
monDom5.refGene.LENGTH0.0040.0000.003
monDom5.xenoRefGene.LENGTH0.5910.0050.595
ornAna1.ensGene.LENGTH0.3150.0020.317
ornAna1.geneSymbol.LENGTH0.0020.0000.003
ornAna1.refGene.LENGTH0.0010.0010.003
ornAna1.xenoRefGene.LENGTH0.5670.0010.568
oryLat2.ensGene.LENGTH0.0800.0010.081
oryLat2.geneSymbol.LENGTH0.0030.0010.004
oryLat2.refGene.LENGTH0.0030.0000.004
oryLat2.xenoRefGene.LENGTH0.5000.0040.504
panTro1.ensGene.LENGTH0.1000.0000.099
panTro1.geneid.LENGTH0.0500.0010.051
panTro1.genscan.LENGTH0.0610.0000.061
panTro1.xenoRefGene.LENGTH0.1160.0000.117
panTro2.ensGene.LENGTH0.1080.0000.109
panTro2.geneSymbol.LENGTH0.0960.0000.096
panTro2.genscan.LENGTH0.0590.0000.060
panTro2.nscanGene.LENGTH0.0610.0000.062
panTro2.refGene.LENGTH0.0960.0010.098
panTro2.xenoRefGene.LENGTH0.5210.0020.522
petMar1.xenoRefGene.LENGTH0.2930.0020.295
ponAbe2.ensGene.LENGTH0.0890.0000.089
ponAbe2.geneSymbol.LENGTH0.0120.0000.013
ponAbe2.genscan.LENGTH0.0610.0000.062
ponAbe2.nscanGene.LENGTH0.0600.0020.062
ponAbe2.refGene.LENGTH0.0110.0010.012
ponAbe2.xenoRefGene.LENGTH1.7710.0961.868
priPac1.xenoRefGene.LENGTH0.3480.0010.348
rheMac2.ensGene.LENGTH0.1120.0010.113
rheMac2.geneSymbol.LENGTH0.0040.0010.005
rheMac2.geneid.LENGTH0.0640.0020.065
rheMac2.nscanGene.LENGTH0.0560.0020.057
rheMac2.refGene.LENGTH0.0050.0000.005
rheMac2.sgpGene.LENGTH0.0650.0000.065
rheMac2.xenoRefGene.LENGTH0.4520.0010.454
rn3.ensGene.LENGTH0.0970.0000.098
rn3.geneSymbol.LENGTH0.0480.0010.050
rn3.geneid.LENGTH0.0450.0020.047
rn3.genscan.LENGTH0.0580.0010.058
rn3.knownGene.LENGTH0.0210.0010.022
rn3.nscanGene.LENGTH0.0550.0000.056
rn3.refGene.LENGTH0.0440.0010.045
rn3.sgpGene.LENGTH0.0500.0010.052
rn3.xenoRefGene.LENGTH0.4640.0030.466
rn4.ensGene.LENGTH0.1140.0000.113
rn4.geneSymbol.LENGTH0.0480.0000.048
rn4.geneid.LENGTH0.0740.0010.076
rn4.genscan.LENGTH0.0530.0010.055
rn4.knownGene.LENGTH0.0220.0000.023
rn4.nscanGene.LENGTH0.0460.0010.046
rn4.refGene.LENGTH0.0440.0000.044
rn4.sgpGene.LENGTH0.0720.0010.074
rn4.xenoRefGene.LENGTH0.2740.0020.277
sacCer1.ensGene.LENGTH0.0160.0010.016
sacCer2.ensGene.LENGTH0.0160.0000.015
strPur1.geneSymbol.LENGTH0.0050.0000.004
strPur1.genscan.LENGTH0.0570.0040.061
strPur1.refGene.LENGTH0.0040.0000.004
strPur1.xenoRefGene.LENGTH0.4720.0100.483
strPur2.geneSymbol.LENGTH0.0040.0000.004
strPur2.genscan.LENGTH0.0940.0030.098
strPur2.refGene.LENGTH0.0040.0000.004
strPur2.xenoRefGene.LENGTH0.5560.0020.559
supportedGeneIDs2.4900.1075.905
supportedGenomes0.2510.0050.880
taeGut1.ensGene.LENGTH0.0590.0010.060
taeGut1.geneSymbol.LENGTH0.0020.0000.003
taeGut1.genscan.LENGTH0.0310.0000.031
taeGut1.nscanGene.LENGTH0.0240.0000.024
taeGut1.refGene.LENGTH0.0010.0010.003
taeGut1.xenoRefGene.LENGTH0.4400.0010.441
tetNig1.ensGene.LENGTH0.0860.0010.087
tetNig1.geneid.LENGTH0.0630.0000.064
tetNig1.genscan.LENGTH0.0490.0010.049
tetNig1.nscanGene.LENGTH0.0670.0000.066
tetNig2.ensGene.LENGTH0.0680.0020.070
unfactor0.0040.0020.006
xenTro1.genscan.LENGTH0.0840.0000.084
xenTro2.ensGene.LENGTH0.0860.0010.087
xenTro2.geneSymbol.LENGTH0.0290.0000.029
xenTro2.genscan.LENGTH0.0660.0020.068
xenTro2.refGene.LENGTH0.0270.0010.028