| Back to Rapid builds (Linux only) of a subset of BioC 3.23 Report updated every 6 hours |
This page was generated on 2025-11-14 10:17 -0500 (Fri, 14 Nov 2025).
| Hostname | OS | Arch (*) | R version | Installed pkgs |
|---|---|---|---|---|
| teran2 | Linux (Ubuntu 24.04.3 LTS) | x86_64 | R Under development (unstable) (2025-10-28 r88973) -- "Unsuffered Consequences" | 917 |
| Click on any hostname to see more info about the system (e.g. compilers) (*) as reported by 'uname -p', except on Windows and Mac OS X | ||||
| Package 141/230 | Hostname | OS / Arch | INSTALL | BUILD | CHECK | |||||||
| metagenomeSeq 1.53.0 (landing page) Joseph N. Paulson
| teran2 | Linux (Ubuntu 24.04.3 LTS) / x86_64 | OK | OK | OK | |||||||
|
To the developers/maintainers of the metagenomeSeq package: - Use the following Renviron settings to reproduce errors and warnings. - If 'R CMD check' started to fail recently on the Linux builder(s) over a missing dependency, add the missing dependency to 'Suggests:' in your DESCRIPTION file. See Renviron.bioc for more information. |
| Package: metagenomeSeq |
| Version: 1.53.0 |
| Command: /home/rapidbuild/bbs-3.23-bioc-rapid/R/bin/R CMD check --install=check:metagenomeSeq.install-out.txt --library=/home/rapidbuild/bbs-3.23-bioc-rapid/R/site-library --timings metagenomeSeq_1.53.0.tar.gz |
| StartedAt: 2025-11-14 09:03:24 -0500 (Fri, 14 Nov 2025) |
| EndedAt: 2025-11-14 09:06:34 -0500 (Fri, 14 Nov 2025) |
| EllapsedTime: 189.6 seconds |
| RetCode: 0 |
| Status: OK |
| CheckDir: metagenomeSeq.Rcheck |
| Warnings: 0 |
##############################################################################
##############################################################################
###
### Running command:
###
### /home/rapidbuild/bbs-3.23-bioc-rapid/R/bin/R CMD check --install=check:metagenomeSeq.install-out.txt --library=/home/rapidbuild/bbs-3.23-bioc-rapid/R/site-library --timings metagenomeSeq_1.53.0.tar.gz
###
##############################################################################
##############################################################################
* using log directory ‘/media/volume/teran2_disk/rapidbuild/bbs-3.23-bioc-rapid/meat/metagenomeSeq.Rcheck’
* using R Under development (unstable) (2025-10-28 r88973)
* using platform: x86_64-pc-linux-gnu
* R was compiled by
gcc (Ubuntu 13.3.0-6ubuntu2~24.04) 13.3.0
GNU Fortran (Ubuntu 13.3.0-6ubuntu2~24.04) 13.3.0
* running under: Ubuntu 24.04.3 LTS
* using session charset: UTF-8
* checking for file ‘metagenomeSeq/DESCRIPTION’ ... OK
* this is package ‘metagenomeSeq’ version ‘1.53.0’
* checking CRAN incoming feasibility ... NOTE
Maintainer: ‘Joseph N. Paulson <josephpaulson@gmail.com>’
Unknown, possibly misspelled, fields in DESCRIPTION:
‘git_url’ ‘git_branch’ ‘git_last_commit’ ‘git_last_commit_date’
No Authors@R field in DESCRIPTION.
Please add one, modifying
Authors@R: c(person(given = c("Joseph", "Nathaniel"),
family = "Paulson",
role = "aut"),
person(given = c("Nathan", "D."),
family = "Olson",
role = "aut"),
person(given = c("Domenick", "J."),
family = "Braccia",
role = "aut"),
person(given = "Justin",
family = "Wagner",
role = "aut"),
person(given = "Hisham",
family = "Talukder",
role = "aut"),
person(given = "Mihai",
family = "Pop",
role = "aut"),
person(given = c("Hector", "Corrada"),
family = "Bravo",
role = "aut"),
person(given = c("Joseph", "N."),
family = "Paulson",
role = "cre",
email = "josephpaulson@gmail.com"))
as necessary.
Package CITATION file contains call(s) to old-style personList() or
as.personList(). Please use c() on person objects instead.
The Title field should be in title case. Current version is:
‘Statistical analysis for sparse high-throughput sequencing’
In title case that is:
‘Statistical Analysis for Sparse High-Throughput Sequencing’
The Description field should not start with the package name,
'This package' or similar.
The Date field is over a month old.
* checking package namespace information ... OK
* checking package dependencies ... OK
* checking if this is a source package ... OK
* checking if there is a namespace ... OK
* checking for hidden files and directories ... OK
* checking for portable file names ... OK
* checking for sufficient/correct file permissions ... OK
* checking whether package ‘metagenomeSeq’ can be installed ... OK
* checking installed package size ... OK
* checking package directory ... OK
* checking ‘build’ directory ... OK
* checking DESCRIPTION meta-information ... OK
* checking top-level files ... OK
* checking for left-over files ... OK
* checking index information ... OK
* checking package subdirectories ... OK
* checking code files for non-ASCII characters ... OK
* checking R files for syntax errors ... OK
* checking whether the package can be loaded ... OK
* checking whether the package can be loaded with stated dependencies ... OK
* checking whether the package can be unloaded cleanly ... OK
* checking whether the namespace can be loaded with stated dependencies ... OK
* checking whether the namespace can be unloaded cleanly ... OK
* checking loading without being on the library search path ... OK
* checking use of S3 registration ... OK
* checking dependencies in R code ... OK
* checking S3 generic/method consistency ... OK
* checking replacement functions ... OK
* checking foreign function calls ... OK
* checking R code for possible problems ... OK
* checking Rd files ... OK
* checking Rd metadata ... OK
* checking Rd cross-references ... OK
* checking for missing documentation entries ... OK
* checking for code/documentation mismatches ... OK
* checking Rd \usage sections ... OK
* checking Rd contents ... OK
* checking for unstated dependencies in examples ... OK
* checking contents of ‘data’ directory ... OK
* checking data for non-ASCII characters ... OK
* checking data for ASCII and uncompressed saves ... OK
* checking sizes of PDF files under ‘inst/doc’ ...* checking files in ‘vignettes’ ... OK
* checking examples ... NOTE
Examples with CPU (user + system) or elapsed time > 5s
user system elapsed
wrenchNorm 9.438 0.167 9.606
* checking for unstated dependencies in ‘tests’ ... OK
* checking tests ...
Running ‘testthat.R’
OK
* checking for unstated dependencies in vignettes ... OK
* checking package vignettes ... OK
* checking re-building of vignette outputs ... OK
* checking PDF version of manual ... OK
* DONE
Status: 2 NOTEs
See
‘/media/volume/teran2_disk/rapidbuild/bbs-3.23-bioc-rapid/meat/metagenomeSeq.Rcheck/00check.log’
for details.
metagenomeSeq.Rcheck/00install.out
############################################################################## ############################################################################## ### ### Running command: ### ### /home/rapidbuild/bbs-3.23-bioc-rapid/R/bin/R CMD INSTALL metagenomeSeq ### ############################################################################## ############################################################################## * installing to library ‘/media/volume/teran2_disk/rapidbuild/bbs-3.23-bioc-rapid/R/site-library’ * installing *source* package ‘metagenomeSeq’ ... ** this is package ‘metagenomeSeq’ version ‘1.53.0’ ** using staged installation ** R ** data ** inst ** byte-compile and prepare package for lazy loading in method for ‘MRihw’ with signature ‘"fitFeatureModelResults"’: no definition for class “fitFeatureModelResults” in method for ‘MRihw’ with signature ‘"fitZigResults"’: no definition for class “fitZigResults” ** help *** installing help indices ** building package indices ** installing vignettes ** testing if installed package can be loaded from temporary location ** testing if installed package can be loaded from final location ** testing if installed package keeps a record of temporary installation path * DONE (metagenomeSeq)
metagenomeSeq.Rcheck/tests/testthat.Rout
R Under development (unstable) (2025-10-28 r88973) -- "Unsuffered Consequences"
Copyright (C) 2025 The R Foundation for Statistical Computing
Platform: x86_64-pc-linux-gnu
R is free software and comes with ABSOLUTELY NO WARRANTY.
You are welcome to redistribute it under certain conditions.
Type 'license()' or 'licence()' for distribution details.
R is a collaborative project with many contributors.
Type 'contributors()' for more information and
'citation()' on how to cite R or R packages in publications.
Type 'demo()' for some demos, 'help()' for on-line help, or
'help.start()' for an HTML browser interface to help.
Type 'q()' to quit R.
> library("testthat")
> packageVersion("metagenomeSeq")
[1] '1.53.0'
> # As suggested for opt-out option on testing by users,
> # recommended by CRAN: http://adv-r.had.co.nz/Testing.html
> # Previously, best practice was to put all test files in inst/tests
> # and ensure that R CMD check ran them by putting the following code in tests/test-all.R:
> # >library(testthat)
> # >library(yourpackage)
> # >test_package("yourpackage")
> # Now, recommended practice is to put your tests in tests/testthat,
> # and ensure R CMD check runs them by putting the following code in tests/test-all.R:
> # >library(testthat)
> # >test_check("yourpackage")
> # The advantage of this new structure is that the user has control over whether or not tests are installed using the –install-tests parameter to
> # R CMD install, or INSTALL_opts = c(“–install-tests”) argument to install.packages(). I’m not sure why you wouldn’t want to install the tests,
> # but now you have the flexibility as requested by CRAN maintainers.
> test_check("metagenomeSeq")
Loading required package: metagenomeSeq
Loading required package: Biobase
Loading required package: BiocGenerics
Loading required package: generics
Attaching package: 'generics'
The following objects are masked from 'package:base':
as.difftime, as.factor, as.ordered, intersect, is.element, setdiff,
setequal, union
Attaching package: 'BiocGenerics'
The following objects are masked from 'package:stats':
IQR, mad, sd, var, xtabs
The following objects are masked from 'package:base':
Filter, Find, Map, Position, Reduce, anyDuplicated, aperm, append,
as.data.frame, basename, cbind, colnames, dirname, do.call,
duplicated, eval, evalq, get, grep, grepl, is.unsorted, lapply,
mapply, match, mget, order, paste, pmax, pmax.int, pmin, pmin.int,
rank, rbind, rownames, sapply, saveRDS, table, tapply, unique,
unsplit, which.max, which.min
Welcome to Bioconductor
Vignettes contain introductory material; view with
'browseVignettes()'. To cite Bioconductor, see
'citation("Biobase")', and for packages 'citation("pkgname")'.
Loading required package: limma
Attaching package: 'limma'
The following object is masked from 'package:BiocGenerics':
plotMA
Loading required package: glmnet
Loading required package: Matrix
Loaded glmnet 4.1-10
Loading required package: RColorBrewer
[ FAIL 0 | WARN 6 | SKIP 0 | PASS 15 ]
[ FAIL 0 | WARN 6 | SKIP 0 | PASS 15 ]
>
> proc.time()
user system elapsed
63.327 1.583 64.907
metagenomeSeq.Rcheck/metagenomeSeq-Ex.timings
| name | user | system | elapsed | |
| MRcoefs | 0.783 | 0.056 | 0.848 | |
| MRcounts | 0.340 | 0.033 | 0.373 | |
| MRexperiment-class | 0 | 0 | 0 | |
| MRfulltable | 0.723 | 0.055 | 3.822 | |
| MRtable | 0.713 | 0.006 | 0.719 | |
| aggregateBySample | 0.098 | 0.013 | 0.111 | |
| aggregateByTaxonomy | 0.124 | 0.005 | 0.130 | |
| biom2MRexperiment | 0.165 | 0.005 | 0.174 | |
| calcNormFactors | 0.469 | 0.015 | 0.484 | |
| correctIndices | 0.074 | 0.012 | 0.086 | |
| correlationTest | 0.148 | 0.020 | 0.168 | |
| cumNorm | 0.260 | 0.007 | 0.266 | |
| cumNormMat | 0.267 | 0.032 | 0.299 | |
| cumNormStat | 0.448 | 0.007 | 0.455 | |
| cumNormStatFast | 0.181 | 0.012 | 0.194 | |
| expSummary | 0.065 | 0.013 | 0.077 | |
| exportMat | 0.683 | 0.591 | 1.274 | |
| exportStats | 0.243 | 0.001 | 0.244 | |
| extractMR | 0.362 | 0.313 | 0.675 | |
| filterData | 0.106 | 0.014 | 0.120 | |
| fitDO | 0.245 | 0.020 | 1.892 | |
| fitFeatureModel | 0.721 | 0.105 | 0.826 | |
| fitLogNormal | 1.001 | 0.043 | 1.044 | |
| fitMultipleTimeSeries | 1.155 | 0.012 | 1.167 | |
| fitPA | 0.228 | 0.009 | 1.891 | |
| fitSSTimeSeries | 0.262 | 0.010 | 0.272 | |
| fitTimeSeries | 0.258 | 0.015 | 0.272 | |
| fitZig | 1.008 | 0.038 | 1.047 | |
| libSize-set | 0.200 | 0.001 | 0.202 | |
| libSize | 0.185 | 0.002 | 0.188 | |
| loadBiom | 0.025 | 0.000 | 0.025 | |
| loadMeta | 0.010 | 0.000 | 0.011 | |
| loadMetaQ | 0 | 0 | 0 | |
| loadPhenoData | 0.004 | 0.001 | 0.006 | |
| makeLabels | 0 | 0 | 0 | |
| mergeMRexperiments | 1.058 | 0.268 | 1.327 | |
| newMRexperiment | 0.017 | 0.000 | 0.018 | |
| normFactors-set | 0.195 | 0.016 | 0.212 | |
| normFactors | 0.177 | 0.001 | 0.178 | |
| plotBubble | 0.176 | 0.011 | 1.697 | |
| plotClassTimeSeries | 0.642 | 0.034 | 0.676 | |
| plotCorr | 0.266 | 0.016 | 0.283 | |
| plotFeature | 0.106 | 0.008 | 0.115 | |
| plotGenus | 0.084 | 0.019 | 0.103 | |
| plotMRheatmap | 1.155 | 0.026 | 1.180 | |
| plotOTU | 0.090 | 0.010 | 0.099 | |
| plotOrd | 0.132 | 0.011 | 0.143 | |
| plotRare | 0.087 | 0.008 | 0.096 | |
| plotTimeSeries | 0.635 | 0.013 | 0.649 | |
| posteriorProbs | 0.987 | 0.047 | 1.034 | |
| returnAppropriateObj | 0.185 | 0.003 | 0.188 | |
| ssFit | 0 | 0 | 0 | |
| ssIntervalCandidate | 0 | 0 | 0 | |
| ssPerm | 0 | 0 | 0 | |
| ssPermAnalysis | 0 | 0 | 0 | |
| trapz | 0.000 | 0.000 | 0.001 | |
| ts2MRexperiment | 0.945 | 0.011 | 0.956 | |
| uniqueFeatures | 0.077 | 0.008 | 0.085 | |
| wrenchNorm | 9.438 | 0.167 | 9.606 | |
| zigControl | 0 | 0 | 0 | |