Back to Rapid builds (Linux only) of a subset of BioC 3.23
Report updated every 6 hours

This page was generated on 2025-11-15 10:14 -0500 (Sat, 15 Nov 2025).

HostnameOSArch (*)R versionInstalled pkgs
teran2Linux (Ubuntu 24.04.3 LTS)x86_64R Under development (unstable) (2025-10-28 r88973) -- "Unsuffered Consequences" 917
Click on any hostname to see more info about the system (e.g. compilers)      (*) as reported by 'uname -p', except on Windows and Mac OS X

Package 139/230HostnameOS / ArchINSTALLBUILDCHECK
mbkmeans 1.27.0  (landing page)
Davide Risso
Snapshot Date: 2025-11-15 06:00 -0500 (Sat, 15 Nov 2025)
git_url: https://git.bioconductor.org/packages/mbkmeans
git_branch: devel
git_last_commit: 2aa9036
git_last_commit_date: 2025-10-29 10:51:15 -0500 (Wed, 29 Oct 2025)
teran2Linux (Ubuntu 24.04.3 LTS) / x86_64  OK    OK    OK  


CHECK results for mbkmeans on teran2

To the developers/maintainers of the mbkmeans package:
- Use the following Renviron settings to reproduce errors and warnings.
- If 'R CMD check' started to fail recently on the Linux builder(s) over a missing dependency, add the missing dependency to 'Suggests:' in your DESCRIPTION file. See Renviron.bioc for more information.

raw results


Summary

Package: mbkmeans
Version: 1.27.0
Command: /home/rapidbuild/bbs-3.23-bioc-rapid/R/bin/R CMD check --install=check:mbkmeans.install-out.txt --library=/home/rapidbuild/bbs-3.23-bioc-rapid/R/site-library --timings mbkmeans_1.27.0.tar.gz
StartedAt: 2025-11-15 09:00:45 -0500 (Sat, 15 Nov 2025)
EndedAt: 2025-11-15 09:05:19 -0500 (Sat, 15 Nov 2025)
EllapsedTime: 273.5 seconds
RetCode: 0
Status:   OK  
CheckDir: mbkmeans.Rcheck
Warnings: 0

Command output

##############################################################################
##############################################################################
###
### Running command:
###
###   /home/rapidbuild/bbs-3.23-bioc-rapid/R/bin/R CMD check --install=check:mbkmeans.install-out.txt --library=/home/rapidbuild/bbs-3.23-bioc-rapid/R/site-library --timings mbkmeans_1.27.0.tar.gz
###
##############################################################################
##############################################################################


* using log directory ‘/media/volume/teran2_disk/rapidbuild/bbs-3.23-bioc-rapid/meat/mbkmeans.Rcheck’
* using R Under development (unstable) (2025-10-28 r88973)
* using platform: x86_64-pc-linux-gnu
* R was compiled by
    gcc (Ubuntu 13.3.0-6ubuntu2~24.04) 13.3.0
    GNU Fortran (Ubuntu 13.3.0-6ubuntu2~24.04) 13.3.0
* running under: Ubuntu 24.04.3 LTS
* using session charset: UTF-8
* checking for file ‘mbkmeans/DESCRIPTION’ ... OK
* checking extension type ... Package
* this is package ‘mbkmeans’ version ‘1.27.0’
* package encoding: UTF-8
* checking CRAN incoming feasibility ... NOTE
Maintainer: ‘Davide Risso <risso.davide@gmail.com>’

License components with restrictions and base license permitting such:
  MIT + file LICENSE
File 'LICENSE':
  MIT License
  
  Copyright (c) 2018 Davide Risso
  
  Permission is hereby granted, free of charge, to any person obtaining a copy
  of this software and associated documentation files (the "Software"), to deal
  in the Software without restriction, including without limitation the rights
  to use, copy, modify, merge, publish, distribute, sublicense, and/or sell
  copies of the Software, and to permit persons to whom the Software is
  furnished to do so, subject to the following conditions:
  
  The above copyright notice and this permission notice shall be included in all
  copies or substantial portions of the Software.
  
  THE SOFTWARE IS PROVIDED "AS IS", WITHOUT WARRANTY OF ANY KIND, EXPRESS OR
  IMPLIED, INCLUDING BUT NOT LIMITED TO THE WARRANTIES OF MERCHANTABILITY,
  FITNESS FOR A PARTICULAR PURPOSE AND NONINFRINGEMENT. IN NO EVENT SHALL THE
  AUTHORS OR COPYRIGHT HOLDERS BE LIABLE FOR ANY CLAIM, DAMAGES OR OTHER
  LIABILITY, WHETHER IN AN ACTION OF CONTRACT, TORT OR OTHERWISE, ARISING FROM,
  OUT OF OR IN CONNECTION WITH THE SOFTWARE OR THE USE OR OTHER DEALINGS IN THE
  SOFTWARE.

Unknown, possibly misspelled, fields in DESCRIPTION:
  ‘git_url’ ‘git_branch’ ‘git_last_commit’ ‘git_last_commit_date’

The Title field should be in title case. Current version is:
  ‘Mini-batch K-means Clustering for Single-Cell RNA-seq’
In title case that is:
  ‘Mini-Batch K-Means Clustering for Single-Cell RNA-Seq’
* checking package namespace information ... OK
* checking package dependencies ... OK
* checking if this is a source package ... OK
* checking if there is a namespace ... OK
* checking for hidden files and directories ... OK
* checking for portable file names ... OK
* checking for sufficient/correct file permissions ... OK
* checking whether package ‘mbkmeans’ can be installed ... OK
* used C++ compiler: ‘g++ (Ubuntu 13.3.0-6ubuntu2~24.04) 13.3.0’
* checking C++ specification ... NOTE
  Specified C++11: please drop specification unless essential
* checking installed package size ... OK
* checking package directory ... OK
* checking ‘build’ directory ... OK
* checking DESCRIPTION meta-information ... NOTE
License stub is invalid DCF.
* checking top-level files ... OK
* checking for left-over files ... OK
* checking index information ... OK
* checking package subdirectories ... OK
* checking code files for non-ASCII characters ... OK
* checking R files for syntax errors ... OK
* checking whether the package can be loaded ... OK
* checking whether the package can be loaded with stated dependencies ... OK
* checking whether the package can be unloaded cleanly ... OK
* checking whether the namespace can be loaded with stated dependencies ... OK
* checking whether the namespace can be unloaded cleanly ... OK
* checking loading without being on the library search path ... OK
* checking use of S3 registration ... OK
* checking dependencies in R code ... NOTE
Namespace in Imports field not imported from: ‘S4Vectors’
  All declared Imports should be used.
* checking S3 generic/method consistency ... OK
* checking replacement functions ... OK
* checking foreign function calls ... OK
* checking R code for possible problems ... OK
* checking Rd files ... OK
* checking Rd metadata ... OK
* checking Rd cross-references ... OK
* checking for missing documentation entries ... OK
* checking for code/documentation mismatches ... OK
* checking Rd \usage sections ... OK
* checking Rd contents ... OK
* checking for unstated dependencies in examples ... OK
* checking line endings in C/C++/Fortran sources/headers ... OK
* checking compiled code ... INFO
Note: information on .o files is not available
* checking files in ‘vignettes’ ... OK
* checking examples ... OK
* checking for unstated dependencies in ‘tests’ ... OK
* checking tests ...
  Running ‘testthat.R’
 OK
* checking for unstated dependencies in vignettes ... OK
* checking package vignettes ... OK
* checking re-building of vignette outputs ... OK
* checking PDF version of manual ... OK
* DONE

Status: 4 NOTEs
See
  ‘/media/volume/teran2_disk/rapidbuild/bbs-3.23-bioc-rapid/meat/mbkmeans.Rcheck/00check.log’
for details.


Installation output

mbkmeans.Rcheck/00install.out

##############################################################################
##############################################################################
###
### Running command:
###
###   /home/rapidbuild/bbs-3.23-bioc-rapid/R/bin/R CMD INSTALL mbkmeans
###
##############################################################################
##############################################################################


* installing to library ‘/media/volume/teran2_disk/rapidbuild/bbs-3.23-bioc-rapid/R/site-library’
* installing *source* package ‘mbkmeans’ ...
** this is package ‘mbkmeans’ version ‘1.27.0’
** using staged installation
** libs
using C++ compiler: ‘g++ (Ubuntu 13.3.0-6ubuntu2~24.04) 13.3.0’
using C++11
g++ -std=gnu++11 -I"/home/rapidbuild/bbs-3.23-bioc-rapid/R/include" -DNDEBUG  -I'/media/volume/teran2_disk/rapidbuild/bbs-3.23-bioc-rapid/R/site-library/Rcpp/include' -I'/media/volume/teran2_disk/rapidbuild/bbs-3.23-bioc-rapid/R/site-library/RcppArmadillo/include' -I'/media/volume/teran2_disk/rapidbuild/bbs-3.23-bioc-rapid/R/site-library/Rhdf5lib/include' -I'/media/volume/teran2_disk/rapidbuild/bbs-3.23-bioc-rapid/R/site-library/beachmat/include' -I'/media/volume/teran2_disk/rapidbuild/bbs-3.23-bioc-rapid/R/site-library/ClusterR/include' -I/usr/local/include    -fpic  -g -O2  -Wall -Werror=format-security  -c RcppExports.cpp -o RcppExports.o
In file included from /media/volume/teran2_disk/rapidbuild/bbs-3.23-bioc-rapid/R/site-library/RcppArmadillo/include/RcppArmadillo.h:29,
                 from RcppExports.cpp:4:
/media/volume/teran2_disk/rapidbuild/bbs-3.23-bioc-rapid/R/site-library/RcppArmadillo/include/RcppArmadillo/version/arma.h:66:199: note: ‘#pragma message: Using fallback compilation with Armadillo 14.6.3. Please consider defining -DARMA_USE_CURRENT and also removing C++11 compilation directive. See GitHub issue #475 for more.’
   66 |         #pragma message("Using fallback compilation with Armadillo 14.6.3. Please consider defining -DARMA_USE_CURRENT and also removing C++11 compilation directive. See GitHub issue #475 for more.")
      |                                                                                                                                                                                                       ^
g++ -std=gnu++11 -I"/home/rapidbuild/bbs-3.23-bioc-rapid/R/include" -DNDEBUG  -I'/media/volume/teran2_disk/rapidbuild/bbs-3.23-bioc-rapid/R/site-library/Rcpp/include' -I'/media/volume/teran2_disk/rapidbuild/bbs-3.23-bioc-rapid/R/site-library/RcppArmadillo/include' -I'/media/volume/teran2_disk/rapidbuild/bbs-3.23-bioc-rapid/R/site-library/Rhdf5lib/include' -I'/media/volume/teran2_disk/rapidbuild/bbs-3.23-bioc-rapid/R/site-library/beachmat/include' -I'/media/volume/teran2_disk/rapidbuild/bbs-3.23-bioc-rapid/R/site-library/ClusterR/include' -I/usr/local/include    -fpic  -g -O2  -Wall -Werror=format-security  -c mini_batch.cpp -o mini_batch.o
In file included from /media/volume/teran2_disk/rapidbuild/bbs-3.23-bioc-rapid/R/site-library/RcppArmadillo/include/RcppArmadillo.h:29,
                 from mini_batch.cpp:2:
/media/volume/teran2_disk/rapidbuild/bbs-3.23-bioc-rapid/R/site-library/RcppArmadillo/include/RcppArmadillo/version/arma.h:66:199: note: ‘#pragma message: Using fallback compilation with Armadillo 14.6.3. Please consider defining -DARMA_USE_CURRENT and also removing C++11 compilation directive. See GitHub issue #475 for more.’
   66 |         #pragma message("Using fallback compilation with Armadillo 14.6.3. Please consider defining -DARMA_USE_CURRENT and also removing C++11 compilation directive. See GitHub issue #475 for more.")
      |                                                                                                                                                                                                       ^
In file included from mini_batch.cpp:3:
/media/volume/teran2_disk/rapidbuild/bbs-3.23-bioc-rapid/R/site-library/ClusterR/include/ClusterRHeader.h: In member function ‘arma::mat clustR::ClustHeader::KMEANS_arma(arma::mat&, int, int, bool, std::string, Rcpp::Nullable<Rcpp::Matrix<14> >, int)’:
/media/volume/teran2_disk/rapidbuild/bbs-3.23-bioc-rapid/R/site-library/ClusterR/include/ClusterRHeader.h:862:14: warning: variable ‘status’ set but not used [-Wunused-but-set-variable]
  862 |         bool status;
      |              ^~~~~~
/media/volume/teran2_disk/rapidbuild/bbs-3.23-bioc-rapid/R/site-library/ClusterR/include/ClusterRHeader.h: In instantiation of ‘T clustR::ClustHeader::GMM_arma_covariance_type(T, arma::mat&, int, std::string, std::string, int, int, bool, double, int) [with T = arma::gmm_priv::gmm_full<double>; arma::mat = arma::Mat<double>; std::string = std::__cxx11::basic_string<char>]’:
/media/volume/teran2_disk/rapidbuild/bbs-3.23-bioc-rapid/R/site-library/ClusterR/include/ClusterRHeader.h:1592:65:   required from here
/media/volume/teran2_disk/rapidbuild/bbs-3.23-bioc-rapid/R/site-library/ClusterR/include/ClusterRHeader.h:1530:14: warning: variable ‘status’ set but not used [-Wunused-but-set-variable]
 1530 |         bool status;
      |              ^~~~~~
/media/volume/teran2_disk/rapidbuild/bbs-3.23-bioc-rapid/R/site-library/ClusterR/include/ClusterRHeader.h: In instantiation of ‘T clustR::ClustHeader::GMM_arma_covariance_type(T, arma::mat&, int, std::string, std::string, int, int, bool, double, int) [with T = arma::gmm_priv::gmm_diag<double>; arma::mat = arma::Mat<double>; std::string = std::__cxx11::basic_string<char>]’:
/media/volume/teran2_disk/rapidbuild/bbs-3.23-bioc-rapid/R/site-library/ClusterR/include/ClusterRHeader.h:1626:65:   required from here
/media/volume/teran2_disk/rapidbuild/bbs-3.23-bioc-rapid/R/site-library/ClusterR/include/ClusterRHeader.h:1530:14: warning: variable ‘status’ set but not used [-Wunused-but-set-variable]
g++ -std=gnu++11 -shared -L/usr/local/lib -o mbkmeans.so RcppExports.o mini_batch.o
installing to /media/volume/teran2_disk/rapidbuild/bbs-3.23-bioc-rapid/R/site-library/00LOCK-mbkmeans/00new/mbkmeans/libs
** R
** inst
** byte-compile and prepare package for lazy loading
** help
*** installing help indices
** building package indices
** installing vignettes
** testing if installed package can be loaded from temporary location
** checking absolute paths in shared objects and dynamic libraries
** testing if installed package can be loaded from final location
** testing if installed package keeps a record of temporary installation path
* DONE (mbkmeans)

Tests output

mbkmeans.Rcheck/tests/testthat.Rout


R Under development (unstable) (2025-10-28 r88973) -- "Unsuffered Consequences"
Copyright (C) 2025 The R Foundation for Statistical Computing
Platform: x86_64-pc-linux-gnu

R is free software and comes with ABSOLUTELY NO WARRANTY.
You are welcome to redistribute it under certain conditions.
Type 'license()' or 'licence()' for distribution details.

R is a collaborative project with many contributors.
Type 'contributors()' for more information and
'citation()' on how to cite R or R packages in publications.

Type 'demo()' for some demos, 'help()' for on-line help, or
'help.start()' for an HTML browser interface to help.
Type 'q()' to quit R.

> library(testthat)
> library(mbkmeans)
> 
> test_check("mbkmeans")
[ FAIL 0 | WARN 2 | SKIP 0 | PASS 29 ]

[ FAIL 0 | WARN 2 | SKIP 0 | PASS 29 ]
> 
> proc.time()
   user  system elapsed 
 73.971  18.292  92.280 

Example timings

mbkmeans.Rcheck/mbkmeans-Ex.timings

nameusersystemelapsed
blocksize0.0010.0000.000
compute_wcss0.0000.0010.004
mbkmeans0.2450.0150.261
mini_batch000
predict_mini_batch0.0010.0020.003
predict_mini_batch_r0.0040.0000.004