Back to Rapid builds (Linux only) of a subset of BioC 3.23
Report updated every 6 hours

This page was generated on 2025-11-14 10:16 -0500 (Fri, 14 Nov 2025).

HostnameOSArch (*)R versionInstalled pkgs
teran2Linux (Ubuntu 24.04.3 LTS)x86_64R Under development (unstable) (2025-10-28 r88973) -- "Unsuffered Consequences" 917
Click on any hostname to see more info about the system (e.g. compilers)      (*) as reported by 'uname -p', except on Windows and Mac OS X

Package 11/230HostnameOS / ArchINSTALLBUILDCHECK
annotate 1.89.0  (landing page)
Bioconductor Package Maintainer
Snapshot Date: 2025-11-14 06:00 -0500 (Fri, 14 Nov 2025)
git_url: https://git.bioconductor.org/packages/annotate
git_branch: devel
git_last_commit: a7eff2c
git_last_commit_date: 2025-10-29 09:23:46 -0500 (Wed, 29 Oct 2025)
teran2Linux (Ubuntu 24.04.3 LTS) / x86_64  OK    OK    OK  


CHECK results for annotate on teran2

To the developers/maintainers of the annotate package:
- Use the following Renviron settings to reproduce errors and warnings.
- If 'R CMD check' started to fail recently on the Linux builder(s) over a missing dependency, add the missing dependency to 'Suggests:' in your DESCRIPTION file. See Renviron.bioc for more information.

raw results


Summary

Package: annotate
Version: 1.89.0
Command: /home/rapidbuild/bbs-3.23-bioc-rapid/R/bin/R CMD check --install=check:annotate.install-out.txt --library=/home/rapidbuild/bbs-3.23-bioc-rapid/R/site-library --timings annotate_1.89.0.tar.gz
StartedAt: 2025-11-14 07:47:36 -0500 (Fri, 14 Nov 2025)
EndedAt: 2025-11-14 07:50:59 -0500 (Fri, 14 Nov 2025)
EllapsedTime: 202.9 seconds
RetCode: 0
Status:   OK  
CheckDir: annotate.Rcheck
Warnings: 0

Command output

##############################################################################
##############################################################################
###
### Running command:
###
###   /home/rapidbuild/bbs-3.23-bioc-rapid/R/bin/R CMD check --install=check:annotate.install-out.txt --library=/home/rapidbuild/bbs-3.23-bioc-rapid/R/site-library --timings annotate_1.89.0.tar.gz
###
##############################################################################
##############################################################################


* using log directory ‘/media/volume/teran2_disk/rapidbuild/bbs-3.23-bioc-rapid/meat/annotate.Rcheck’
* using R Under development (unstable) (2025-10-28 r88973)
* using platform: x86_64-pc-linux-gnu
* R was compiled by
    gcc (Ubuntu 13.3.0-6ubuntu2~24.04) 13.3.0
    GNU Fortran (Ubuntu 13.3.0-6ubuntu2~24.04) 13.3.0
* running under: Ubuntu 24.04.3 LTS
* using session charset: UTF-8
* checking for file ‘annotate/DESCRIPTION’ ... OK
* this is package ‘annotate’ version ‘1.89.0’
* checking CRAN incoming feasibility ... NOTE
Maintainer: ‘Bioconductor Package Maintainer <maintainer@bioconductor.org>’

Unknown, possibly misspelled, fields in DESCRIPTION:
  ‘git_url’ ‘git_branch’ ‘git_last_commit’ ‘git_last_commit_date’

The Title field should be in title case. Current version is:
  ‘Annotation for microarrays’
In title case that is:
  ‘Annotation for Microarrays’
* checking package namespace information ... OK
* checking package dependencies ... OK
* checking if this is a source package ... OK
* checking if there is a namespace ... OK
* checking for hidden files and directories ... OK
* checking for portable file names ... OK
* checking for sufficient/correct file permissions ... OK
* checking whether package ‘annotate’ can be installed ... OK
* checking installed package size ... OK
* checking package directory ... OK
* checking ‘build’ directory ... OK
* checking DESCRIPTION meta-information ... NOTE
Author field differs from that derived from Authors@R
  Author:    ‘R. Gentleman’
  Authors@R: ‘Jeff Gentry [aut], Kritika Verma [ctb] (Converted chromLOC vignette from Sweave to RMarkdown / HTML.), Manvi Yaduvanshi [ctb] (Converted useDataPkgs vignette from Sweave to RMarkdown / HTML.), Bioconductor Package Maintainer [cre]’

* checking top-level files ... OK
* checking for left-over files ... OK
* checking index information ... OK
* checking package subdirectories ... OK
* checking code files for non-ASCII characters ... OK
* checking R files for syntax errors ... OK
* checking whether the package can be loaded ... OK
* checking whether the package can be loaded with stated dependencies ... OK
* checking whether the package can be unloaded cleanly ... OK
* checking whether the namespace can be loaded with stated dependencies ... OK
* checking whether the namespace can be unloaded cleanly ... OK
* checking loading without being on the library search path ... OK
* checking whether startup messages can be suppressed ... OK
* checking use of S3 registration ... OK
* checking dependencies in R code ... NOTE
Unexported object imported by a ':::' call: ‘BiocGenerics:::testPackage’
  See the note in ?`:::` about the use of this operator.
* checking S3 generic/method consistency ... OK
* checking replacement functions ... OK
* checking foreign function calls ... OK
* checking R code for possible problems ... OK
* checking Rd files ... OK
* checking Rd metadata ... OK
* checking Rd cross-references ... OK
* checking for missing documentation entries ... OK
* checking for code/documentation mismatches ... OK
* checking Rd \usage sections ... OK
* checking Rd contents ... OK
* checking for unstated dependencies in examples ... OK
* checking contents of ‘data’ directory ... OK
* checking data for non-ASCII characters ... OK
* checking data for ASCII and uncompressed saves ... OK
* checking sizes of PDF files under ‘inst/doc’ ...* checking files in ‘vignettes’ ... OK
* checking examples ... NOTE
Examples with CPU (user + system) or elapsed time > 5s
                user system elapsed
chrCats        6.738  0.049   6.794
blastSequences 0.151  0.004  32.378
* checking for unstated dependencies in ‘tests’ ... OK
* checking tests ...
  Running ‘annotate_unit_tests.R’
 OK
* checking for unstated dependencies in vignettes ... OK
* checking package vignettes ... OK
* checking re-building of vignette outputs ... OK
* checking PDF version of manual ... OK
* DONE

Status: 4 NOTEs
See
  ‘/media/volume/teran2_disk/rapidbuild/bbs-3.23-bioc-rapid/meat/annotate.Rcheck/00check.log’
for details.


Installation output

annotate.Rcheck/00install.out

##############################################################################
##############################################################################
###
### Running command:
###
###   /home/rapidbuild/bbs-3.23-bioc-rapid/R/bin/R CMD INSTALL annotate
###
##############################################################################
##############################################################################


* installing to library ‘/media/volume/teran2_disk/rapidbuild/bbs-3.23-bioc-rapid/R/site-library’
* installing *source* package ‘annotate’ ...
** this is package ‘annotate’ version ‘1.89.0’
** using staged installation
** R
** data
** inst
** byte-compile and prepare package for lazy loading
** help
*** installing help indices
** building package indices
** installing vignettes
** testing if installed package can be loaded from temporary location
** testing if installed package can be loaded from final location
** testing if installed package keeps a record of temporary installation path
* DONE (annotate)

Tests output

annotate.Rcheck/tests/annotate_unit_tests.Rout


R Under development (unstable) (2025-10-28 r88973) -- "Unsuffered Consequences"
Copyright (C) 2025 The R Foundation for Statistical Computing
Platform: x86_64-pc-linux-gnu

R is free software and comes with ABSOLUTELY NO WARRANTY.
You are welcome to redistribute it under certain conditions.
Type 'license()' or 'licence()' for distribution details.

R is a collaborative project with many contributors.
Type 'contributors()' for more information and
'citation()' on how to cite R or R packages in publications.

Type 'demo()' for some demos, 'help()' for on-line help, or
'help.start()' for an HTML browser interface to help.
Type 'q()' to quit R.

> BiocGenerics:::testPackage("annotate")

Attaching package: 'generics'

The following objects are masked from 'package:base':

    as.difftime, as.factor, as.ordered, intersect, is.element, setdiff,
    setequal, union


Attaching package: 'BiocGenerics'

The following objects are masked from 'package:stats':

    IQR, mad, sd, var, xtabs

The following objects are masked from 'package:base':

    Filter, Find, Map, Position, Reduce, anyDuplicated, aperm, append,
    as.data.frame, basename, cbind, colnames, dirname, do.call,
    duplicated, eval, evalq, get, grep, grepl, is.unsorted, lapply,
    mapply, match, mget, order, paste, pmax, pmax.int, pmin, pmin.int,
    rank, rbind, rownames, sapply, saveRDS, table, tapply, unique,
    unsplit, which.max, which.min

Welcome to Bioconductor

    Vignettes contain introductory material; view with
    'browseVignettes()'. To cite Bioconductor, see
    'citation("Biobase")', and for packages 'citation("pkgname")'.


Attaching package: 'S4Vectors'

The following object is masked from 'package:utils':

    findMatches

The following objects are masked from 'package:base':

    I, expand.grid, unname

Loading required package: org.Hs.eg.db

'select()' returned 1:many mapping between keys and columns


RUNIT TEST PROTOCOL -- Fri Nov 14 07:49:58 2025 
*********************************************** 
Number of test functions: 1 
Number of errors: 0 
Number of failures: 0 

 
1 Test Suite : 
annotate RUnit Tests - 1 test function, 0 errors, 0 failures
Number of test functions: 1 
Number of errors: 0 
Number of failures: 0 
> 
> proc.time()
   user  system elapsed 
  6.808   0.602   7.398 

Example timings

annotate.Rcheck/annotate-Ex.timings

nameusersystemelapsed
ACCNUMStats0.8860.0500.941
GO2heatmap0.0740.0040.080
GOmnplot0.0290.0020.031
HTMLPage-class000
LL2homology000
PMIDAmat0.0510.0030.090
PWAmat0.9060.0250.937
UniGeneQuery0.0010.0000.001
accessionToUID0.3020.0112.000
annPkgName000
aqListGOIDs0.0700.0090.084
blastSequences 0.151 0.00432.378
buildChromLocation0.4420.0160.462
buildPubMedAbst0.0470.0010.490
chrCats6.7380.0496.794
chromLocation-class0.4050.0290.433
compatibleVersions0.0190.0000.019
dropECode0.0210.0030.024
entrezGeneByID000
entrezGeneQuery0.0010.0000.000
filterGOByOntology0.0290.0020.032
findNeighbors0.0120.0010.024
genbank0.1400.0030.504
getAnnMap0.0150.0010.017
getEvidence0.0270.0010.028
getGOTerm0.1160.0050.150
getOntology0.0240.0000.023
getPMInfo0.2130.0010.684
getSYMBOL0.0630.0070.090
getSeq4Acc0.0280.0040.401
hasGOannote0.0140.0000.014
hgByChroms0.0120.0010.013
hgCLengths0.0000.0010.001
hgu95Achroloc0.0400.0000.041
hgu95Achrom0.0280.0020.031
hgu95All0.0320.0020.034
hgu95Asym0.0350.0020.037
homoData-class0.0010.0000.001
htmlpage0.0110.0000.011
isValidkey000
makeAnchor000
organism0.4120.0040.415
pm.abstGrep0.6260.0081.462
pm.getabst0.7010.0141.535
pm.titles0.7260.0411.366
pmAbst2HTML0.0540.0020.446
pmid2MIAME000
pmidQuery0.0000.0000.001
pubMedAbst-class0.0460.0000.341
pubmed0.0370.0011.242
readGEOAnn000
serializeEnv0.0000.0010.001
setRepository0.0000.0010.001
updateSymbolsToValidKeys000
usedChromGenes0.0550.0060.061