Long Tests report for BioC 3.23

See here for how to subscribe to these builds.

This page was generated on 2025-11-08 23:55 -0500 (Sat, 08 Nov 2025).

Approx. Package Snapshot Date/Time (git pull): 2025-11-08 09:55 -0500 (Sat, 08 Nov 2025)
See this page for all the Bioconductor builds and their schedule.

HostnameOSArch (*)R versionInstalled pkgs
nebbiolo1Linux (Ubuntu 24.04.3 LTS)x86_64R Under development (unstable) (2025-10-20 r88955) -- "Unsuffered Consequences" 4821
Click on any hostname to see more info about the system (e.g. compilers)      (*) as reported by 'uname -p', except on Windows and Mac OS X

Package status is indicated by one of the following glyphs
  TIMEOUT  
CHECK of package took more than 360 minutes
  ERROR  
Bad DESCRIPTION file, or CHECK of package produced errors
  WARNINGS  
CHECK of package produced warnings
  OK  
CHECK of package went OK
  NA  
CHECK result is not available because of an anomaly in the Build System
skipped
CHECK of package was skipped because the BUILD step failed
Click on any glyph in the report below to access the detailed report.

QUICK STATSOS / ArchCHECK
nebbiolo1Linux (Ubuntu 24.04.3 LTS) / x86_64
013410
PackageMaintainerCHECK
1/27APAlyzer 1.25.0  (landing page)Ruijia Wang  ERROR  
2/27autonomics 1.19.0  (landing page)Aditya Bhagwat  ERROR  
3/27beachmat 2.27.0  (landing page)Aaron Lun  WARNINGS  
4/27biodb 1.19.0  (landing page)Pierrick Roger  WARNINGS  
5/27biodbChebi 1.17.0  (landing page)Pierrick Roger  ERROR  
6/27cBioPortalData 2.23.2  (landing page)Marcel Ramos  ERROR  
7/27ChromSCape 1.21.0  (landing page)Pacome Prompsy  ERROR  
8/27clusterExperiment 2.31.0  (landing page)Elizabeth Purdom  ERROR  
9/27CRISPRball 1.7.0  (landing page)Jared Andrews  OK  
10/27crisprScore 1.15.0  (landing page)Jean-Philippe Fortin  ERROR  
11/27CTexploreR 1.7.0  (landing page)Axelle Loriot  OK  
12/27DelayedMatrixStats 1.33.0  (landing page)Peter Hickey  OK  
13/27DOtools 1.1.0  (landing page)Mariano Ruz Jurado  ERROR  
14/27DropletUtils 1.31.0  (landing page)Jonathan Griffiths  OK  
15/27EpiMix 1.13.0  (landing page)Yuanning Zheng  OK  
16/27extraChIPs 1.15.0  (landing page)Stevie Pederson  OK  
17/27GenomicFeatures 1.63.1  (landing page)H. Pagès  WARNINGS  
18/27ginmappeR 1.7.0  (landing page)Fernando Sola  ERROR  
19/27HDF5Array 1.39.0  (landing page)Hervé Pagès  OK  
20/27midasHLA 1.19.0  (landing page)Maciej Migdał  ERROR  
21/27mosdef 1.7.0  (landing page)Federico Marini  OK  
22/27MungeSumstats 1.19.1  (landing page)Alan Murphy  OK  
23/27rhdf5 2.55.6  (landing page)Hugo Gruson  WARNINGS  
24/27SimBu 1.13.0  (landing page)Alexander Dietrich  ERROR  
25/27TENxIO 1.13.0  (landing page)Marcel Ramos  OK  
26/27xcms 4.9.0  (landing page)Steffen Neumann  ERROR  
27/27zellkonverter 1.21.0  (landing page)Luke Zappia  ERROR