Back to Build/check report for BioC 3.23:   simplified   long
ABCDEFGHIJKLMNOPQRS[T]UVWXYZ

This page was generated on 2025-11-13 11:32 -0500 (Thu, 13 Nov 2025).

HostnameOSArch (*)R versionInstalled pkgs
kjohnson3macOS 13.7.7 Venturaarm64R Under development (unstable) (2025-11-04 r88984) -- "Unsuffered Consequences" 4013
Click on any hostname to see more info about the system (e.g. compilers)      (*) as reported by 'uname -p', except on Windows and Mac OS X

Package 2247/2325HostnameOS / ArchINSTALLBUILDCHECKBUILD BIN
twoddpcr 1.35.0  (landing page)
Anthony Chiu
Snapshot Date: 2025-11-12 13:40 -0500 (Wed, 12 Nov 2025)
git_url: https://git.bioconductor.org/packages/twoddpcr
git_branch: devel
git_last_commit: a5af729
git_last_commit_date: 2025-10-29 10:37:06 -0500 (Wed, 29 Oct 2025)
kjohnson3macOS 13.7.7 Ventura / arm64  OK    OK    OK    OK  YES


CHECK results for twoddpcr on kjohnson3

To the developers/maintainers of the twoddpcr package:
- Allow up to 24 hours (and sometimes 48 hours) for your latest push to git@git.bioconductor.org:packages/twoddpcr.git to reflect on this report. See Troubleshooting Build Report for more information.
- Use the following Renviron settings to reproduce errors and warnings.
- If 'R CMD check' started to fail recently on the Linux builder(s) over a missing dependency, add the missing dependency to 'Suggests:' in your DESCRIPTION file. See Renviron.bioc for more information.

raw results


Summary

Package: twoddpcr
Version: 1.35.0
Command: /Library/Frameworks/R.framework/Resources/bin/R CMD check --install=check:twoddpcr.install-out.txt --library=/Library/Frameworks/R.framework/Resources/library --no-vignettes --timings twoddpcr_1.35.0.tar.gz
StartedAt: 2025-11-12 20:42:20 -0500 (Wed, 12 Nov 2025)
EndedAt: 2025-11-12 20:43:18 -0500 (Wed, 12 Nov 2025)
EllapsedTime: 57.8 seconds
RetCode: 0
Status:   OK  
CheckDir: twoddpcr.Rcheck
Warnings: 0

Command output

##############################################################################
##############################################################################
###
### Running command:
###
###   /Library/Frameworks/R.framework/Resources/bin/R CMD check --install=check:twoddpcr.install-out.txt --library=/Library/Frameworks/R.framework/Resources/library --no-vignettes --timings twoddpcr_1.35.0.tar.gz
###
##############################################################################
##############################################################################


* using log directory ‘/Users/biocbuild/bbs-3.23-bioc/meat/twoddpcr.Rcheck’
* using R Under development (unstable) (2025-11-04 r88984)
* using platform: aarch64-apple-darwin20
* R was compiled by
    Apple clang version 16.0.0 (clang-1600.0.26.6)
    GNU Fortran (GCC) 14.2.0
* running under: macOS Ventura 13.7.8
* using session charset: UTF-8
* using option ‘--no-vignettes’
* checking for file ‘twoddpcr/DESCRIPTION’ ... OK
* this is package ‘twoddpcr’ version ‘1.35.0’
* checking package namespace information ... OK
* checking package dependencies ... OK
* checking if this is a source package ... OK
* checking if there is a namespace ... OK
* checking for hidden files and directories ... OK
* checking for portable file names ... OK
* checking for sufficient/correct file permissions ... OK
* checking whether package ‘twoddpcr’ can be installed ... OK
* checking installed package size ... OK
* checking package directory ... OK
* checking ‘build’ directory ... OK
* checking DESCRIPTION meta-information ... OK
* checking top-level files ... OK
* checking for left-over files ... OK
* checking index information ... OK
* checking package subdirectories ... OK
* checking code files for non-ASCII characters ... OK
* checking R files for syntax errors ... OK
* checking whether the package can be loaded ... OK
* checking whether the package can be loaded with stated dependencies ... OK
* checking whether the package can be unloaded cleanly ... OK
* checking whether the namespace can be loaded with stated dependencies ... OK
* checking whether the namespace can be unloaded cleanly ... OK
* checking dependencies in R code ... OK
* checking S3 generic/method consistency ... OK
* checking replacement functions ... OK
* checking foreign function calls ... OK
* checking R code for possible problems ... OK
* checking Rd files ... OK
* checking Rd metadata ... OK
* checking Rd cross-references ... OK
* checking for missing documentation entries ... OK
* checking for code/documentation mismatches ... OK
* checking Rd \usage sections ... NOTE
S3 methods shown with full name in Rd file 'ggplot.well.Rd':
  ‘ggplot.well’ ‘ggplot.plate’

The \usage entries for S3 methods should use the \method markup and not
their full name.
See chapter ‘Writing R documentation files’ in the ‘Writing R
Extensions’ manual.
* checking Rd contents ... OK
* checking for unstated dependencies in examples ... OK
* checking contents of ‘data’ directory ... OK
* checking data for non-ASCII characters ... OK
* checking LazyData ... OK
* checking data for ASCII and uncompressed saves ... OK
* checking files in ‘vignettes’ ... OK
* checking examples ... OK
* checking for unstated dependencies in ‘tests’ ... OK
* checking tests ...
  Running ‘testthat.R’
 OK
* checking for unstated dependencies in vignettes ... OK
* checking package vignettes ... OK
* checking running R code from vignettes ... SKIPPED
* checking re-building of vignette outputs ... SKIPPED
* checking PDF version of manual ... OK
* DONE

Status: 1 NOTE
See
  ‘/Users/biocbuild/bbs-3.23-bioc/meat/twoddpcr.Rcheck/00check.log’
for details.


Installation output

twoddpcr.Rcheck/00install.out

##############################################################################
##############################################################################
###
### Running command:
###
###   /Library/Frameworks/R.framework/Resources/bin/R CMD INSTALL twoddpcr
###
##############################################################################
##############################################################################


* installing to library ‘/Library/Frameworks/R.framework/Versions/4.6-arm64/Resources/library’
* installing *source* package ‘twoddpcr’ ...
** this is package ‘twoddpcr’ version ‘1.35.0’
** using staged installation
** R
** data
*** moving datasets to lazyload DB
** inst
** byte-compile and prepare package for lazy loading
** help
*** installing help indices
** building package indices
** installing vignettes
** testing if installed package can be loaded from temporary location
** testing if installed package can be loaded from final location
** testing if installed package keeps a record of temporary installation path
* DONE (twoddpcr)

Tests output

twoddpcr.Rcheck/tests/testthat.Rout


R Under development (unstable) (2025-11-04 r88984) -- "Unsuffered Consequences"
Copyright (C) 2025 The R Foundation for Statistical Computing
Platform: aarch64-apple-darwin20

R is free software and comes with ABSOLUTELY NO WARRANTY.
You are welcome to redistribute it under certain conditions.
Type 'license()' or 'licence()' for distribution details.

R is a collaborative project with many contributors.
Type 'contributors()' for more information and
'citation()' on how to cite R or R packages in publications.

Type 'demo()' for some demos, 'help()' for on-line help, or
'help.start()' for an HTML browser interface to help.
Type 'q()' to quit R.

> library(testthat)
> library(twoddpcr)
> 
> test_check("twoddpcr")
[ FAIL 0 | WARN 2 | SKIP 0 | PASS 155 ]

[ FAIL 0 | WARN 2 | SKIP 0 | PASS 155 ]
> 
> proc.time()
   user  system elapsed 
  2.554   0.164   2.787 

Example timings

twoddpcr.Rcheck/twoddpcr-Ex.timings

nameusersystemelapsed
amplitudes0.1010.0070.111
basicsSummary0.0020.0000.002
castSummary0.0050.0020.006
classCov0.0210.0020.022
classMeans0.0270.0030.030
classStats0.0230.0030.026
clusterCentres0.2660.0220.297
copiesSummary0.0010.0000.002
ddpcrPlate-class0.0860.0050.094
ddpcrWell-class0.0070.0000.007
ddpcrWell-methods0.0850.0090.103
dropletPlot1.9920.0752.101
exportTable0.0480.0090.060
extractPlateName0.0010.0000.001
extractWellNames0.0000.0010.001
facetPlot0.9400.0310.981
flatPlot1.6440.1181.783
fullCopiesSummary0.0020.0000.002
fullCountsSummary0.0070.0020.009
ggplot.well3.1010.1213.249
gridClassify2.5200.0512.600
heatPlot0.6360.0360.695
kmeansClassify0.4510.0320.504
knnClassify3.3000.0643.472
mahalanobisRain0.2380.0290.271
mutantCopiesSummary0.0010.0000.003
numDroplets0.0850.0050.092
parseClusterCounts0.0030.0010.005
plateClassification0.3030.0190.329
plateClassificationMethod0.1050.0050.114
plateSummary0.6080.0090.626
positiveCounts0.0090.0020.010
readCSVDataFrame0.0030.0010.004
relabelClasses0.0190.0030.021
removeDropletClasses0.2870.0260.321
renormalisePlate1.1860.0841.289
sdRain0.9460.0280.981
setChannelNames000
setDropletVolume000
sortDataFrame0.0010.0000.000
sortWells0.0920.0040.097
thresholdClassify0.5830.0340.651
wellClassification0.0060.0000.007
wellClassificationMethod0.0060.0010.006
whiteTheme0.7850.0200.813
wildTypeCopiesSummary0.0020.0000.002