Back to Multiple platform build/check report for BioC 3.23:   simplified   long
ABCDEFGHIJKLMNOPQRS[T]UVWXYZ

This page was generated on 2025-11-17 11:38 -0500 (Mon, 17 Nov 2025).

HostnameOSArch (*)R versionInstalled pkgs
nebbiolo1Linux (Ubuntu 24.04.3 LTS)x86_64R Under development (unstable) (2025-10-20 r88955) -- "Unsuffered Consequences" 4826
lconwaymacOS 12.7.6 Montereyx86_64R Under development (unstable) (2025-10-21 r88958) -- "Unsuffered Consequences" 4491
kjohnson3macOS 13.7.7 Venturaarm64R Under development (unstable) (2025-11-04 r88984) -- "Unsuffered Consequences" 4562
Click on any hostname to see more info about the system (e.g. compilers)      (*) as reported by 'uname -p', except on Windows and Mac OS X

All results for package topGO


To the developers/maintainers of the topGO package:
- Allow up to 24 hours (and sometimes 48 hours) for your latest push to git@git.bioconductor.org:packages/topGO.git to reflect on this report. See Troubleshooting Build Report for more information.
- Use the following Renviron settings to reproduce errors and warnings.
- If 'R CMD check' started to fail recently on the Linux builder(s) over a missing dependency, add the missing dependency to 'Suggests:' in your DESCRIPTION file. See Renviron.bioc for more information.

raw results

Package 2204/2325HostnameOS / ArchINSTALLBUILDCHECKBUILD BIN
topGO 2.63.0  (landing page)
Federico Marini
Snapshot Date: 2025-11-16 13:40 -0500 (Sun, 16 Nov 2025)
git_url: https://git.bioconductor.org/packages/topGO
git_branch: devel
git_last_commit: 35ec429
git_last_commit_date: 2025-10-29 09:59:04 -0500 (Wed, 29 Oct 2025)
nebbiolo1Linux (Ubuntu 24.04.3 LTS) / x86_64  OK    OK    WARNINGS  UNNEEDED, same version is already published
lconwaymacOS 12.7.6 Monterey / x86_64  OK    ERROR  skippedskipped
kjohnson3macOS 13.7.7 Ventura / arm64  OK    OK    WARNINGS    OK  UNNEEDED, same version is already published



Results for Bioconductor software packages that depend directly on package topGO

QUICK STATSOS / ArchINSTALLBUILDCHECKBUILD BIN
nebbiolo1Linux (Ubuntu 24.04.3 LTS) / x86_64
0015
0015
00114
lconwaymacOS 12.7.6 Monterey / x86_64
0114
0114
01112
0014
kjohnson3macOS 13.7.7 Ventura / arm64
0015
0015
01113
0015
Package 1/15HostnameOS / ArchINSTALLBUILDCHECKBUILD BIN
APL 1.15.0  (landing page)
Clemens Kohl
git_last_commit: daf6edd
git_last_commit_date: 2025-10-29 11:17:02 -0500
nebbiolo1Linux (Ubuntu 24.04.3 LTS) / x86_64  OK    OK    OK  UNNEEDED, same version is already published
lconwaymacOS 12.7.6 Monterey / x86_64  OK    OK    OK    OK  YES
kjohnson3macOS 13.7.7 Ventura / arm64  OK    OK    OK    OK  UNNEEDED, same version is already published
Package 2/15HostnameOS / ArchINSTALLBUILDCHECKBUILD BIN
BgeeDB 2.37.0  (landing page)
Julien Wollbrett , Julien Roux , Andrea Komljenovic , Frederic Bastian
git_last_commit: ac04c8e
git_last_commit_date: 2025-10-29 10:31:46 -0500
nebbiolo1Linux (Ubuntu 24.04.3 LTS) / x86_64  OK    OK    OK  UNNEEDED, same version is already published
lconwaymacOS 12.7.6 Monterey / x86_64  OK    OK    OK    OK  NO, package depends on 'Biobase' which is only available as a source package that needs compilation
kjohnson3macOS 13.7.7 Ventura / arm64  OK    OK    OK    OK  UNNEEDED, same version is already published
Package 3/15HostnameOS / ArchINSTALLBUILDCHECKBUILD BIN
cellity 1.39.0  (landing page)
Tomislav Ilicic
git_last_commit: 6d83db0
git_last_commit_date: 2025-10-29 10:30:11 -0500
nebbiolo1Linux (Ubuntu 24.04.3 LTS) / x86_64  OK    OK    OK  UNNEEDED, same version is already published
lconwaymacOS 12.7.6 Monterey / x86_64  OK    OK    OK    OK  YES
kjohnson3macOS 13.7.7 Ventura / arm64  OK    OK    OK    OK  UNNEEDED, same version is already published
Package 4/15HostnameOS / ArchINSTALLBUILDCHECKBUILD BIN
compEpiTools 1.45.0  (landing page)
Mattia Furlan
git_last_commit: 949eb04
git_last_commit_date: 2025-10-29 10:20:59 -0500
nebbiolo1Linux (Ubuntu 24.04.3 LTS) / x86_64  OK    OK    OK  UNNEEDED, same version is already published
lconwaymacOS 12.7.6 Monterey / x86_64  OK    OK    OK    OK  NO, package depends on 'GenomicRanges' which is only available as a source package that needs compilation
kjohnson3macOS 13.7.7 Ventura / arm64  OK    OK    OK    OK  NO, package depends on 'GenomicRanges' which is only available as a source package that needs compilation
Package 5/15HostnameOS / ArchINSTALLBUILDCHECKBUILD BIN
consICA 2.9.0  (landing page)
Petr V. Nazarov
git_last_commit: 093c307
git_last_commit_date: 2025-10-29 11:18:38 -0500
nebbiolo1Linux (Ubuntu 24.04.3 LTS) / x86_64  OK    OK    OK  UNNEEDED, same version is already published
lconwaymacOS 12.7.6 Monterey / x86_64  OK    OK    OK    OK  NO, package depends on 'BiocParallel' which is only available as a source package that needs compilation
kjohnson3macOS 13.7.7 Ventura / arm64  OK    OK    OK    OK  UNNEEDED, same version is already published
Package 6/15HostnameOS / ArchINSTALLBUILDCHECKBUILD BIN
EGSEA 1.39.0  (landing page)
Monther Alhamdoosh
git_last_commit: ea1d07d
git_last_commit_date: 2025-10-29 10:32:11 -0500
nebbiolo1Linux (Ubuntu 24.04.3 LTS) / x86_64  OK    OK    OK  UNNEEDED, same version is already published
lconwaymacOS 12.7.6 Monterey / x86_64  ERROR    ERROR  skippedskipped
kjohnson3macOS 13.7.7 Ventura / arm64  OK    OK    ERROR    OK  
Package 7/15HostnameOS / ArchINSTALLBUILDCHECKBUILD BIN
GRaNIE 1.15.0  (landing page)
Christian Arnold
git_last_commit: 43246b6
git_last_commit_date: 2025-10-29 11:16:56 -0500
nebbiolo1Linux (Ubuntu 24.04.3 LTS) / x86_64  OK    OK    OK  UNNEEDED, same version is already published
lconwaymacOS 12.7.6 Monterey / x86_64  OK    OK    ERROR    OK  
kjohnson3macOS 13.7.7 Ventura / arm64  OK    OK    OK    OK  NO, package depends on 'GenomicRanges' which is only available as a source package that needs compilation
Package 8/15HostnameOS / ArchINSTALLBUILDCHECKBUILD BIN
ideal 2.5.0  (landing page)
Federico Marini
git_last_commit: 2ff36ae
git_last_commit_date: 2025-10-29 10:38:28 -0500
nebbiolo1Linux (Ubuntu 24.04.3 LTS) / x86_64  OK    OK    OK  UNNEEDED, same version is already published
lconwaymacOS 12.7.6 Monterey / x86_64  OK    OK    OK    OK  NO, package depends on 'DESeq2' which is only available as a source package that needs compilation
kjohnson3macOS 13.7.7 Ventura / arm64  OK    OK    OK    OK  NO, package depends on 'DESeq2' which is only available as a source package that needs compilation
Package 9/15HostnameOS / ArchINSTALLBUILDCHECKBUILD BIN
moanin 1.19.0  (landing page)
Nelle Varoquaux
git_last_commit: 9becdba
git_last_commit_date: 2025-10-29 11:04:42 -0500
nebbiolo1Linux (Ubuntu 24.04.3 LTS) / x86_64  OK    OK    OK  UNNEEDED, same version is already published
lconwaymacOS 12.7.6 Monterey / x86_64  OK    OK    OK    OK  YES
kjohnson3macOS 13.7.7 Ventura / arm64  OK    OK    OK    OK  UNNEEDED, same version is already published
Package 10/15HostnameOS / ArchINSTALLBUILDCHECKBUILD BIN
mosdef 1.7.0  (landing page)
Federico Marini
git_last_commit: 9ba0438
git_last_commit_date: 2025-10-29 11:29:58 -0500
nebbiolo1Linux (Ubuntu 24.04.3 LTS) / x86_64  OK    OK    OK  UNNEEDED, same version is already published
lconwaymacOS 12.7.6 Monterey / x86_64  OK    OK    OK    OK  NO, package depends on 'DESeq2' which is only available as a source package that needs compilation
kjohnson3macOS 13.7.7 Ventura / arm64  OK    OK    OK    OK  NO, package depends on 'DESeq2' which is only available as a source package that needs compilation
Package 11/15HostnameOS / ArchINSTALLBUILDCHECKBUILD BIN
OmaDB 2.27.0  (landing page)
Klara Kaleb , Adrian Altenhoff
git_last_commit: 5040572
git_last_commit_date: 2025-10-29 10:42:20 -0500
nebbiolo1Linux (Ubuntu 24.04.3 LTS) / x86_64  OK    OK    OK  UNNEEDED, same version is already published
lconwaymacOS 12.7.6 Monterey / x86_64  OK    OK    OK    OK  NO, package depends on 'Biostrings' which is only available as a source package that needs compilation
kjohnson3macOS 13.7.7 Ventura / arm64  OK    OK    OK    OK  NO, package depends on 'GenomicRanges' which is only available as a source package that needs compilation
Package 12/15HostnameOS / ArchINSTALLBUILDCHECKBUILD BIN
pcaExplorer 3.5.0  (landing page)
Federico Marini
git_last_commit: 4e88ee9
git_last_commit_date: 2025-10-29 10:31:39 -0500
nebbiolo1Linux (Ubuntu 24.04.3 LTS) / x86_64  OK    OK    OK  UNNEEDED, same version is already published
lconwaymacOS 12.7.6 Monterey / x86_64  OK    OK    OK    OK  NO, package depends on 'DESeq2' which is only available as a source package that needs compilation
kjohnson3macOS 13.7.7 Ventura / arm64  OK    OK    OK    OK  NO, package depends on 'DESeq2' which is only available as a source package that needs compilation
Package 13/15HostnameOS / ArchINSTALLBUILDCHECKBUILD BIN
transcriptogramer 1.33.0  (landing page)
Diego Morais
git_last_commit: c57474a
git_last_commit_date: 2025-10-29 10:42:09 -0500
nebbiolo1Linux (Ubuntu 24.04.3 LTS) / x86_64  OK    OK    OK  UNNEEDED, same version is already published
lconwaymacOS 12.7.6 Monterey / x86_64  OK    OK    OK    OK  YES
kjohnson3macOS 13.7.7 Ventura / arm64  OK    OK    OK    OK  UNNEEDED, same version is already published
Package 14/15HostnameOS / ArchINSTALLBUILDCHECKBUILD BIN
tRanslatome 1.49.0  (landing page)
Toma Tebaldi , Erik Dassi
git_last_commit: 6b31799
git_last_commit_date: 2025-10-29 10:14:58 -0500
nebbiolo1Linux (Ubuntu 24.04.3 LTS) / x86_64  OK    OK    OK  UNNEEDED, same version is already published
lconwaymacOS 12.7.6 Monterey / x86_64  OK    OK    OK    OK  NO, package depends on 'DESeq2' which is only available as a source package that needs compilation
kjohnson3macOS 13.7.7 Ventura / arm64  OK    OK    OK    OK  NO, package depends on 'DESeq2' which is only available as a source package that needs compilation
Package 15/15HostnameOS / ArchINSTALLBUILDCHECKBUILD BIN
ViSEAGO 1.25.0  (landing page)
Aurelien Brionne
git_last_commit: 646645b
git_last_commit_date: 2025-10-29 10:53:03 -0500
nebbiolo1Linux (Ubuntu 24.04.3 LTS) / x86_64  OK    OK    WARNINGS  UNNEEDED, same version is already published
lconwaymacOS 12.7.6 Monterey / x86_64  OK    OK    WARNINGS    OK  NO, package depends on 'fgsea' which is only available as a source package that needs compilation
kjohnson3macOS 13.7.7 Ventura / arm64  OK    OK    WARNINGS    OK  UNNEEDED, same version is already published