| Back to Multiple platform build/check report for BioC 3.23: simplified long |
|
This page was generated on 2025-11-14 11:35 -0500 (Fri, 14 Nov 2025).
| Hostname | OS | Arch (*) | R version | Installed pkgs |
|---|---|---|---|---|
| nebbiolo1 | Linux (Ubuntu 24.04.3 LTS) | x86_64 | R Under development (unstable) (2025-10-20 r88955) -- "Unsuffered Consequences" | 4825 |
| kjohnson3 | macOS 13.7.7 Ventura | arm64 | R Under development (unstable) (2025-11-04 r88984) -- "Unsuffered Consequences" | 4547 |
| Click on any hostname to see more info about the system (e.g. compilers) (*) as reported by 'uname -p', except on Windows and Mac OS X | ||||
| Package 909/2325 | Hostname | OS / Arch | INSTALL | BUILD | CHECK | BUILD BIN | ||||||||
| GRaNIE 1.15.0 (landing page) Christian Arnold
| nebbiolo1 | Linux (Ubuntu 24.04.3 LTS) / x86_64 | OK | OK | OK | |||||||||
| kjohnson3 | macOS 13.7.7 Ventura / arm64 | OK | OK | OK | OK | |||||||||
|
To the developers/maintainers of the GRaNIE package: - Allow up to 24 hours (and sometimes 48 hours) for your latest push to git@git.bioconductor.org:packages/GRaNIE.git to reflect on this report. See Troubleshooting Build Report for more information. - Use the following Renviron settings to reproduce errors and warnings. - If 'R CMD check' started to fail recently on the Linux builder(s) over a missing dependency, add the missing dependency to 'Suggests:' in your DESCRIPTION file. See Renviron.bioc for more information. |
| Package: GRaNIE |
| Version: 1.15.0 |
| Command: /home/biocbuild/bbs-3.23-bioc/R/bin/R CMD check --install=check:GRaNIE.install-out.txt --library=/home/biocbuild/bbs-3.23-bioc/R/site-library --timings GRaNIE_1.15.0.tar.gz |
| StartedAt: 2025-11-14 00:10:38 -0500 (Fri, 14 Nov 2025) |
| EndedAt: 2025-11-14 00:21:06 -0500 (Fri, 14 Nov 2025) |
| EllapsedTime: 627.9 seconds |
| RetCode: 0 |
| Status: OK |
| CheckDir: GRaNIE.Rcheck |
| Warnings: 0 |
##############################################################################
##############################################################################
###
### Running command:
###
### /home/biocbuild/bbs-3.23-bioc/R/bin/R CMD check --install=check:GRaNIE.install-out.txt --library=/home/biocbuild/bbs-3.23-bioc/R/site-library --timings GRaNIE_1.15.0.tar.gz
###
##############################################################################
##############################################################################
* using log directory ‘/home/biocbuild/bbs-3.23-bioc/meat/GRaNIE.Rcheck’
* using R Under development (unstable) (2025-10-20 r88955)
* using platform: x86_64-pc-linux-gnu
* R was compiled by
gcc (Ubuntu 13.3.0-6ubuntu2~24.04) 13.3.0
GNU Fortran (Ubuntu 13.3.0-6ubuntu2~24.04) 13.3.0
* running under: Ubuntu 24.04.3 LTS
* using session charset: UTF-8
* checking for file ‘GRaNIE/DESCRIPTION’ ... OK
* this is package ‘GRaNIE’ version ‘1.15.0’
* package encoding: UTF-8
* checking package namespace information ... OK
* checking package dependencies ... INFO
Imports includes 37 non-default packages.
Importing from so many packages makes the package vulnerable to any of
them becoming unavailable. Move as many as possible to Suggests and
use conditionally.
* checking if this is a source package ... OK
* checking if there is a namespace ... OK
* checking for hidden files and directories ... OK
* checking for portable file names ... OK
* checking for sufficient/correct file permissions ... OK
* checking whether package ‘GRaNIE’ can be installed ... OK
* checking installed package size ... OK
* checking package directory ... OK
* checking ‘build’ directory ... OK
* checking DESCRIPTION meta-information ... OK
* checking top-level files ... OK
* checking for left-over files ... OK
* checking index information ... OK
* checking package subdirectories ... OK
* checking code files for non-ASCII characters ... OK
* checking R files for syntax errors ... OK
* checking whether the package can be loaded ... OK
* checking whether the package can be loaded with stated dependencies ... OK
* checking whether the package can be unloaded cleanly ... OK
* checking whether the namespace can be loaded with stated dependencies ... OK
* checking whether the namespace can be unloaded cleanly ... OK
* checking loading without being on the library search path ... OK
* checking whether startup messages can be suppressed ... OK
* checking dependencies in R code ... OK
* checking S3 generic/method consistency ... OK
* checking replacement functions ... OK
* checking foreign function calls ... OK
* checking R code for possible problems ... NOTE
.performIHW: no visible binding for global variable 'adj_pvalue'
Undefined global functions or variables:
adj_pvalue
* checking Rd files ... OK
* checking Rd metadata ... OK
* checking Rd cross-references ... OK
* checking for missing documentation entries ... OK
* checking for code/documentation mismatches ... OK
* checking Rd \usage sections ... OK
* checking Rd contents ... OK
* checking for unstated dependencies in examples ... OK
* checking files in ‘vignettes’ ... OK
* checking examples ... OK
Examples with CPU (user + system) or elapsed time > 5s
user system elapsed
plotDiagnosticPlots_peakGene 7.878 0.266 9.452
plotCommunitiesStats 6.427 0.103 7.947
plotPCA_all 5.873 0.108 6.515
generateStatsSummary 5.688 0.039 6.177
addSNPData 4.999 0.340 6.856
plotDiagnosticPlots_TFPeaks 5.124 0.061 6.757
plotCommunitiesEnrichment 4.380 0.060 5.654
getCounts 3.996 0.121 6.251
addConnections_TF_peak 3.694 0.209 6.323
* checking for unstated dependencies in vignettes ... OK
* checking package vignettes ... OK
* checking re-building of vignette outputs ... OK
* checking PDF version of manual ... OK
* DONE
Status: 1 NOTE
See
‘/home/biocbuild/bbs-3.23-bioc/meat/GRaNIE.Rcheck/00check.log’
for details.
GRaNIE.Rcheck/00install.out
############################################################################## ############################################################################## ### ### Running command: ### ### /home/biocbuild/bbs-3.23-bioc/R/bin/R CMD INSTALL GRaNIE ### ############################################################################## ############################################################################## * installing to library ‘/home/biocbuild/bbs-3.23-bioc/R/site-library’ * installing *source* package ‘GRaNIE’ ... ** this is package ‘GRaNIE’ version ‘1.15.0’ ** using staged installation ** R ** byte-compile and prepare package for lazy loading ** help *** installing help indices *** copying figures ** building package indices ** installing vignettes ** testing if installed package can be loaded from temporary location ** testing if installed package can be loaded from final location ** testing if installed package keeps a record of temporary installation path * DONE (GRaNIE)
GRaNIE.Rcheck/GRaNIE-Ex.timings
| name | user | system | elapsed | |
| AR_classification_wrapper | 0 | 0 | 0 | |
| addConnections_TF_peak | 3.694 | 0.209 | 6.323 | |
| addConnections_peak_gene | 2.647 | 0.090 | 3.153 | |
| addData | 0 | 0 | 0 | |
| addSNPData | 4.999 | 0.340 | 6.856 | |
| addTFBS | 0 | 0 | 0 | |
| add_TF_gene_correlation | 1.648 | 0.064 | 2.129 | |
| add_featureVariation | 0.000 | 0.000 | 0.001 | |
| build_eGRN_graph | 2.495 | 0.064 | 2.959 | |
| calculateCommunitiesEnrichment | 2.456 | 0.057 | 2.914 | |
| calculateCommunitiesStats | 1.811 | 0.018 | 2.240 | |
| calculateGeneralEnrichment | 1.896 | 0.019 | 2.313 | |
| calculateTFEnrichment | 2.010 | 0.011 | 2.556 | |
| changeOutputDirectory | 1.733 | 0.027 | 2.189 | |
| deleteIntermediateData | 1.669 | 0.026 | 2.096 | |
| filterConnectionsForPlotting | 1.718 | 0.027 | 2.152 | |
| filterData | 2.129 | 0.021 | 2.571 | |
| filterGRNAndConnectGenes | 1.794 | 0.022 | 2.223 | |
| generateStatsSummary | 5.688 | 0.039 | 6.177 | |
| getCounts | 3.996 | 0.121 | 6.251 | |
| getGRNConnections | 2.908 | 0.092 | 3.952 | |
| getGRNSummary | 2.957 | 0.135 | 3.695 | |
| getParameters | 3.008 | 0.099 | 3.545 | |
| getTopNodes | 1.959 | 0.054 | 2.415 | |
| initializeGRN | 0.015 | 0.004 | 0.018 | |
| loadExampleObject | 2.687 | 0.047 | 3.702 | |
| nGenes | 3.563 | 0.057 | 4.184 | |
| nPeaks | 3.024 | 0.050 | 3.617 | |
| nTFs | 2.009 | 0.021 | 2.435 | |
| overlapPeaksAndTFBS | 2.502 | 0.029 | 3.764 | |
| performAllNetworkAnalyses | 0 | 0 | 0 | |
| plotCommunitiesEnrichment | 4.380 | 0.060 | 5.654 | |
| plotCommunitiesStats | 6.427 | 0.103 | 7.947 | |
| plotCorrelations | 3.119 | 0.080 | 4.021 | |
| plotDiagnosticPlots_TFPeaks | 5.124 | 0.061 | 6.757 | |
| plotDiagnosticPlots_peakGene | 7.878 | 0.266 | 9.452 | |
| plotGeneralEnrichment | 3.629 | 0.107 | 4.246 | |
| plotGeneralGraphStats | 3.425 | 0.095 | 3.987 | |
| plotPCA_all | 5.873 | 0.108 | 6.515 | |
| plotTFEnrichment | 2.637 | 0.032 | 3.113 | |
| plot_stats_connectionSummary | 2.275 | 0.038 | 2.740 | |
| visualizeGRN | 2.974 | 0.035 | 3.480 | |