Back to Build/check report for BioC 3.23:   simplified   long
ABCDEFGHIJKLMNOPQR[S]TUVWXYZ

This page was generated on 2025-11-13 11:32 -0500 (Thu, 13 Nov 2025).

HostnameOSArch (*)R versionInstalled pkgs
kjohnson3macOS 13.7.7 Venturaarm64R Under development (unstable) (2025-11-04 r88984) -- "Unsuffered Consequences" 4013
Click on any hostname to see more info about the system (e.g. compilers)      (*) as reported by 'uname -p', except on Windows and Mac OS X

Package 2070/2325HostnameOS / ArchINSTALLBUILDCHECKBUILD BIN
spiky 1.17.0  (landing page)
Tim Triche
Snapshot Date: 2025-11-12 13:40 -0500 (Wed, 12 Nov 2025)
git_url: https://git.bioconductor.org/packages/spiky
git_branch: devel
git_last_commit: 5e5bb23
git_last_commit_date: 2025-10-29 11:10:11 -0500 (Wed, 29 Oct 2025)
kjohnson3macOS 13.7.7 Ventura / arm64  OK    OK    OK    OK  NO, package depends on 'Rsamtools' which is only available as a source package that needs compilation


CHECK results for spiky on kjohnson3

To the developers/maintainers of the spiky package:
- Allow up to 24 hours (and sometimes 48 hours) for your latest push to git@git.bioconductor.org:packages/spiky.git to reflect on this report. See Troubleshooting Build Report for more information.
- Use the following Renviron settings to reproduce errors and warnings.
- If 'R CMD check' started to fail recently on the Linux builder(s) over a missing dependency, add the missing dependency to 'Suggests:' in your DESCRIPTION file. See Renviron.bioc for more information.

raw results


Summary

Package: spiky
Version: 1.17.0
Command: /Library/Frameworks/R.framework/Resources/bin/R CMD check --install=check:spiky.install-out.txt --library=/Library/Frameworks/R.framework/Resources/library --no-vignettes --timings spiky_1.17.0.tar.gz
StartedAt: 2025-11-12 20:29:06 -0500 (Wed, 12 Nov 2025)
EndedAt: 2025-11-12 20:31:34 -0500 (Wed, 12 Nov 2025)
EllapsedTime: 147.8 seconds
RetCode: 0
Status:   OK  
CheckDir: spiky.Rcheck
Warnings: 0

Command output

##############################################################################
##############################################################################
###
### Running command:
###
###   /Library/Frameworks/R.framework/Resources/bin/R CMD check --install=check:spiky.install-out.txt --library=/Library/Frameworks/R.framework/Resources/library --no-vignettes --timings spiky_1.17.0.tar.gz
###
##############################################################################
##############################################################################


* using log directory ‘/Users/biocbuild/bbs-3.23-bioc/meat/spiky.Rcheck’
* using R Under development (unstable) (2025-11-04 r88984)
* using platform: aarch64-apple-darwin20
* R was compiled by
    Apple clang version 16.0.0 (clang-1600.0.26.6)
    GNU Fortran (GCC) 14.2.0
* running under: macOS Ventura 13.7.8
* using session charset: UTF-8
* using option ‘--no-vignettes’
* checking for file ‘spiky/DESCRIPTION’ ... OK
* checking extension type ... Package
* this is package ‘spiky’ version ‘1.17.0’
* package encoding: UTF-8
* checking package namespace information ... OK
* checking package dependencies ... OK
* checking if this is a source package ... OK
* checking if there is a namespace ... OK
* checking for hidden files and directories ... OK
* checking for portable file names ... OK
* checking for sufficient/correct file permissions ... OK
* checking whether package ‘spiky’ can be installed ... OK
* checking installed package size ... INFO
  installed size is 16.3Mb
  sub-directories of 1Mb or more:
    data      3.1Mb
    extdata  12.9Mb
* checking package directory ... OK
* checking ‘build’ directory ... OK
* checking DESCRIPTION meta-information ... OK
* checking top-level files ... OK
* checking for left-over files ... OK
* checking index information ... OK
* checking package subdirectories ... OK
* checking code files for non-ASCII characters ... OK
* checking R files for syntax errors ... OK
* checking whether the package can be loaded ... OK
* checking whether the package can be loaded with stated dependencies ... OK
* checking whether the package can be unloaded cleanly ... OK
* checking whether the namespace can be loaded with stated dependencies ... OK
* checking whether the namespace can be unloaded cleanly ... OK
* checking dependencies in R code ... OK
* checking S3 generic/method consistency ... OK
* checking replacement functions ... OK
* checking foreign function calls ... OK
* checking R code for possible problems ... NOTE
.toGRs: warning in grep("(chrom|seqnames|start|end)1", colnames(x), val
  = TRUE): partial argument match of 'val' to 'value'
.toGRs: warning in grep("(chrom|seqnames|start|end)2", colnames(x), val
  = TRUE): partial argument match of 'val' to 'value'
* checking Rd files ... OK
* checking Rd metadata ... OK
* checking Rd cross-references ... OK
* checking for missing documentation entries ... OK
* checking for code/documentation mismatches ... OK
* checking Rd \usage sections ... OK
* checking Rd contents ... OK
* checking for unstated dependencies in examples ... OK
* checking contents of ‘data’ directory ... OK
* checking data for non-ASCII characters ... OK
* checking LazyData ... OK
* checking data for ASCII and uncompressed saves ... OK
* checking files in ‘vignettes’ ... OK
* checking examples ... OK
Examples with CPU (user + system) or elapsed time > 5s
                      user system elapsed
scan_genomic_bedpe   7.859  0.139   8.310
scan_genomic_contigs 7.276  0.555   8.229
* checking for unstated dependencies in vignettes ... OK
* checking package vignettes ... OK
* checking running R code from vignettes ... SKIPPED
* checking re-building of vignette outputs ... SKIPPED
* checking PDF version of manual ... OK
* DONE

Status: 1 NOTE
See
  ‘/Users/biocbuild/bbs-3.23-bioc/meat/spiky.Rcheck/00check.log’
for details.


Installation output

spiky.Rcheck/00install.out

##############################################################################
##############################################################################
###
### Running command:
###
###   /Library/Frameworks/R.framework/Resources/bin/R CMD INSTALL spiky
###
##############################################################################
##############################################################################


* installing to library ‘/Library/Frameworks/R.framework/Versions/4.6-arm64/Resources/library’
* installing *source* package ‘spiky’ ...
** this is package ‘spiky’ version ‘1.17.0’
** using staged installation
** R
** data
*** moving datasets to lazyload DB
** inst
** byte-compile and prepare package for lazy loading
** help
*** installing help indices
** building package indices
** installing vignettes
** testing if installed package can be loaded from temporary location
** testing if installed package can be loaded from final location
** testing if installed package keeps a record of temporary installation path
* DONE (spiky)

Tests output


Example timings

spiky.Rcheck/spiky-Ex.timings

nameusersystemelapsed
add_frag_info0.0470.0110.057
bam_to_bins0.0430.0010.049
bin_pmol2.3570.7863.330
covg_to_df0.0630.0010.065
find_spike_contigs0.0090.0020.011
generate_spike_fasta0.0380.0020.041
get_base_name0.0070.0010.008
get_binned_coverage0.1180.0040.132
get_merged_gr0.0180.0010.020
get_spike_depth0.1000.0040.106
get_spiked_coverage0.0660.0030.077
kmax0.0200.0020.027
kmers0.0130.0010.015
methylation_specificity0.0320.0030.035
model_bam_standards1.9880.0752.250
model_glm_pmol0.0190.0020.021
predict_pmol1.3140.4931.863
process_spikes0.0780.0060.094
read_bedpe000
scan_genomic_bedpe7.8590.1398.310
scan_genomic_contigs7.2760.5558.229
scan_methylation_specificity0.0110.0020.013
scan_spike_bedpe1.9420.0422.012
scan_spike_contigs0.1250.0180.149
scan_spike_counts0.0180.0040.023
scan_spiked_bam0.1610.0230.189
seqinfo_from_header0.0330.0030.041
spike_bland_altman_plot0.0920.0020.096
spike_counts0.0180.0010.019
tile_bins0.0120.0010.012