| Back to Build/check report for BioC 3.23: simplified long |
|
This page was generated on 2025-11-13 11:32 -0500 (Thu, 13 Nov 2025).
| Hostname | OS | Arch (*) | R version | Installed pkgs |
|---|---|---|---|---|
| kjohnson3 | macOS 13.7.7 Ventura | arm64 | R Under development (unstable) (2025-11-04 r88984) -- "Unsuffered Consequences" | 4013 |
| Click on any hostname to see more info about the system (e.g. compilers) (*) as reported by 'uname -p', except on Windows and Mac OS X | ||||
| Package 1994/2325 | Hostname | OS / Arch | INSTALL | BUILD | CHECK | BUILD BIN | ||||||||
| simPIC 1.7.0 (landing page) Sagrika Chugh
| kjohnson3 | macOS 13.7.7 Ventura / arm64 | ERROR | ERROR | skipped | skipped | ||||||||
|
To the developers/maintainers of the simPIC package: - Allow up to 24 hours (and sometimes 48 hours) for your latest push to git@git.bioconductor.org:packages/simPIC.git to reflect on this report. See Troubleshooting Build Report for more information. - Use the following Renviron settings to reproduce errors and warnings. - If 'R CMD check' started to fail recently on the Linux builder(s) over a missing dependency, add the missing dependency to 'Suggests:' in your DESCRIPTION file. See Renviron.bioc for more information. |
| Package: simPIC |
| Version: 1.7.0 |
| Command: /Library/Frameworks/R.framework/Resources/bin/R CMD INSTALL simPIC |
| StartedAt: 2025-11-12 15:28:01 -0500 (Wed, 12 Nov 2025) |
| EndedAt: 2025-11-12 15:28:02 -0500 (Wed, 12 Nov 2025) |
| EllapsedTime: 0.7 seconds |
| RetCode: 1 |
| Status: ERROR |
##############################################################################
##############################################################################
###
### Running command:
###
### /Library/Frameworks/R.framework/Resources/bin/R CMD INSTALL simPIC
###
##############################################################################
##############################################################################
* installing to library ‘/Library/Frameworks/R.framework/Versions/4.6-arm64/Resources/library’
ERROR: dependency ‘edgeR’ is not available for package ‘simPIC’
Perhaps try a variation of:
install.packages('edgeR')
* removing ‘/Library/Frameworks/R.framework/Versions/4.6-arm64/Resources/library/simPIC’