Back to Build/check report for BioC 3.23:   simplified   long
ABCDEFGHIJKLMNOPQR[S]TUVWXYZ

This page was generated on 2025-11-13 11:32 -0500 (Thu, 13 Nov 2025).

HostnameOSArch (*)R versionInstalled pkgs
kjohnson3macOS 13.7.7 Venturaarm64R Under development (unstable) (2025-11-04 r88984) -- "Unsuffered Consequences" 4013
Click on any hostname to see more info about the system (e.g. compilers)      (*) as reported by 'uname -p', except on Windows and Mac OS X

Package 1883/2325HostnameOS / ArchINSTALLBUILDCHECKBUILD BIN
sccomp 2.3.0  (landing page)
Stefano Mangiola
Snapshot Date: 2025-11-12 13:40 -0500 (Wed, 12 Nov 2025)
git_url: https://git.bioconductor.org/packages/sccomp
git_branch: devel
git_last_commit: ea50568
git_last_commit_date: 2025-10-29 11:13:54 -0500 (Wed, 29 Oct 2025)
kjohnson3macOS 13.7.7 Ventura / arm64  OK    OK    OK    OK  YES


BUILD results for sccomp on kjohnson3

To the developers/maintainers of the sccomp package:
- Allow up to 24 hours (and sometimes 48 hours) for your latest push to git@git.bioconductor.org:packages/sccomp.git to reflect on this report. See Troubleshooting Build Report for more information.
- Use the following Renviron settings to reproduce errors and warnings.
- If 'R CMD check' started to fail recently on the Linux builder(s) over a missing dependency, add the missing dependency to 'Suggests:' in your DESCRIPTION file. See Renviron.bioc for more information.

raw results


Summary

Package: sccomp
Version: 2.3.0
Command: /Library/Frameworks/R.framework/Resources/bin/R CMD build --keep-empty-dirs --no-resave-data sccomp
StartedAt: 2025-11-12 17:08:55 -0500 (Wed, 12 Nov 2025)
EndedAt: 2025-11-12 17:09:20 -0500 (Wed, 12 Nov 2025)
EllapsedTime: 24.3 seconds
RetCode: 0
Status:   OK  
PackageFile: sccomp_2.3.0.tar.gz
PackageFileSize: 2.691 MiB

Command output

##############################################################################
##############################################################################
###
### Running command:
###
###   /Library/Frameworks/R.framework/Resources/bin/R CMD build --keep-empty-dirs --no-resave-data sccomp
###
##############################################################################
##############################################################################


* checking for file ‘sccomp/DESCRIPTION’ ... OK
* preparing ‘sccomp’:
* checking DESCRIPTION meta-information ... OK
* running ‘cleanup’
* installing the package (it is needed to build vignettes)
* creating vignettes ... OK
* running ‘cleanup’
* checking for LF line-endings in source and make files and shell scripts
* checking for empty or unneeded directories
* building ‘sccomp_2.3.0.tar.gz’