Back to Build/check report for BioC 3.23:   simplified   long
ABCDEFGHIJKLMNO[P]QRSTUVWXYZ

This page was generated on 2025-11-13 11:32 -0500 (Thu, 13 Nov 2025).

HostnameOSArch (*)R versionInstalled pkgs
kjohnson3macOS 13.7.7 Venturaarm64R Under development (unstable) (2025-11-04 r88984) -- "Unsuffered Consequences" 4013
Click on any hostname to see more info about the system (e.g. compilers)      (*) as reported by 'uname -p', except on Windows and Mac OS X

Package 1598/2325HostnameOS / ArchINSTALLBUILDCHECKBUILD BIN
pmp 1.23.1  (landing page)
Gavin Rhys Lloyd
Snapshot Date: 2025-11-12 13:40 -0500 (Wed, 12 Nov 2025)
git_url: https://git.bioconductor.org/packages/pmp
git_branch: devel
git_last_commit: 0f6f235
git_last_commit_date: 2025-11-06 05:39:10 -0500 (Thu, 06 Nov 2025)
kjohnson3macOS 13.7.7 Ventura / arm64  OK    OK    ERROR    OK  


CHECK results for pmp on kjohnson3

To the developers/maintainers of the pmp package:
- Allow up to 24 hours (and sometimes 48 hours) for your latest push to git@git.bioconductor.org:packages/pmp.git to reflect on this report. See Troubleshooting Build Report for more information.
- Use the following Renviron settings to reproduce errors and warnings.
- If 'R CMD check' started to fail recently on the Linux builder(s) over a missing dependency, add the missing dependency to 'Suggests:' in your DESCRIPTION file. See Renviron.bioc for more information.

raw results


Summary

Package: pmp
Version: 1.23.1
Command: /Library/Frameworks/R.framework/Resources/bin/R CMD check --install=check:pmp.install-out.txt --library=/Library/Frameworks/R.framework/Resources/library --no-vignettes --timings pmp_1.23.1.tar.gz
StartedAt: 2025-11-12 19:56:06 -0500 (Wed, 12 Nov 2025)
EndedAt: 2025-11-12 19:57:31 -0500 (Wed, 12 Nov 2025)
EllapsedTime: 85.0 seconds
RetCode: 1
Status:   ERROR  
CheckDir: pmp.Rcheck
Warnings: NA

Command output

##############################################################################
##############################################################################
###
### Running command:
###
###   /Library/Frameworks/R.framework/Resources/bin/R CMD check --install=check:pmp.install-out.txt --library=/Library/Frameworks/R.framework/Resources/library --no-vignettes --timings pmp_1.23.1.tar.gz
###
##############################################################################
##############################################################################


* using log directory ‘/Users/biocbuild/bbs-3.23-bioc/meat/pmp.Rcheck’
* using R Under development (unstable) (2025-11-04 r88984)
* using platform: aarch64-apple-darwin20
* R was compiled by
    Apple clang version 16.0.0 (clang-1600.0.26.6)
    GNU Fortran (GCC) 14.2.0
* running under: macOS Ventura 13.7.8
* using session charset: UTF-8
* using option ‘--no-vignettes’
* checking for file ‘pmp/DESCRIPTION’ ... OK
* checking extension type ... Package
* this is package ‘pmp’ version ‘1.23.1’
* package encoding: UTF-8
* checking package namespace information ... OK
* checking package dependencies ... OK
* checking if this is a source package ... OK
* checking if there is a namespace ... OK
* checking for hidden files and directories ... OK
* checking for portable file names ... OK
* checking for sufficient/correct file permissions ... OK
* checking whether package ‘pmp’ can be installed ... OK
* checking installed package size ... OK
* checking package directory ... OK
* checking ‘build’ directory ... OK
* checking DESCRIPTION meta-information ... OK
* checking top-level files ... OK
* checking for left-over files ... OK
* checking index information ... OK
* checking package subdirectories ... OK
* checking code files for non-ASCII characters ... OK
* checking R files for syntax errors ... OK
* checking whether the package can be loaded ... OK
* checking whether the package can be loaded with stated dependencies ... OK
* checking whether the package can be unloaded cleanly ... OK
* checking whether the namespace can be loaded with stated dependencies ... OK
* checking whether the namespace can be unloaded cleanly ... OK
* checking dependencies in R code ... OK
* checking S3 generic/method consistency ... OK
* checking replacement functions ... OK
* checking foreign function calls ... OK
* checking R code for possible problems ... OK
* checking Rd files ... OK
* checking Rd metadata ... OK
* checking Rd cross-references ... OK
* checking for missing documentation entries ... OK
* checking for code/documentation mismatches ... OK
* checking Rd \usage sections ... OK
* checking Rd contents ... OK
* checking for unstated dependencies in examples ... OK
* checking contents of ‘data’ directory ... OK
* checking data for non-ASCII characters ... OK
* checking LazyData ... OK
* checking data for ASCII and uncompressed saves ... OK
* checking R/sysdata.rda ... OK
* checking files in ‘vignettes’ ... OK
* checking examples ... OK
* checking for unstated dependencies in ‘tests’ ... OK
* checking tests ...
  Running ‘testthat.R’
 ERROR
Running the tests in ‘tests/testthat.R’ failed.
Last 13 lines of output:
  16/16 mismatches (average diff: 0.9)
  [1] 73277 - 73277 ==  0.00918
  [2] 75291 - 75291 ==  0.02634
  [3] 77564 - 77564 ==  0.03099
  [4] 82382 - 82382 == -0.08216
  [5] 84708 - 84708 == -0.18951
  [6] 86864 - 86864 == -0.28131
  [7] 88757 - 88758 == -0.31244
  [8] 90292 - 90292 == -0.23486
  [9] 91922 - 91922 ==  0.39742
  ...
  
  [ FAIL 3 | WARN 0 | SKIP 0 | PASS 86 ]
  Error: Test failures
  Execution halted
* checking for unstated dependencies in vignettes ... OK
* checking package vignettes ... OK
* checking running R code from vignettes ... SKIPPED
* checking re-building of vignette outputs ... SKIPPED
* checking PDF version of manual ... OK
* DONE

Status: 1 ERROR
See
  ‘/Users/biocbuild/bbs-3.23-bioc/meat/pmp.Rcheck/00check.log’
for details.


Installation output

pmp.Rcheck/00install.out

##############################################################################
##############################################################################
###
### Running command:
###
###   /Library/Frameworks/R.framework/Resources/bin/R CMD INSTALL pmp
###
##############################################################################
##############################################################################


* installing to library ‘/Library/Frameworks/R.framework/Versions/4.6-arm64/Resources/library’
* installing *source* package ‘pmp’ ...
** this is package ‘pmp’ version ‘1.23.1’
** using staged installation
** R
** data
*** moving datasets to lazyload DB
** byte-compile and prepare package for lazy loading
** help
*** installing help indices
** building package indices
** installing vignettes
** testing if installed package can be loaded from temporary location
** testing if installed package can be loaded from final location
** testing if installed package keeps a record of temporary installation path
* DONE (pmp)

Tests output

pmp.Rcheck/tests/testthat.Rout.fail


R Under development (unstable) (2025-11-04 r88984) -- "Unsuffered Consequences"
Copyright (C) 2025 The R Foundation for Statistical Computing
Platform: aarch64-apple-darwin20

R is free software and comes with ABSOLUTELY NO WARRANTY.
You are welcome to redistribute it under certain conditions.
Type 'license()' or 'licence()' for distribution details.

R is a collaborative project with many contributors.
Type 'contributors()' for more information and
'citation()' on how to cite R or R packages in publications.

Type 'demo()' for some demos, 'help()' for on-line help, or
'help.start()' for an HTML browser interface to help.
Type 'q()' to quit R.

> library(testthat)
> library(pmp)
> 
> test_check("pmp")
      NRMSE 
0.004229377 
<simpleError in qcData[id, ]: incorrect number of dimensions>
[ FAIL 3 | WARN 0 | SKIP 0 | PASS 86 ]

══ Failed tests ════════════════════════════════════════════════════════════════
── Failure ('test-glog_transformation.R:9:3'): Glog function returns expected output ──
lambda == as.integer(attributes(out)$processing_history$glog_transformation$lambda_opt) is not TRUE

`actual`:   FALSE
`expected`: TRUE 
── Failure ('test-sbcWrapper.R:17:3'): sbcWrapper returns expected output ──────
`out` not equal to testData$sbcWrapper.
149/172 mismatches (average diff: 0.00334)
[24] 12340 - 12340 == -0.003559
[25] 12430 - 12430 == -0.003102
[26] 12520 - 12520 == -0.002638
[27] 12611 - 12611 == -0.002167
[28] 12702 - 12702 == -0.001689
[29] 12794 - 12794 == -0.001204
[30] 12887 - 12887 == -0.000715
[31] 12981 - 12981 == -0.000235
[32] 13075 - 13075 ==  0.000217
...
── Failure ('test-splineSmoother.R:11:3'): splineSmoother returns expected output ──
`out` not equal to testData$splineSmoother.
16/16 mismatches (average diff: 0.9)
[1] 73277 - 73277 ==  0.00918
[2] 75291 - 75291 ==  0.02634
[3] 77564 - 77564 ==  0.03099
[4] 82382 - 82382 == -0.08216
[5] 84708 - 84708 == -0.18951
[6] 86864 - 86864 == -0.28131
[7] 88757 - 88758 == -0.31244
[8] 90292 - 90292 == -0.23486
[9] 91922 - 91922 ==  0.39742
...

[ FAIL 3 | WARN 0 | SKIP 0 | PASS 86 ]
Error: Test failures
Execution halted

Example timings

pmp.Rcheck/pmp-Ex.timings

nameusersystemelapsed
QCRSC0.0820.0020.085
filter_peaks_by_blank0.0350.0010.036
filter_peaks_by_fraction0.3870.0080.395
filter_peaks_by_rsd0.0450.0010.045
filter_samples_by_mv0.0070.0010.007
glog_plot_optimised_lambda0.2680.0210.288
glog_transformation0.1100.0050.116
mv_imputation0.3300.0020.333
normalise_to_sum0.0080.0000.010
pqn_normalisation0.0400.0020.041
processing_history0.0180.0010.018
remove_peaks0.0040.0000.004
sbc_plot0.1830.0050.190