| Back to Build/check report for BioC 3.23: simplified long |
|
This page was generated on 2025-11-13 11:32 -0500 (Thu, 13 Nov 2025).
| Hostname | OS | Arch (*) | R version | Installed pkgs |
|---|---|---|---|---|
| kjohnson3 | macOS 13.7.7 Ventura | arm64 | R Under development (unstable) (2025-11-04 r88984) -- "Unsuffered Consequences" | 4013 |
| Click on any hostname to see more info about the system (e.g. compilers) (*) as reported by 'uname -p', except on Windows and Mac OS X | ||||
| Package 1588/2325 | Hostname | OS / Arch | INSTALL | BUILD | CHECK | BUILD BIN | ||||||||
| plgem 1.83.0 (landing page) Norman Pavelka
| kjohnson3 | macOS 13.7.7 Ventura / arm64 | OK | OK | OK | OK | ||||||||
|
To the developers/maintainers of the plgem package: - Allow up to 24 hours (and sometimes 48 hours) for your latest push to git@git.bioconductor.org:packages/plgem.git to reflect on this report. See Troubleshooting Build Report for more information. - Use the following Renviron settings to reproduce errors and warnings. - If 'R CMD check' started to fail recently on the Linux builder(s) over a missing dependency, add the missing dependency to 'Suggests:' in your DESCRIPTION file. See Renviron.bioc for more information. |
| Package: plgem |
| Version: 1.83.0 |
| Command: rm -rf plgem.buildbin-libdir && mkdir plgem.buildbin-libdir && /Users/biocbuild/BBS/utils/build-universal.sh plgem_1.83.0.tar.gz /Library/Frameworks/R.framework/Resources/bin/R plgem.buildbin-libdir |
| StartedAt: 2025-11-12 21:06:23 -0500 (Wed, 12 Nov 2025) |
| EndedAt: 2025-11-12 21:06:25 -0500 (Wed, 12 Nov 2025) |
| EllapsedTime: 2.1 seconds |
| RetCode: 0 |
| Status: OK |
| PackageFile: plgem_1.83.0.tgz |
| PackageFileSize: 1.119 MiB |
############################################################################## ############################################################################## ### ### Running command: ### ### rm -rf plgem.buildbin-libdir && mkdir plgem.buildbin-libdir && /Users/biocbuild/BBS/utils/build-universal.sh plgem_1.83.0.tar.gz /Library/Frameworks/R.framework/Resources/bin/R plgem.buildbin-libdir ### ############################################################################## ############################################################################## >>>>>>> >>>>>>> INSTALLATION WITH 'R CMD INSTALL --preclean --no-multiarch --library=plgem.buildbin-libdir plgem_1.83.0.tar.gz' >>>>>>> * installing *source* package ‘plgem’ ... ** this is package ‘plgem’ version ‘1.83.0’ ** using staged installation ** R ** data ** inst ** byte-compile and prepare package for lazy loading ** help *** installing help indices ** building package indices ** installing vignettes ** testing if installed package can be loaded from temporary location ** testing if installed package can be loaded from final location ** testing if installed package keeps a record of temporary installation path * DONE (plgem)