| Back to Build/check report for BioC 3.23: simplified long |
|
This page was generated on 2025-11-13 11:32 -0500 (Thu, 13 Nov 2025).
| Hostname | OS | Arch (*) | R version | Installed pkgs |
|---|---|---|---|---|
| kjohnson3 | macOS 13.7.7 Ventura | arm64 | R Under development (unstable) (2025-11-04 r88984) -- "Unsuffered Consequences" | 4013 |
| Click on any hostname to see more info about the system (e.g. compilers) (*) as reported by 'uname -p', except on Windows and Mac OS X | ||||
| Package 1562/2325 | Hostname | OS / Arch | INSTALL | BUILD | CHECK | BUILD BIN | ||||||||
| pgxRpi 1.7.0 (landing page) Hangjia Zhao
| kjohnson3 | macOS 13.7.7 Ventura / arm64 | OK | OK | OK | OK | ||||||||
|
To the developers/maintainers of the pgxRpi package: - Allow up to 24 hours (and sometimes 48 hours) for your latest push to git@git.bioconductor.org:packages/pgxRpi.git to reflect on this report. See Troubleshooting Build Report for more information. - Use the following Renviron settings to reproduce errors and warnings. - If 'R CMD check' started to fail recently on the Linux builder(s) over a missing dependency, add the missing dependency to 'Suggests:' in your DESCRIPTION file. See Renviron.bioc for more information. |
| Package: pgxRpi |
| Version: 1.7.0 |
| Command: /Library/Frameworks/R.framework/Resources/bin/R CMD check --install=check:pgxRpi.install-out.txt --library=/Library/Frameworks/R.framework/Resources/library --no-vignettes --timings pgxRpi_1.7.0.tar.gz |
| StartedAt: 2025-11-12 19:52:21 -0500 (Wed, 12 Nov 2025) |
| EndedAt: 2025-11-12 19:59:54 -0500 (Wed, 12 Nov 2025) |
| EllapsedTime: 453.3 seconds |
| RetCode: 0 |
| Status: OK |
| CheckDir: pgxRpi.Rcheck |
| Warnings: 0 |
##############################################################################
##############################################################################
###
### Running command:
###
### /Library/Frameworks/R.framework/Resources/bin/R CMD check --install=check:pgxRpi.install-out.txt --library=/Library/Frameworks/R.framework/Resources/library --no-vignettes --timings pgxRpi_1.7.0.tar.gz
###
##############################################################################
##############################################################################
* using log directory ‘/Users/biocbuild/bbs-3.23-bioc/meat/pgxRpi.Rcheck’
* using R Under development (unstable) (2025-11-04 r88984)
* using platform: aarch64-apple-darwin20
* R was compiled by
Apple clang version 16.0.0 (clang-1600.0.26.6)
GNU Fortran (GCC) 14.2.0
* running under: macOS Ventura 13.7.8
* using session charset: UTF-8
* using option ‘--no-vignettes’
* checking for file ‘pgxRpi/DESCRIPTION’ ... OK
* this is package ‘pgxRpi’ version ‘1.7.0’
* package encoding: UTF-8
* checking package namespace information ... OK
* checking package dependencies ... OK
* checking if this is a source package ... OK
* checking if there is a namespace ... OK
* checking for hidden files and directories ... OK
* checking for portable file names ... OK
* checking for sufficient/correct file permissions ... OK
* checking whether package ‘pgxRpi’ can be installed ... OK
* checking installed package size ... OK
* checking package directory ... OK
* checking ‘build’ directory ... OK
* checking DESCRIPTION meta-information ... OK
* checking top-level files ... OK
* checking for left-over files ... OK
* checking index information ... OK
* checking package subdirectories ... OK
* checking code files for non-ASCII characters ... OK
* checking R files for syntax errors ... OK
* checking whether the package can be loaded ... OK
* checking whether the package can be loaded with stated dependencies ... OK
* checking whether the package can be unloaded cleanly ... OK
* checking whether the namespace can be loaded with stated dependencies ... OK
* checking whether the namespace can be unloaded cleanly ... OK
* checking dependencies in R code ... OK
* checking S3 generic/method consistency ... OK
* checking replacement functions ... OK
* checking foreign function calls ... OK
* checking R code for possible problems ... NOTE
pgxSegprocess: no visible binding for global variable
‘followup_state_id’
Undefined global functions or variables:
followup_state_id
* checking Rd files ... OK
* checking Rd metadata ... OK
* checking Rd cross-references ... OK
* checking for missing documentation entries ... OK
* checking for code/documentation mismatches ... OK
* checking Rd \usage sections ... OK
* checking Rd contents ... OK
* checking for unstated dependencies in examples ... OK
* checking contents of ‘data’ directory ... OK
* checking data for non-ASCII characters ... OK
* checking data for ASCII and uncompressed saves ... OK
* checking files in ‘vignettes’ ... OK
* checking examples ... OK
Examples with CPU (user + system) or elapsed time > 5s
user system elapsed
pgxLoader 21.650 0.187 37.255
pgxMetaplot 6.539 0.119 13.332
* checking for unstated dependencies in ‘tests’ ... OK
* checking tests ...
Running ‘testthat.R’
OK
* checking for unstated dependencies in vignettes ... OK
* checking package vignettes ... OK
* checking running R code from vignettes ... SKIPPED
* checking re-building of vignette outputs ... SKIPPED
* checking PDF version of manual ... OK
* DONE
Status: 1 NOTE
See
‘/Users/biocbuild/bbs-3.23-bioc/meat/pgxRpi.Rcheck/00check.log’
for details.
pgxRpi.Rcheck/00install.out
############################################################################## ############################################################################## ### ### Running command: ### ### /Library/Frameworks/R.framework/Resources/bin/R CMD INSTALL pgxRpi ### ############################################################################## ############################################################################## * installing to library ‘/Library/Frameworks/R.framework/Versions/4.6-arm64/Resources/library’ * installing *source* package ‘pgxRpi’ ... ** this is package ‘pgxRpi’ version ‘1.7.0’ ** using staged installation ** R ** data ** inst ** byte-compile and prepare package for lazy loading ** help *** installing help indices ** building package indices ** installing vignettes ** testing if installed package can be loaded from temporary location ** testing if installed package can be loaded from final location ** testing if installed package keeps a record of temporary installation path * DONE (pgxRpi)
pgxRpi.Rcheck/tests/testthat.Rout
R Under development (unstable) (2025-11-04 r88984) -- "Unsuffered Consequences"
Copyright (C) 2025 The R Foundation for Statistical Computing
Platform: aarch64-apple-darwin20
R is free software and comes with ABSOLUTELY NO WARRANTY.
You are welcome to redistribute it under certain conditions.
Type 'license()' or 'licence()' for distribution details.
R is a collaborative project with many contributors.
Type 'contributors()' for more information and
'citation()' on how to cite R or R packages in publications.
Type 'demo()' for some demos, 'help()' for on-line help, or
'help.start()' for an HTML browser interface to help.
Type 'q()' to quit R.
> library(testthat)
> library(pgxRpi)
>
> test_check("pgxRpi")
trying: http://www.progenetix.org/services/intervalFrequencies/?filters=NCIT:C4323,pgx:icdom-85003
trying: http://progenetix.org/beacon/biosamples?filters=NCIT:C3697
trying: http://progenetix.org/beacon/biosamples/pgxbs-kftvh94d,pgxbs-kftvh94g
trying: http://progenetix.org/beacon/biosamples/pgxbs-kftvh94d,pgxbs-kftvjji1/individuals
trying: http://progenetix.org/beacon/individuals/pgxind-kftx3565,pgxind-kftx5g4v
trying: http://progenetix.org/beacon/individuals?filters=NCIT:C3512&limit=5
trying: http://progenetix.org/beacon/biosamples/pgxbs-kftvh94d/g_variants
trying: https://progenetix.org/services/pgxsegvariants/?biosampleIds=pgxbs-kftvlaih,pgxbs-kftvjgcc
trying: https://progenetix.org/services/variantsbedfile/?output=igv&biosampleIds=pgxbs-kftvlaih,pgxbs-kftvjgcc
trying: https://progenetix.org/services/samplematrix/?biosampleIds=pgxbs-kftvlaih,pgxbs-kftvjgcc
trying: https://progenetix.org/services/samplematrix/?individualIds=pgxind-kftx3565,pgxind-kftx5g4v
trying: https://progenetix.org/services/samplematrix/?filters=pgx:icdom-88503
trying: https://progenetix.org/services/cnvstats/?biosampleIds=pgxbs-kftvh94d,pgxbs-kftvh94g,pgxbs-kftvh972
trying: https://progenetix.org/services/cnvstats/?individualIds=pgxind-kftx3565,pgxind-kftx5g4v
trying: https://progenetix.org/services/cnvstats/?filters=pgx:icdom-88503
trying: https://cancercelllines.org/beacon/biosamples/cellzbs-kftvksak/g_variants
[ FAIL 0 | WARN 0 | SKIP 0 | PASS 42 ]
>
> proc.time()
user system elapsed
4.819 0.173 378.214
pgxRpi.Rcheck/pgxRpi-Ex.timings
| name | user | system | elapsed | |
| pgxFreqplot | 1.645 | 0.040 | 4.061 | |
| pgxLoader | 21.650 | 0.187 | 37.255 | |
| pgxMetaplot | 6.539 | 0.119 | 13.332 | |
| pgxSegprocess | 0.237 | 0.001 | 0.284 | |
| segtoFreq | 1.004 | 0.006 | 1.147 | |