Back to Build/check report for BioC 3.23:   simplified   long
ABCDEFGHIJKLMNO[P]QRSTUVWXYZ

This page was generated on 2025-11-13 11:32 -0500 (Thu, 13 Nov 2025).

HostnameOSArch (*)R versionInstalled pkgs
kjohnson3macOS 13.7.7 Venturaarm64R Under development (unstable) (2025-11-04 r88984) -- "Unsuffered Consequences" 4013
Click on any hostname to see more info about the system (e.g. compilers)      (*) as reported by 'uname -p', except on Windows and Mac OS X

Package 1557/2325HostnameOS / ArchINSTALLBUILDCHECKBUILD BIN
pepStat 1.45.0  (landing page)
Gregory C Imholte
Snapshot Date: 2025-11-12 13:40 -0500 (Wed, 12 Nov 2025)
git_url: https://git.bioconductor.org/packages/pepStat
git_branch: devel
git_last_commit: d3092b9
git_last_commit_date: 2025-10-29 10:20:13 -0500 (Wed, 29 Oct 2025)
kjohnson3macOS 13.7.7 Ventura / arm64  OK    OK    OK    OK  NO, package depends on 'GenomicRanges' which is only available as a source package that needs compilation


BUILD results for pepStat on kjohnson3

To the developers/maintainers of the pepStat package:
- Allow up to 24 hours (and sometimes 48 hours) for your latest push to git@git.bioconductor.org:packages/pepStat.git to reflect on this report. See Troubleshooting Build Report for more information.
- Use the following Renviron settings to reproduce errors and warnings.
- If 'R CMD check' started to fail recently on the Linux builder(s) over a missing dependency, add the missing dependency to 'Suggests:' in your DESCRIPTION file. See Renviron.bioc for more information.

raw results


Summary

Package: pepStat
Version: 1.45.0
Command: /Library/Frameworks/R.framework/Resources/bin/R CMD build --keep-empty-dirs --no-resave-data pepStat
StartedAt: 2025-11-12 16:55:42 -0500 (Wed, 12 Nov 2025)
EndedAt: 2025-11-12 16:56:05 -0500 (Wed, 12 Nov 2025)
EllapsedTime: 23.3 seconds
RetCode: 0
Status:   OK  
PackageFile: pepStat_1.45.0.tar.gz
PackageFileSize: 320.5 KiB

Command output

##############################################################################
##############################################################################
###
### Running command:
###
###   /Library/Frameworks/R.framework/Resources/bin/R CMD build --keep-empty-dirs --no-resave-data pepStat
###
##############################################################################
##############################################################################


* checking for file ‘pepStat/DESCRIPTION’ ... OK
* preparing ‘pepStat’:
* checking DESCRIPTION meta-information ... OK
* installing the package (it is needed to build vignettes)
* creating vignettes ... OK
Warning: ‘inst/doc’ file
    ‘pepStat.pdf’
  ignored as vignettes have been rebuilt.
  Run R CMD build with --no-build-vignettes to prevent rebuilding.
* checking for LF line-endings in source and make files and shell scripts
* checking for empty or unneeded directories
* building ‘pepStat_1.45.0.tar.gz’