| Back to Multiple platform build/check report for BioC 3.23: simplified long |
|
This page was generated on 2025-11-14 11:36 -0500 (Fri, 14 Nov 2025).
| Hostname | OS | Arch (*) | R version | Installed pkgs |
|---|---|---|---|---|
| nebbiolo1 | Linux (Ubuntu 24.04.3 LTS) | x86_64 | R Under development (unstable) (2025-10-20 r88955) -- "Unsuffered Consequences" | 4825 |
| kjohnson3 | macOS 13.7.7 Ventura | arm64 | R Under development (unstable) (2025-11-04 r88984) -- "Unsuffered Consequences" | 4547 |
| Click on any hostname to see more info about the system (e.g. compilers) (*) as reported by 'uname -p', except on Windows and Mac OS X | ||||
| Package 1550/2325 | Hostname | OS / Arch | INSTALL | BUILD | CHECK | BUILD BIN | ||||||||
| peakPantheR 1.25.0 (landing page) Arnaud Wolfer
| nebbiolo1 | Linux (Ubuntu 24.04.3 LTS) / x86_64 | OK | OK | OK | |||||||||
| kjohnson3 | macOS 13.7.7 Ventura / arm64 | OK | OK | OK | OK | |||||||||
|
To the developers/maintainers of the peakPantheR package: - Allow up to 24 hours (and sometimes 48 hours) for your latest push to git@git.bioconductor.org:packages/peakPantheR.git to reflect on this report. See Troubleshooting Build Report for more information. - Use the following Renviron settings to reproduce errors and warnings. - If 'R CMD check' started to fail recently on the Linux builder(s) over a missing dependency, add the missing dependency to 'Suggests:' in your DESCRIPTION file. See Renviron.bioc for more information. |
| Package: peakPantheR |
| Version: 1.25.0 |
| Command: /Library/Frameworks/R.framework/Resources/bin/R CMD check --install=check:peakPantheR.install-out.txt --library=/Library/Frameworks/R.framework/Resources/library --no-vignettes --timings peakPantheR_1.25.0.tar.gz |
| StartedAt: 2025-11-13 21:41:10 -0500 (Thu, 13 Nov 2025) |
| EndedAt: 2025-11-13 21:51:05 -0500 (Thu, 13 Nov 2025) |
| EllapsedTime: 595.1 seconds |
| RetCode: 0 |
| Status: OK |
| CheckDir: peakPantheR.Rcheck |
| Warnings: 0 |
##############################################################################
##############################################################################
###
### Running command:
###
### /Library/Frameworks/R.framework/Resources/bin/R CMD check --install=check:peakPantheR.install-out.txt --library=/Library/Frameworks/R.framework/Resources/library --no-vignettes --timings peakPantheR_1.25.0.tar.gz
###
##############################################################################
##############################################################################
* using log directory ‘/Users/biocbuild/bbs-3.23-bioc/meat/peakPantheR.Rcheck’
* using R Under development (unstable) (2025-11-04 r88984)
* using platform: aarch64-apple-darwin20
* R was compiled by
Apple clang version 16.0.0 (clang-1600.0.26.6)
GNU Fortran (GCC) 14.2.0
* running under: macOS Ventura 13.7.8
* using session charset: UTF-8
* using option ‘--no-vignettes’
* checking for file ‘peakPantheR/DESCRIPTION’ ... OK
* this is package ‘peakPantheR’ version ‘1.25.0’
* package encoding: UTF-8
* checking package namespace information ... OK
* checking package dependencies ... OK
* checking if this is a source package ... OK
* checking if there is a namespace ... OK
* checking for hidden files and directories ... OK
* checking for portable file names ... OK
* checking for sufficient/correct file permissions ... OK
* checking whether package ‘peakPantheR’ can be installed ... OK
* checking installed package size ... OK
* checking package directory ... OK
* checking ‘build’ directory ... OK
* checking DESCRIPTION meta-information ... OK
* checking top-level files ... OK
* checking for left-over files ... OK
* checking index information ... OK
* checking package subdirectories ... OK
* checking code files for non-ASCII characters ... OK
* checking R files for syntax errors ... OK
* checking whether the package can be loaded ... OK
* checking whether the package can be loaded with stated dependencies ... OK
* checking whether the package can be unloaded cleanly ... OK
* checking whether the namespace can be loaded with stated dependencies ... OK
* checking whether the namespace can be unloaded cleanly ... OK
* checking whether startup messages can be suppressed ... OK
* checking dependencies in R code ... OK
* checking S3 generic/method consistency ... OK
* checking replacement functions ... OK
* checking foreign function calls ... OK
* checking R code for possible problems ... OK
* checking Rd files ... OK
* checking Rd metadata ... OK
* checking Rd cross-references ... OK
* checking for missing documentation entries ... OK
* checking for code/documentation mismatches ... OK
* checking Rd \usage sections ... OK
* checking Rd contents ... OK
* checking for unstated dependencies in examples ... OK
* checking files in ‘vignettes’ ... OK
* checking examples ... OK
Examples with CPU (user + system) or elapsed time > 5s
user system elapsed
peakPantheR_ROIStatistics 10.057 0.063 10.407
peakPantheR_parallelAnnotation 7.685 0.041 7.949
outputAnnotationDiagnostic-peakPantheRAnnotation-method 7.468 0.027 7.650
outputAnnotationResult-peakPantheRAnnotation-method 7.389 0.023 7.553
EICs-peakPantheRAnnotation-method 5.117 0.182 5.495
retentionTimeCorrection-peakPantheRAnnotation-method 4.993 0.018 5.157
* checking for unstated dependencies in ‘tests’ ... OK
* checking tests ...
Running ‘testthat.R’
OK
* checking for unstated dependencies in vignettes ... OK
* checking package vignettes ... OK
* checking running R code from vignettes ... SKIPPED
* checking re-building of vignette outputs ... SKIPPED
* checking PDF version of manual ... OK
* DONE
Status: OK
peakPantheR.Rcheck/00install.out
############################################################################## ############################################################################## ### ### Running command: ### ### /Library/Frameworks/R.framework/Resources/bin/R CMD INSTALL peakPantheR ### ############################################################################## ############################################################################## * installing to library ‘/Library/Frameworks/R.framework/Versions/4.6-arm64/Resources/library’ * installing *source* package ‘peakPantheR’ ... ** this is package ‘peakPantheR’ version ‘1.25.0’ ** using staged installation ** R ** inst ** byte-compile and prepare package for lazy loading ** help *** installing help indices *** copying figures ** building package indices ** installing vignettes ** testing if installed package can be loaded from temporary location ** testing if installed package can be loaded from final location ** testing if installed package keeps a record of temporary installation path * DONE (peakPantheR)
peakPantheR.Rcheck/tests/testthat.Rout
R Under development (unstable) (2025-11-04 r88984) -- "Unsuffered Consequences"
Copyright (C) 2025 The R Foundation for Statistical Computing
Platform: aarch64-apple-darwin20
R is free software and comes with ABSOLUTELY NO WARRANTY.
You are welcome to redistribute it under certain conditions.
Type 'license()' or 'licence()' for distribution details.
R is a collaborative project with many contributors.
Type 'contributors()' for more information and
'citation()' on how to cite R or R packages in publications.
Type 'demo()' for some demos, 'help()' for on-line help, or
'help.start()' for an HTML browser interface to help.
Type 'q()' to quit R.
> library(testthat)
> library(peakPantheR)
This is peakPantheR version 1.25.0
>
> test_check("peakPantheR")
2025-11-13 21:45:08.655 R[92740:21923111] XType: Using static font registry.
2025-11-13 21:45:15.177 R[17229:21972922] XType: Using static font registry.
2025-11-13 21:45:19.195 R[17908:21974286] XType: Using static font registry.
2025-11-13 21:47:16.569 R[43430:22030899] XType: Using static font registry.
[ FAIL 0 | WARN 0 | SKIP 0 | PASS 1460 ]
Warning messages:
1: In .Internal(gc(verbose, reset, full)) :
closing unused connection 10 (/private/var/folders/r0/l4fjk6cj5xj0j3brt4bplpl40000gt/T/RtmpLXaiTP/notValidXML.mzML)
2: In .Internal(gc(verbose, reset, full)) :
closing unused connection 9 (/private/var/folders/r0/l4fjk6cj5xj0j3brt4bplpl40000gt/T/RtmpLXaiTP/notValidXML.mzML)
3: In .Internal(gc(verbose, reset, full)) :
closing unused connection 8 (/private/var/folders/r0/l4fjk6cj5xj0j3brt4bplpl40000gt/T/RtmpLXaiTP/notValidXML.mzML)
4: In .Internal(gc(verbose, reset, full)) :
closing unused connection 7 (/private/var/folders/r0/l4fjk6cj5xj0j3brt4bplpl40000gt/T/RtmpLXaiTP/notValidXML.mzML)
5: In .Internal(gc(verbose, reset, full)) :
closing unused connection 6 (/Library/Frameworks/R.framework/Versions/4.6-arm64/Resources/library/peakPantheR/extdata/test_fakemzML.mzML)
6: In .Internal(gc(verbose, reset, full)) :
closing unused connection 5 (/Library/Frameworks/R.framework/Versions/4.6-arm64/Resources/library/peakPantheR/extdata/test_fakemzML.mzML)
>
> proc.time()
user system elapsed
358.355 2.250 509.148
peakPantheR.Rcheck/peakPantheR-Ex.timings
| name | user | system | elapsed | |
| EICs-peakPantheRAnnotation-method | 5.117 | 0.182 | 5.495 | |
| FIR-peakPantheRAnnotation-method | 0.011 | 0.000 | 0.012 | |
| ROI-peakPantheRAnnotation-method | 0.008 | 0.001 | 0.010 | |
| TIC-peakPantheRAnnotation-method | 0.006 | 0.001 | 0.007 | |
| acquisitionTime-peakPantheRAnnotation-method | 0.006 | 0.001 | 0.007 | |
| annotationDiagnosticPlots-peakPantheRAnnotation-method | 0.006 | 0.000 | 0.007 | |
| annotationParamsDiagnostic-peakPantheRAnnotation-method | 0.006 | 0.000 | 0.007 | |
| annotationTable-peakPantheRAnnotation-method | 0.007 | 0.001 | 0.008 | |
| annotation_diagnostic_multiplot_UI_helper | 0.061 | 0.003 | 0.063 | |
| annotation_fit_summary_UI_helper | 0.003 | 0.000 | 0.002 | |
| annotation_showMethod_UI_helper | 0.001 | 0.001 | 0.001 | |
| annotation_showText_UI_helper | 0.000 | 0.000 | 0.001 | |
| cpdID-peakPantheRAnnotation-method | 0.009 | 0.001 | 0.009 | |
| cpdMetadata-peakPantheRAnnotation-method | 0.007 | 0.001 | 0.008 | |
| cpdName-peakPantheRAnnotation-method | 0.006 | 0.001 | 0.007 | |
| dataPoints-peakPantheRAnnotation-method | 0.007 | 0.001 | 0.008 | |
| filename-peakPantheRAnnotation-method | 0.006 | 0.001 | 0.006 | |
| filepath-peakPantheRAnnotation-method | 0.005 | 0.001 | 0.007 | |
| initialise_annotation_from_files_UI_helper | 0.004 | 0.001 | 0.006 | |
| isAnnotated-peakPantheRAnnotation-method | 0.007 | 0.000 | 0.007 | |
| load_annotation_from_file_UI_helper | 0.002 | 0.000 | 0.002 | |
| nbCompounds-peakPantheRAnnotation-method | 0.006 | 0.001 | 0.006 | |
| nbSamples-peakPantheRAnnotation-method | 0.059 | 0.001 | 0.061 | |
| outputAnnotationDiagnostic-peakPantheRAnnotation-method | 7.468 | 0.027 | 7.650 | |
| outputAnnotationFeatureMetadata_UI_helper | 0.002 | 0.000 | 0.001 | |
| outputAnnotationParamsCSV-peakPantheRAnnotation-method | 0.007 | 0.000 | 0.007 | |
| outputAnnotationResult-peakPantheRAnnotation-method | 7.389 | 0.023 | 7.553 | |
| outputAnnotationSpectraMetadata_UI_helper | 0.002 | 0.001 | 0.003 | |
| peakFit-peakPantheRAnnotation-method | 0.009 | 0.000 | 0.009 | |
| peakPantheRAnnotation | 0.012 | 0.001 | 0.013 | |
| peakPantheR_ROIStatistics | 10.057 | 0.063 | 10.407 | |
| peakPantheR_loadAnnotationParamsCSV | 0.003 | 0.000 | 0.003 | |
| peakPantheR_parallelAnnotation | 7.685 | 0.041 | 7.949 | |
| peakPantheR_plotEICFit | 0.173 | 0.001 | 0.180 | |
| peakPantheR_plotPeakwidth | 0.317 | 0.027 | 0.353 | |
| peakPantheR_quickEIC | 2.150 | 0.031 | 2.213 | |
| peakPantheR_singleFileSearch | 2.547 | 0.015 | 2.617 | |
| peakPantheR_start_GUI | 0 | 0 | 0 | |
| peakTables-peakPantheRAnnotation-method | 0.009 | 0.001 | 0.010 | |
| resetAnnotation-peakPantheRAnnotation-method | 0.010 | 0.001 | 0.011 | |
| resetFIR-peakPantheRAnnotation-method | 0.002 | 0.000 | 0.002 | |
| retentionTimeCorrection-peakPantheRAnnotation-method | 4.993 | 0.018 | 5.157 | |
| spectraMetadata-peakPantheRAnnotation-method | 0.008 | 0.001 | 0.009 | |
| spectraPaths_and_metadata_UI_helper | 0.001 | 0.000 | 0.001 | |
| spectra_metadata_colourScheme_UI_helper | 0.001 | 0.001 | 0.001 | |
| uROI-peakPantheRAnnotation-method | 0.006 | 0.001 | 0.007 | |
| uROIExist-peakPantheRAnnotation-method | 0.005 | 0.000 | 0.006 | |
| useFIR-peakPantheRAnnotation-method | 0.005 | 0.001 | 0.007 | |
| useUROI-peakPantheRAnnotation-method | 0.005 | 0.001 | 0.007 | |