| Back to Build/check report for BioC 3.23: simplified long |
|
This page was generated on 2025-11-13 11:32 -0500 (Thu, 13 Nov 2025).
| Hostname | OS | Arch (*) | R version | Installed pkgs |
|---|---|---|---|---|
| kjohnson3 | macOS 13.7.7 Ventura | arm64 | R Under development (unstable) (2025-11-04 r88984) -- "Unsuffered Consequences" | 4013 |
| Click on any hostname to see more info about the system (e.g. compilers) (*) as reported by 'uname -p', except on Windows and Mac OS X | ||||
| Package 1499/2325 | Hostname | OS / Arch | INSTALL | BUILD | CHECK | BUILD BIN | ||||||||
| optimalFlow 1.23.0 (landing page) Hristo Inouzhe
| kjohnson3 | macOS 13.7.7 Ventura / arm64 | ERROR | ERROR | skipped | skipped | ||||||||
|
To the developers/maintainers of the optimalFlow package: - Allow up to 24 hours (and sometimes 48 hours) for your latest push to git@git.bioconductor.org:packages/optimalFlow.git to reflect on this report. See Troubleshooting Build Report for more information. - Use the following Renviron settings to reproduce errors and warnings. - If 'R CMD check' started to fail recently on the Linux builder(s) over a missing dependency, add the missing dependency to 'Suggests:' in your DESCRIPTION file. See Renviron.bioc for more information. |
| Package: optimalFlow |
| Version: 1.23.0 |
| Command: /Library/Frameworks/R.framework/Resources/bin/R CMD build --keep-empty-dirs --no-resave-data optimalFlow |
| StartedAt: 2025-11-12 16:52:10 -0500 (Wed, 12 Nov 2025) |
| EndedAt: 2025-11-12 16:52:11 -0500 (Wed, 12 Nov 2025) |
| EllapsedTime: 1.0 seconds |
| RetCode: 1 |
| Status: ERROR |
| PackageFile: None |
| PackageFileSize: NA |
##############################################################################
##############################################################################
###
### Running command:
###
### /Library/Frameworks/R.framework/Resources/bin/R CMD build --keep-empty-dirs --no-resave-data optimalFlow
###
##############################################################################
##############################################################################
* checking for file ‘optimalFlow/DESCRIPTION’ ... OK
* preparing ‘optimalFlow’:
* checking DESCRIPTION meta-information ... OK
* installing the package (it is needed to build vignettes)
-----------------------------------
ERROR: dependency ‘flowMeans’ is not available for package ‘optimalFlow’
Perhaps try a variation of:
install.packages('flowMeans')
* removing ‘/private/var/folders/r0/l4fjk6cj5xj0j3brt4bplpl40000gt/T/RtmpBGJHfu/Rinst16b531c8225d4/optimalFlow’
-----------------------------------
ERROR: package installation failed