Back to Multiple platform build/check report for BioC 3.23:   simplified   long
ABCDEFGHIJKLMN[O]PQRSTUVWXYZ

This page was generated on 2025-11-14 11:36 -0500 (Fri, 14 Nov 2025).

HostnameOSArch (*)R versionInstalled pkgs
nebbiolo1Linux (Ubuntu 24.04.3 LTS)x86_64R Under development (unstable) (2025-10-20 r88955) -- "Unsuffered Consequences" 4825
kjohnson3macOS 13.7.7 Venturaarm64R Under development (unstable) (2025-11-04 r88984) -- "Unsuffered Consequences" 4547
Click on any hostname to see more info about the system (e.g. compilers)      (*) as reported by 'uname -p', except on Windows and Mac OS X

Package 1493/2325HostnameOS / ArchINSTALLBUILDCHECKBUILD BIN
ontoProc 2.5.0  (landing page)
Vincent Carey
Snapshot Date: 2025-11-13 13:40 -0500 (Thu, 13 Nov 2025)
git_url: https://git.bioconductor.org/packages/ontoProc
git_branch: devel
git_last_commit: a09f239
git_last_commit_date: 2025-10-29 19:20:08 -0500 (Wed, 29 Oct 2025)
nebbiolo1Linux (Ubuntu 24.04.3 LTS) / x86_64  OK    OK    OK  UNNEEDED, same version is already published
kjohnson3macOS 13.7.7 Ventura / arm64  OK    OK    OK    OK  YES


CHECK results for ontoProc on kjohnson3

To the developers/maintainers of the ontoProc package:
- Allow up to 24 hours (and sometimes 48 hours) for your latest push to git@git.bioconductor.org:packages/ontoProc.git to reflect on this report. See Troubleshooting Build Report for more information.
- Use the following Renviron settings to reproduce errors and warnings.
- If 'R CMD check' started to fail recently on the Linux builder(s) over a missing dependency, add the missing dependency to 'Suggests:' in your DESCRIPTION file. See Renviron.bioc for more information.

raw results


Summary

Package: ontoProc
Version: 2.5.0
Command: /Library/Frameworks/R.framework/Resources/bin/R CMD check --install=check:ontoProc.install-out.txt --library=/Library/Frameworks/R.framework/Resources/library --no-vignettes --timings ontoProc_2.5.0.tar.gz
StartedAt: 2025-11-13 21:32:22 -0500 (Thu, 13 Nov 2025)
EndedAt: 2025-11-13 21:44:25 -0500 (Thu, 13 Nov 2025)
EllapsedTime: 723.5 seconds
RetCode: 0
Status:   OK  
CheckDir: ontoProc.Rcheck
Warnings: 0

Command output

##############################################################################
##############################################################################
###
### Running command:
###
###   /Library/Frameworks/R.framework/Resources/bin/R CMD check --install=check:ontoProc.install-out.txt --library=/Library/Frameworks/R.framework/Resources/library --no-vignettes --timings ontoProc_2.5.0.tar.gz
###
##############################################################################
##############################################################################


* using log directory ‘/Users/biocbuild/bbs-3.23-bioc/meat/ontoProc.Rcheck’
* using R Under development (unstable) (2025-11-04 r88984)
* using platform: aarch64-apple-darwin20
* R was compiled by
    Apple clang version 16.0.0 (clang-1600.0.26.6)
    GNU Fortran (GCC) 14.2.0
* running under: macOS Ventura 13.7.8
* using session charset: UTF-8
* using option ‘--no-vignettes’
* checking for file ‘ontoProc/DESCRIPTION’ ... OK
* this is package ‘ontoProc’ version ‘2.5.0’
* package encoding: UTF-8
* checking package namespace information ... OK
* checking package dependencies ... OK
* checking if this is a source package ... OK
* checking if there is a namespace ... OK
* checking for hidden files and directories ... OK
* checking for portable file names ... OK
* checking for sufficient/correct file permissions ... OK
* checking whether package ‘ontoProc’ can be installed ... OK
* checking installed package size ... INFO
  installed size is 11.5Mb
  sub-directories of 1Mb or more:
    app       1.9Mb
    data      1.8Mb
    ontoRda   2.8Mb
    owl       3.8Mb
* checking package directory ... OK
* checking ‘build’ directory ... OK
* checking DESCRIPTION meta-information ... OK
* checking top-level files ... OK
* checking for left-over files ... OK
* checking index information ... OK
* checking package subdirectories ... OK
* checking code files for non-ASCII characters ... OK
* checking R files for syntax errors ... OK
* checking whether the package can be loaded ... OK
* checking whether the package can be loaded with stated dependencies ... OK
* checking whether the package can be unloaded cleanly ... OK
* checking whether the namespace can be loaded with stated dependencies ... OK
* checking whether the namespace can be unloaded cleanly ... OK
* checking dependencies in R code ... NOTE
':::' call which should be '::': ‘ontologyPlot:::remove_uninformative_terms’
  See the note in ?`:::` about the use of this operator.
* checking S3 generic/method consistency ... OK
* checking replacement functions ... OK
* checking foreign function calls ... OK
* checking R code for possible problems ... NOTE
CLfeat : prupdate: no visible binding for global variable ‘PROSYM’
CLfeat : prupdate: no visible binding for global variable ‘PRID’
CLfeat : prupdate: no visible binding for global variable ‘SYMBOL’
ctmarks : server: no visible binding for global variable ‘text’
ctmarks : server: no visible binding for global variable ‘packDesc2022’
ctmarks : server: no visible binding for global variable ‘packDesc2021’
ctmarks: no visible binding for global variable ‘cumu’
dropStop: no visible binding for global variable ‘stopWords’
getOnto: no visible binding for global variable ‘rdatadateadded’
getOnto: no visible binding for global variable ‘title’
getOnto: no visible binding for global variable ‘description’
ldfToTerm: no visible binding for global variable ‘PROSYM’
sym2CellOnto: no visible binding for global variable ‘PROSYM’
sym2CellOnto: no visible binding for global variable ‘SYMBOL’
Undefined global functions or variables:
  PRID PROSYM SYMBOL cumu description packDesc2021 packDesc2022
  rdatadateadded stopWords text title
Consider adding
  importFrom("graphics", "text", "title")
to your NAMESPACE file.
* checking Rd files ... OK
* checking Rd metadata ... OK
* checking Rd cross-references ... NOTE
Found the following Rd file(s) with Rd \link{} targets missing package
anchors:
  findCommonAncestors.Rd: graph, DataFrame-class, List-class
Please provide package anchors for all Rd \link{} targets not in the
package itself and the base packages.
* checking for missing documentation entries ... OK
* checking for code/documentation mismatches ... OK
* checking Rd \usage sections ... NOTE
S3 methods shown with full name in Rd file 'plot.owlents.Rd':
  ‘plot.owlents’

The \usage entries for S3 methods should use the \method markup and not
their full name.
See chapter ‘Writing R documentation files’ in the ‘Writing R
Extensions’ manual.
* checking Rd contents ... OK
* checking for unstated dependencies in examples ... OK
* checking contents of ‘data’ directory ... OK
* checking data for non-ASCII characters ... OK
* checking data for ASCII and uncompressed saves ... OK
* checking files in ‘vignettes’ ... OK
* checking examples ... OK
Examples with CPU (user + system) or elapsed time > 5s
                                   user system elapsed
sym2CellOnto                     77.914  0.770  79.919
siblings_TAG                     45.173  0.664  47.100
nomenCheckup                     32.173  0.231  32.933
cleanCLOnames                    31.675  0.239  32.462
CLfeats                          27.236  0.666  29.177
fastGrep                         26.684  0.544  39.698
getLeavesFromTerm                21.277  0.294  22.002
liberalMap                       17.872  0.207  23.557
common_classes                   16.824  0.587  17.751
selectFromMap                    16.883  0.253  17.541
make_graphNEL_from_ontology_plot 16.776  0.286  20.701
TermSet-class                    16.570  0.267  17.352
mapOneNaive                      15.620  0.246  16.362
getOnto                          15.562  0.233  16.258
findCommonAncestors              15.277  0.286  15.994
onto_plot2                       15.070  0.261  15.646
secLevGen                        15.112  0.156  15.734
ontoDiff                          4.701  0.256   5.551
plot.owlents                      2.351  0.231  32.090
bioregistry_ols_resources         0.242  0.008   6.072
search_labels                     0.148  0.009   6.949
* checking for unstated dependencies in ‘tests’ ... OK
* checking tests ...
  Running ‘test.R’
 OK
* checking for unstated dependencies in vignettes ... OK
* checking package vignettes ... OK
* checking running R code from vignettes ... SKIPPED
* checking re-building of vignette outputs ... SKIPPED
* checking PDF version of manual ... OK
* DONE

Status: 4 NOTEs
See
  ‘/Users/biocbuild/bbs-3.23-bioc/meat/ontoProc.Rcheck/00check.log’
for details.


Installation output

ontoProc.Rcheck/00install.out

##############################################################################
##############################################################################
###
### Running command:
###
###   /Library/Frameworks/R.framework/Resources/bin/R CMD INSTALL ontoProc
###
##############################################################################
##############################################################################


* installing to library ‘/Library/Frameworks/R.framework/Versions/4.6-arm64/Resources/library’
* installing *source* package ‘ontoProc’ ...
** this is package ‘ontoProc’ version ‘2.5.0’
** using staged installation
** R
** data
** inst
** byte-compile and prepare package for lazy loading
** help
*** installing help indices
** building package indices
** installing vignettes
** testing if installed package can be loaded from temporary location
** testing if installed package can be loaded from final location
** testing if installed package keeps a record of temporary installation path
* DONE (ontoProc)

Tests output

ontoProc.Rcheck/tests/test.Rout


R Under development (unstable) (2025-11-04 r88984) -- "Unsuffered Consequences"
Copyright (C) 2025 The R Foundation for Statistical Computing
Platform: aarch64-apple-darwin20

R is free software and comes with ABSOLUTELY NO WARRANTY.
You are welcome to redistribute it under certain conditions.
Type 'license()' or 'licence()' for distribution details.

R is a collaborative project with many contributors.
Type 'contributors()' for more information and
'citation()' on how to cite R or R packages in publications.

Type 'demo()' for some demos, 'help()' for on-line help, or
'help.start()' for an HTML browser interface to help.
Type 'q()' to quit R.

> 
> library(ontoProc)
Loading required package: ontologyIndex
> library(testthat)
> 
> test_check("ontoProc")
[ FAIL 0 | WARN 0 | SKIP 0 | PASS 12 ]
> 
> 
> proc.time()
   user  system elapsed 
105.119   1.789 110.694 

Example timings

ontoProc.Rcheck/ontoProc-Ex.timings

nameusersystemelapsed
CLfeats27.236 0.66629.177
PROSYM0.1150.0020.117
TermSet-class16.570 0.26717.352
allGOterms0.0520.0010.054
ancestors0.4330.1190.636
ancestors_names0.0020.0020.003
bioregistry_ols_resources0.2420.0086.072
cellTypeToGO0.8430.0590.913
children_names0.0020.0010.002
cleanCLOnames31.675 0.23932.462
common_classes16.824 0.58717.751
ctmarks000
cyclicSigset0.0020.0000.002
demoApp000
dropStop0.0010.0010.002
fastGrep26.684 0.54439.698
findCommonAncestors15.277 0.28615.994
formalize000
getLeavesFromTerm21.277 0.29422.002
getOnto15.562 0.23316.258
graph2paths2.8450.0463.032
humrna0.0030.0010.005
jowl2classgraph0.1160.0020.125
jowl2classgraph_nio0.2810.0030.294
labels.owlents000
ldfToTerms1.1940.0201.230
liberalMap17.872 0.20723.557
makeSelectInput0.0000.0000.001
make_graphNEL_from_ontology_plot16.776 0.28620.701
mapOneNaive15.620 0.24616.362
minicorpus0.0010.0010.002
nomenCheckup32.173 0.23132.933
ontoDiff4.7010.2565.551
onto_plot215.070 0.26115.646
onto_roots000
owl2cache0.0090.0010.009
packDesc20190.0010.0010.002
packDesc20210.0010.0010.001
packDesc20220.0010.0010.001
packDesc20230.0000.0000.002
parents0.0010.0000.002
plot.owlents 2.351 0.23132.090
quickOnto0.1090.0090.120
recognizedPredicates000
search_labels0.1480.0096.949
secLevGen15.112 0.15615.734
selectFromMap16.883 0.25317.541
setup_entities0.0020.0010.002
setup_entities20.1460.0040.152
seur3kTab0.0010.0010.002
siblings_TAG45.173 0.66447.100
stopWords0.0010.0000.001
subclasses0.0020.0000.002
sym2CellOnto77.914 0.77079.919
valid_ontonames000