Back to Multiple platform build/check report for BioC 3.23:   simplified   long
ABCDEFGHIJKL[M]NOPQRSTUVWXYZ

This page was generated on 2025-11-17 11:39 -0500 (Mon, 17 Nov 2025).

HostnameOSArch (*)R versionInstalled pkgs
nebbiolo1Linux (Ubuntu 24.04.3 LTS)x86_64R Under development (unstable) (2025-10-20 r88955) -- "Unsuffered Consequences" 4826
lconwaymacOS 12.7.6 Montereyx86_64R Under development (unstable) (2025-10-21 r88958) -- "Unsuffered Consequences" 4491
kjohnson3macOS 13.7.7 Venturaarm64R Under development (unstable) (2025-11-04 r88984) -- "Unsuffered Consequences" 4562
Click on any hostname to see more info about the system (e.g. compilers)      (*) as reported by 'uname -p', except on Windows and Mac OS X

Package 1342/2325HostnameOS / ArchINSTALLBUILDCHECKBUILD BIN
motifcounter 1.35.0  (landing page)
Wolfgang Kopp
Snapshot Date: 2025-11-16 13:40 -0500 (Sun, 16 Nov 2025)
git_url: https://git.bioconductor.org/packages/motifcounter
git_branch: devel
git_last_commit: 9ac52e2
git_last_commit_date: 2025-10-29 10:37:31 -0500 (Wed, 29 Oct 2025)
nebbiolo1Linux (Ubuntu 24.04.3 LTS) / x86_64  OK    OK    ERROR  
lconwaymacOS 12.7.6 Monterey / x86_64  OK    OK    ERROR    OK  
kjohnson3macOS 13.7.7 Ventura / arm64  OK    OK    ERROR    OK  


CHECK results for motifcounter on lconway

To the developers/maintainers of the motifcounter package:
- Allow up to 24 hours (and sometimes 48 hours) for your latest push to git@git.bioconductor.org:packages/motifcounter.git to reflect on this report. See Troubleshooting Build Report for more information.
- Use the following Renviron settings to reproduce errors and warnings.
- If 'R CMD check' started to fail recently on the Linux builder(s) over a missing dependency, add the missing dependency to 'Suggests:' in your DESCRIPTION file. See Renviron.bioc for more information.

raw results


Summary

Package: motifcounter
Version: 1.35.0
Command: /Library/Frameworks/R.framework/Resources/bin/R CMD check --install=check:motifcounter.install-out.txt --library=/Library/Frameworks/R.framework/Resources/library --no-vignettes --timings motifcounter_1.35.0.tar.gz
StartedAt: 2025-11-17 04:07:47 -0500 (Mon, 17 Nov 2025)
EndedAt: 2025-11-17 04:11:11 -0500 (Mon, 17 Nov 2025)
EllapsedTime: 204.1 seconds
RetCode: 1
Status:   ERROR  
CheckDir: motifcounter.Rcheck
Warnings: NA

Command output

##############################################################################
##############################################################################
###
### Running command:
###
###   /Library/Frameworks/R.framework/Resources/bin/R CMD check --install=check:motifcounter.install-out.txt --library=/Library/Frameworks/R.framework/Resources/library --no-vignettes --timings motifcounter_1.35.0.tar.gz
###
##############################################################################
##############################################################################


* using log directory ‘/Users/biocbuild/bbs-3.23-bioc/meat/motifcounter.Rcheck’
* using R Under development (unstable) (2025-10-21 r88958)
* using platform: x86_64-apple-darwin20
* R was compiled by
    Apple clang version 14.0.0 (clang-1400.0.29.202)
    GNU Fortran (GCC) 14.2.0
* running under: macOS Ventura 13.7.8
* using session charset: UTF-8
* using option ‘--no-vignettes’
* checking for file ‘motifcounter/DESCRIPTION’ ... OK
* checking extension type ... Package
* this is package ‘motifcounter’ version ‘1.35.0’
* checking package namespace information ... OK
* checking package dependencies ... OK
* checking if this is a source package ... OK
* checking if there is a namespace ... OK
* checking for hidden files and directories ... NOTE
Found the following hidden files and directories:
  .zenodo.json
These were most likely included in error. See section ‘Package
structure’ in the ‘Writing R Extensions’ manual.
* checking for portable file names ... OK
* checking for sufficient/correct file permissions ... OK
* checking whether package ‘motifcounter’ can be installed ... OK
* used C compiler: ‘Apple clang version 14.0.3 (clang-1403.0.22.14.1)’
* used SDK: ‘MacOSX11.3.1.sdk’
* checking installed package size ... OK
* checking package directory ... OK
* checking ‘build’ directory ... OK
* checking DESCRIPTION meta-information ... OK
* checking top-level files ... OK
* checking for left-over files ... OK
* checking index information ... OK
* checking package subdirectories ... OK
* checking code files for non-ASCII characters ... OK
* checking R files for syntax errors ... OK
* checking whether the package can be loaded ... OK
* checking whether the package can be loaded with stated dependencies ... OK
* checking whether the package can be unloaded cleanly ... OK
* checking whether the namespace can be loaded with stated dependencies ... OK
* checking whether the namespace can be unloaded cleanly ... OK
* checking whether startup messages can be suppressed ... OK
* checking dependencies in R code ... OK
* checking S3 generic/method consistency ... OK
* checking replacement functions ... OK
* checking foreign function calls ... OK
* checking R code for possible problems ... OK
* checking Rd files ... OK
* checking Rd metadata ... OK
* checking Rd cross-references ... OK
* checking for missing documentation entries ... OK
* checking for code/documentation mismatches ... OK
* checking Rd \usage sections ... OK
* checking Rd contents ... OK
* checking for unstated dependencies in examples ... OK
* checking line endings in C/C++/Fortran sources/headers ... OK
* checking line endings in Makefiles ... OK
* checking compilation flags in Makevars ... OK
* checking for GNU extensions in Makefiles ... OK
* checking for portable use of $(BLAS_LIBS) and $(LAPACK_LIBS) ... OK
* checking use of PKG_*FLAGS in Makefiles ... OK
* checking compiled code ... INFO
Note: information on .o files is not available
* checking files in ‘vignettes’ ... OK
* checking examples ... OK
Examples with CPU (user + system) or elapsed time > 5s
                        user system elapsed
simulateClumpSizeDist 11.413  0.399  11.839
* checking for unstated dependencies in ‘tests’ ... OK
* checking tests ...
  Running ‘testthat.R’
 ERROR
Running the tests in ‘tests/testthat.R’ failed.
Last 13 lines of output:
  > test_check("motifcounter")
  Saving _problems/testbackground-79.R
  [ FAIL 1 | WARN 0 | SKIP 0 | PASS 840 ]
  
  ══ Failed tests ════════════════════════════════════════════════════════════════
  ── Error ('testbackground.R:79:5'): readBackground ─────────────────────────────
  Error in `is_true()`: could not find function "is_true"
  Backtrace:
      ▆
   1. └─testthat::expect_that(...) at testbackground.R:79:5
  
  [ FAIL 1 | WARN 0 | SKIP 0 | PASS 840 ]
  Error:
  ! Test failures.
  Execution halted
* checking for unstated dependencies in vignettes ... OK
* checking package vignettes ... OK
* checking running R code from vignettes ... SKIPPED
* checking re-building of vignette outputs ... SKIPPED
* checking PDF version of manual ... OK
* DONE

Status: 1 ERROR, 1 NOTE
See
  ‘/Users/biocbuild/bbs-3.23-bioc/meat/motifcounter.Rcheck/00check.log’
for details.


Installation output

motifcounter.Rcheck/00install.out

##############################################################################
##############################################################################
###
### Running command:
###
###   /Library/Frameworks/R.framework/Resources/bin/R CMD INSTALL motifcounter
###
##############################################################################
##############################################################################


* installing to library ‘/Library/Frameworks/R.framework/Versions/4.6-x86_64/Resources/library’
* installing *source* package ‘motifcounter’ ...
** this is package ‘motifcounter’ version ‘1.35.0’
** using staged installation
** libs
using C compiler: ‘Apple clang version 14.0.3 (clang-1403.0.22.14.1)’
using SDK: ‘MacOSX11.3.1.sdk’
clang -arch x86_64 -I"/Library/Frameworks/R.framework/Resources/include" -DNDEBUG   -I/opt/R/x86_64/include    -DIN_R -fPIC  -falign-functions=64 -Wall -g -O2  -c Rbackground.c -o Rbackground.o
clang -arch x86_64 -I"/Library/Frameworks/R.framework/Resources/include" -DNDEBUG   -I/opt/R/x86_64/include    -DIN_R -fPIC  -falign-functions=64 -Wall -g -O2  -c Rcombinatorial.c -o Rcombinatorial.o
clang -arch x86_64 -I"/Library/Frameworks/R.framework/Resources/include" -DNDEBUG   -I/opt/R/x86_64/include    -DIN_R -fPIC  -falign-functions=64 -Wall -g -O2  -c Rcompoundpoisson.c -o Rcompoundpoisson.o
clang -arch x86_64 -I"/Library/Frameworks/R.framework/Resources/include" -DNDEBUG   -I/opt/R/x86_64/include    -DIN_R -fPIC  -falign-functions=64 -Wall -g -O2  -c Rminmaxscore.c -o Rminmaxscore.o
clang -arch x86_64 -I"/Library/Frameworks/R.framework/Resources/include" -DNDEBUG   -I/opt/R/x86_64/include    -DIN_R -fPIC  -falign-functions=64 -Wall -g -O2  -c Roption.c -o Roption.o
clang -arch x86_64 -I"/Library/Frameworks/R.framework/Resources/include" -DNDEBUG   -I/opt/R/x86_64/include    -DIN_R -fPIC  -falign-functions=64 -Wall -g -O2  -c Roverlap.c -o Roverlap.o
clang -arch x86_64 -I"/Library/Frameworks/R.framework/Resources/include" -DNDEBUG   -I/opt/R/x86_64/include    -DIN_R -fPIC  -falign-functions=64 -Wall -g -O2  -c Rscore1d.c -o Rscore1d.o
clang -arch x86_64 -I"/Library/Frameworks/R.framework/Resources/include" -DNDEBUG   -I/opt/R/x86_64/include    -DIN_R -fPIC  -falign-functions=64 -Wall -g -O2  -c Rsequence.c -o Rsequence.o
Rsequence.c:143:21: warning: unused variable 'noscores' [-Wunused-variable]
    int mins, maxs, noscores;
                    ^
1 warning generated.
clang -arch x86_64 -I"/Library/Frameworks/R.framework/Resources/include" -DNDEBUG   -I/opt/R/x86_64/include    -DIN_R -fPIC  -falign-functions=64 -Wall -g -O2  -c Rsimulate.c -o Rsimulate.o
clang -arch x86_64 -I"/Library/Frameworks/R.framework/Resources/include" -DNDEBUG   -I/opt/R/x86_64/include    -DIN_R -fPIC  -falign-functions=64 -Wall -g -O2  -c background.c -o background.o
clang -arch x86_64 -I"/Library/Frameworks/R.framework/Resources/include" -DNDEBUG   -I/opt/R/x86_64/include    -DIN_R -fPIC  -falign-functions=64 -Wall -g -O2  -c combinatorial.c -o combinatorial.o
clang -arch x86_64 -I"/Library/Frameworks/R.framework/Resources/include" -DNDEBUG   -I/opt/R/x86_64/include    -DIN_R -fPIC  -falign-functions=64 -Wall -g -O2  -c compoundpoisson.c -o compoundpoisson.o
clang -arch x86_64 -I"/Library/Frameworks/R.framework/Resources/include" -DNDEBUG   -I/opt/R/x86_64/include    -DIN_R -fPIC  -falign-functions=64 -Wall -g -O2  -c markovchain.c -o markovchain.o
clang -arch x86_64 -I"/Library/Frameworks/R.framework/Resources/include" -DNDEBUG   -I/opt/R/x86_64/include    -DIN_R -fPIC  -falign-functions=64 -Wall -g -O2  -c markovchain_single.c -o markovchain_single.o
clang -arch x86_64 -I"/Library/Frameworks/R.framework/Resources/include" -DNDEBUG   -I/opt/R/x86_64/include    -DIN_R -fPIC  -falign-functions=64 -Wall -g -O2  -c matrix.c -o matrix.o
clang -arch x86_64 -I"/Library/Frameworks/R.framework/Resources/include" -DNDEBUG   -I/opt/R/x86_64/include    -DIN_R -fPIC  -falign-functions=64 -Wall -g -O2  -c mdist_register.c -o mdist_register.o
clang -arch x86_64 -I"/Library/Frameworks/R.framework/Resources/include" -DNDEBUG   -I/opt/R/x86_64/include    -DIN_R -fPIC  -falign-functions=64 -Wall -g -O2  -c minmaxscore.c -o minmaxscore.o
clang -arch x86_64 -I"/Library/Frameworks/R.framework/Resources/include" -DNDEBUG   -I/opt/R/x86_64/include    -DIN_R -fPIC  -falign-functions=64 -Wall -g -O2  -c overlap.c -o overlap.o
clang -arch x86_64 -I"/Library/Frameworks/R.framework/Resources/include" -DNDEBUG   -I/opt/R/x86_64/include    -DIN_R -fPIC  -falign-functions=64 -Wall -g -O2  -c score1d.c -o score1d.o
clang -arch x86_64 -I"/Library/Frameworks/R.framework/Resources/include" -DNDEBUG   -I/opt/R/x86_64/include    -DIN_R -fPIC  -falign-functions=64 -Wall -g -O2  -c score2d.c -o score2d.o
score2d.c:597:15: warning: variable 'p0' set but not used [-Wunused-but-set-variable]
    double p, p0 = 0.0, p1 = 0.0, ptmp;
              ^
score2d.c:597:25: warning: variable 'p1' set but not used [-Wunused-but-set-variable]
    double p, p0 = 0.0, p1 = 0.0, ptmp;
                        ^
2 warnings generated.
clang -arch x86_64 -I"/Library/Frameworks/R.framework/Resources/include" -DNDEBUG   -I/opt/R/x86_64/include    -DIN_R -fPIC  -falign-functions=64 -Wall -g -O2  -c scorefunctions.c -o scorefunctions.o
scorefunctions.c:84:22: warning: unused variable 'cindex' [-Wunused-variable]
    int j, i, index, cindex, ds;
                     ^
scorefunctions.c:119:17: warning: unused variable 'cindex' [-Wunused-variable]
  int s, index, cindex;
                ^
scorefunctions.c:159:19: warning: unused variable 'cindex' [-Wunused-variable]
    int s, index, cindex;
                  ^
3 warnings generated.
clang -arch x86_64 -I"/Library/Frameworks/R.framework/Resources/include" -DNDEBUG   -I/opt/R/x86_64/include    -DIN_R -fPIC  -falign-functions=64 -Wall -g -O2  -c sequence.c -o sequence.o
clang -arch x86_64 -I"/Library/Frameworks/R.framework/Resources/include" -DNDEBUG   -I/opt/R/x86_64/include    -DIN_R -fPIC  -falign-functions=64 -Wall -g -O2  -c simulate.c -o simulate.o
clang -arch x86_64 -dynamiclib -Wl,-headerpad_max_install_names -undefined dynamic_lookup -L/Library/Frameworks/R.framework/Resources/lib -L/opt/R/x86_64/lib -o motifcounter.so Rbackground.o Rcombinatorial.o Rcompoundpoisson.o Rminmaxscore.o Roption.o Roverlap.o Rscore1d.o Rsequence.o Rsimulate.o background.o combinatorial.o compoundpoisson.o markovchain.o markovchain_single.o matrix.o mdist_register.o minmaxscore.o overlap.o score1d.o score2d.o scorefunctions.o sequence.o simulate.o -F/Library/Frameworks/R.framework/.. -framework R
installing to /Library/Frameworks/R.framework/Versions/4.6-x86_64/Resources/library/00LOCK-motifcounter/00new/motifcounter/libs
** R
** inst
** byte-compile and prepare package for lazy loading
** help
*** installing help indices
** building package indices
** installing vignettes
** testing if installed package can be loaded from temporary location
** checking absolute paths in shared objects and dynamic libraries
** testing if installed package can be loaded from final location
** testing if installed package keeps a record of temporary installation path
* DONE (motifcounter)

Tests output

motifcounter.Rcheck/tests/testthat.Rout.fail


R Under development (unstable) (2025-10-21 r88958) -- "Unsuffered Consequences"
Copyright (C) 2025 The R Foundation for Statistical Computing
Platform: x86_64-apple-darwin20

R is free software and comes with ABSOLUTELY NO WARRANTY.
You are welcome to redistribute it under certain conditions.
Type 'license()' or 'licence()' for distribution details.

R is a collaborative project with many contributors.
Type 'contributors()' for more information and
'citation()' on how to cite R or R packages in publications.

Type 'demo()' for some demos, 'help()' for on-line help, or
'help.start()' for an HTML browser interface to help.
Type 'q()' to quit R.

> library(testthat)
> library(motifcounter)
> 
> test_check("motifcounter")
Saving _problems/testbackground-79.R
[ FAIL 1 | WARN 0 | SKIP 0 | PASS 840 ]

══ Failed tests ════════════════════════════════════════════════════════════════
── Error ('testbackground.R:79:5'): readBackground ─────────────────────────────
Error in `is_true()`: could not find function "is_true"
Backtrace:
    ▆
 1. └─testthat::expect_that(...) at testbackground.R:79:5

[ FAIL 1 | WARN 0 | SKIP 0 | PASS 840 ]
Error:
! Test failures.
Execution halted

Example timings

motifcounter.Rcheck/motifcounter-Ex.timings

nameusersystemelapsed
clumpSizeDist0.4730.0080.485
combinatorialDist0.2130.0110.226
compoundPoissonDist0.1210.0140.135
computeClumpStartProb0.1040.0120.116
generateDNAString0.0650.0100.075
generateDNAStringSet0.1090.0180.126
hitStrand0.0690.0030.071
lenSequences0.0800.0020.081
markovModel0.0900.0040.094
motifAndBackgroundValid0.0790.0020.082
motifEnrichment2.2430.0222.267
motifHitProfile0.0660.0040.071
motifHits0.0710.0040.075
motifValid0.0020.0010.002
motifcounter-package0.7970.0200.818
motifcounterOptions0.0000.0000.001
normalizeMotif0.0010.0010.003
numMotifHits0.4590.0100.470
probOverlapHit0.1030.0020.105
readBackground0.0620.0010.063
revcompMotif0.0010.0010.002
scoreDist0.0830.0020.085
scoreDistBf0.1000.0020.102
scoreDistEmpirical1.9270.0251.953
scoreHistogram0.1640.0060.170
scoreHistogramSingleSeq0.0610.0070.068
scoreProfile0.3070.0040.311
scoreSequence0.0800.0030.083
scoreStrand0.0740.0020.077
scoreThreshold0.0770.0020.079
sigLevel000
simulateClumpSizeDist11.413 0.39911.839
simulateNumHitsDist1.6860.0211.708