| Back to Build/check report for BioC 3.23: simplified long |
|
This page was generated on 2025-11-13 11:32 -0500 (Thu, 13 Nov 2025).
| Hostname | OS | Arch (*) | R version | Installed pkgs |
|---|---|---|---|---|
| kjohnson3 | macOS 13.7.7 Ventura | arm64 | R Under development (unstable) (2025-11-04 r88984) -- "Unsuffered Consequences" | 4013 |
| Click on any hostname to see more info about the system (e.g. compilers) (*) as reported by 'uname -p', except on Windows and Mac OS X | ||||
| Package 1219/2325 | Hostname | OS / Arch | INSTALL | BUILD | CHECK | BUILD BIN | ||||||||
| metabinR 1.13.0 (landing page) Anestis Gkanogiannis
| kjohnson3 | macOS 13.7.7 Ventura / arm64 | OK | OK | OK | OK | ||||||||
|
To the developers/maintainers of the metabinR package: - Allow up to 24 hours (and sometimes 48 hours) for your latest push to git@git.bioconductor.org:packages/metabinR.git to reflect on this report. See Troubleshooting Build Report for more information. - Use the following Renviron settings to reproduce errors and warnings. - If 'R CMD check' started to fail recently on the Linux builder(s) over a missing dependency, add the missing dependency to 'Suggests:' in your DESCRIPTION file. See Renviron.bioc for more information. |
| Package: metabinR |
| Version: 1.13.0 |
| Command: /Library/Frameworks/R.framework/Resources/bin/R CMD check --install=check:metabinR.install-out.txt --library=/Library/Frameworks/R.framework/Resources/library --no-vignettes --timings metabinR_1.13.0.tar.gz |
| StartedAt: 2025-11-12 19:22:46 -0500 (Wed, 12 Nov 2025) |
| EndedAt: 2025-11-12 19:23:21 -0500 (Wed, 12 Nov 2025) |
| EllapsedTime: 35.5 seconds |
| RetCode: 0 |
| Status: OK |
| CheckDir: metabinR.Rcheck |
| Warnings: 0 |
##############################################################################
##############################################################################
###
### Running command:
###
### /Library/Frameworks/R.framework/Resources/bin/R CMD check --install=check:metabinR.install-out.txt --library=/Library/Frameworks/R.framework/Resources/library --no-vignettes --timings metabinR_1.13.0.tar.gz
###
##############################################################################
##############################################################################
* using log directory ‘/Users/biocbuild/bbs-3.23-bioc/meat/metabinR.Rcheck’
* using R Under development (unstable) (2025-11-04 r88984)
* using platform: aarch64-apple-darwin20
* R was compiled by
Apple clang version 16.0.0 (clang-1600.0.26.6)
GNU Fortran (GCC) 14.2.0
* running under: macOS Ventura 13.7.8
* using session charset: UTF-8
* using option ‘--no-vignettes’
* checking for file ‘metabinR/DESCRIPTION’ ... OK
* checking extension type ... Package
* this is package ‘metabinR’ version ‘1.13.0’
* package encoding: UTF-8
* checking package namespace information ... OK
* checking package dependencies ... OK
* checking if this is a source package ... OK
* checking if there is a namespace ... OK
* checking for hidden files and directories ... OK
* checking for portable file names ... OK
* checking for sufficient/correct file permissions ... OK
* checking whether package ‘metabinR’ can be installed ... OK
* checking installed package size ... OK
* checking package directory ... OK
* checking ‘build’ directory ... OK
* checking DESCRIPTION meta-information ... OK
* checking top-level files ... OK
* checking for left-over files ... OK
* checking index information ... OK
* checking package subdirectories ... OK
* checking code files for non-ASCII characters ... OK
* checking R files for syntax errors ... OK
* checking whether the package can be loaded ... OK
* checking whether the package can be loaded with stated dependencies ... OK
* checking whether the package can be unloaded cleanly ... OK
* checking whether the namespace can be loaded with stated dependencies ... OK
* checking whether the namespace can be unloaded cleanly ... OK
* checking whether startup messages can be suppressed ... OK
* checking dependencies in R code ... OK
* checking S3 generic/method consistency ... OK
* checking replacement functions ... OK
* checking foreign function calls ... OK
* checking R code for possible problems ... OK
* checking Rd files ... OK
* checking Rd metadata ... OK
* checking Rd cross-references ... OK
* checking for missing documentation entries ... OK
* checking for code/documentation mismatches ... OK
* checking Rd \usage sections ... OK
* checking Rd contents ... OK
* checking for unstated dependencies in examples ... OK
* checking files in ‘vignettes’ ... OK
* checking examples ... OK
* checking for unstated dependencies in ‘tests’ ... OK
* checking tests ...
Running ‘spelling.R’
Running ‘testthat.R’
OK
* checking for unstated dependencies in vignettes ... OK
* checking package vignettes ... OK
* checking running R code from vignettes ... SKIPPED
* checking re-building of vignette outputs ... SKIPPED
* checking PDF version of manual ... OK
* DONE
Status: OK
metabinR.Rcheck/00install.out
############################################################################## ############################################################################## ### ### Running command: ### ### /Library/Frameworks/R.framework/Resources/bin/R CMD INSTALL metabinR ### ############################################################################## ############################################################################## * installing to library ‘/Library/Frameworks/R.framework/Versions/4.6-arm64/Resources/library’ * installing *source* package ‘metabinR’ ... ** this is package ‘metabinR’ version ‘1.13.0’ ** using staged installation ** R ** inst ** byte-compile and prepare package for lazy loading ** help *** installing help indices ** building package indices ** installing vignettes ** testing if installed package can be loaded from temporary location ** testing if installed package can be loaded from final location ** testing if installed package keeps a record of temporary installation path * DONE (metabinR)
metabinR.Rcheck/tests/spelling.Rout
R Under development (unstable) (2025-11-04 r88984) -- "Unsuffered Consequences"
Copyright (C) 2025 The R Foundation for Statistical Computing
Platform: aarch64-apple-darwin20
R is free software and comes with ABSOLUTELY NO WARRANTY.
You are welcome to redistribute it under certain conditions.
Type 'license()' or 'licence()' for distribution details.
R is a collaborative project with many contributors.
Type 'contributors()' for more information and
'citation()' on how to cite R or R packages in publications.
Type 'demo()' for some demos, 'help()' for on-line help, or
'help.start()' for an HTML browser interface to help.
Type 'q()' to quit R.
> if(requireNamespace('spelling', quietly = TRUE))
+ spelling::spell_check_test(vignettes = TRUE, error = FALSE,
+ skip_on_cran = TRUE)
All Done!
>
> proc.time()
user system elapsed
0.084 0.029 0.106
metabinR.Rcheck/tests/testthat.Rout
R Under development (unstable) (2025-11-04 r88984) -- "Unsuffered Consequences"
Copyright (C) 2025 The R Foundation for Statistical Computing
Platform: aarch64-apple-darwin20
R is free software and comes with ABSOLUTELY NO WARRANTY.
You are welcome to redistribute it under certain conditions.
Type 'license()' or 'licence()' for distribution details.
R is a collaborative project with many contributors.
Type 'contributors()' for more information and
'citation()' on how to cite R or R packages in publications.
Type 'demo()' for some demos, 'help()' for on-line help, or
'help.start()' for an HTML browser interface to help.
Type 'q()' to quit R.
> library(testthat)
> library(metabinR)
>
> test_check("metabinR")
version MTxAB =Wed Nov 12 15:16:41 EST 2025
cpus=24
using=1
2025/11/12 19:23:05 Using Dictionary ORIGINAL
2025/11/12 19:23:05 START of AB Counting
2025/11/12 19:23:05 FastaManager: START READ
2025/11/12 19:23:05 SequenceProcessor: 0 AB_KMERCOUNT START
CHUNK_SIZE=67108864
2025/11/12 19:23:05 FastaManager: lines read 53328
2025/11/12 19:23:05 FastaManager: END READ
2025/11/12 19:23:05 FastaManager: FASTA
2025/11/12 19:23:06 SequenceProcessor: 0 AB_KMERCOUNT EXIT
2025/11/12 19:23:06 END of AB Counting
2025/11/12 19:23:06 Loaded sequences: 26664
2025/11/12 19:23:06 Total kmers(before remove): 65536
##### Heap utilization statistics [GB] #####
Max Memory=0.5
Current Total Memory=0.5
Current Used Memory=0.277
Current Free Memory=0.223
############################################
2025/11/12 19:23:06
Unique: 0
Distinct: 65536
Total: 7625904
MaxCount: 1574
2025/11/12 19:23:06 START of EMsync
Run=1
Run=2
Run=3
Run=4
Run=5
Run=6
Run=7
Run=8
Run=9
Run=10
Run=11
Run=12
Run=13
Run=14
Run=15
Run=16
Run=17
Run=18
Run=19
Run=20
Run=21
Run=22
Run=23
Run=24
Run=25
2025/11/12 19:23:06 Runs=25
2025/11/12 19:23:06 END of EMsync
2025/11/12 19:23:06 START of Creating AB Cluster Vectors
Cluster 1 Abundance=241.01134335779187 Length=16168.173737759447 LowLimit=163 HighLimit=318
Cluster 2 Abundance=75.538888587297 Length=49367.82626224055 LowLimit=32 HighLimit=118
2025/11/12 19:23:06 Trove size/4=18022
2025/11/12 19:23:06 Trove size/4=18022
2025/11/12 19:23:06 Cluster 1 size in kmers=65536 norm=126.50589485137961
2025/11/12 19:23:06 Cluster 2 size in kmers=65536 norm=221.81983091435748
2025/11/12 19:23:06 END of Creating AB Cluster Vectors
cpus=24
using=1
2025/11/12 19:23:06 START of AB Binning
2025/11/12 19:23:06 FastaManager: START READ
2025/11/12 19:23:06 SequenceProcessor: 0 AB_BINNING START
2025/11/12 19:23:06 FastaManager: lines read 53328
2025/11/12 19:23:06 FastaManager: END READ
2025/11/12 19:23:06 FastaManager: FASTA
2025/11/12 19:23:07 SequenceProcessor: 0 AB_BINNING EXIT
2025/11/12 19:23:07 END of AB Binning
Clustered reads:
AB Cluster 1: 19871
AB Cluster 2: 6793
##### Heap utilization statistics [GB] #####
Max Memory=0.5
Current Total Memory=0.5
Current Used Memory=0.362
Current Free Memory=0.138
############################################
version MTxCB =Wed Nov 12 15:16:41 EST 2025
cpus=24
using=1
2025/11/12 19:23:07 START of CB Counting
2025/11/12 19:23:07 FastaManager: START READ
2025/11/12 19:23:07 SequenceProcessor: 0 CB_SEQUENCEVECTORBUILD START
2025/11/12 19:23:08 FastaManager: lines read 53328
2025/11/12 19:23:08 FastaManager: END READ
2025/11/12 19:23:08 FastaManager: FASTA
2025/11/12 19:23:08 SequenceProcessor: 0 CB_SEQUENCEVECTORBUILD EXIT
2025/11/12 19:23:08 END of CB Counting
2025/11/12 19:23:08 Loaded sequences: 26664
##### Heap utilization statistics [GB] #####
Max Memory=0.5
Current Total Memory=0.5
Current Used Memory=0.427
Current Free Memory=0.073
############################################
cpus=24
using=1
2025/11/12 19:23:08 START of Creating CB Clusters Size=26664
K-Means clustering started
... centers initialized
... concurrent processing mode with 1 subtask threads
... iteration 1 moves = 5110
... iteration 2 moves = 574
... iteration 3 moves = 149
... iteration 4 moves = 89
... iteration 5 moves = 57
... iteration 6 moves = 35
... iteration 7 moves = 38
... iteration 8 moves = 30
... iteration 9 moves = 15
... iteration 10 moves = 8
... iteration 11 moves = 16
... iteration 12 moves = 6
... iteration 13 moves = 7
... iteration 14 moves = 1
... iteration 15 moves = 0
...end. 3.026 seconds.
2025/11/12 19:23:11 : kMeans cleanup.
2025/11/12 19:23:11 END of Creating CB Clusters.
cpus=24
using=1
2025/11/12 19:23:11 START of CB Binning
2025/11/12 19:23:11 FastaManager: START READ
2025/11/12 19:23:11 SequenceProcessor: 0 CB_BINNING START
2025/11/12 19:23:11 FastaManager: lines read 53328
2025/11/12 19:23:11 FastaManager: END READ
2025/11/12 19:23:11 FastaManager: FASTA
2025/11/12 19:23:11 SequenceProcessor: 0 CB_BINNING EXIT
Clustered reads:
CB Cluster 1: 9303
CB Cluster 2: 17361
##### Heap utilization statistics [GB] #####
Max Memory=0.5
Current Total Memory=0.479
Current Used Memory=0.197
Current Free Memory=0.281
############################################
version MTxABxCB =Wed Nov 12 15:16:41 EST 2025
cpus=24
using=1
2025/11/12 19:23:11 Using Dictionary ORIGINAL
2025/11/12 19:23:11 START of AB Counting
2025/11/12 19:23:11 FastaManager: START READ
2025/11/12 19:23:11 SequenceProcessor: 0 AB_KMERCOUNT START
2025/11/12 19:23:11 FastaManager: lines read 53328
2025/11/12 19:23:11 FastaManager: END READ
2025/11/12 19:23:11 FastaManager: FASTA
2025/11/12 19:23:12 SequenceProcessor: 0 AB_KMERCOUNT EXIT
2025/11/12 19:23:12 END of AB Counting
2025/11/12 19:23:12 Loaded sequences: 26664
2025/11/12 19:23:12 Distinct kmers(before remove): 65536
##### Heap utilization statistics [GB] #####
Max Memory=0.5
Current Total Memory=0.479
Current Used Memory=0.34
Current Free Memory=0.138
############################################
2025/11/12 19:23:12
Unique: 0
Distinct: 65536
Total: 7625904
MaxCount: 1574
2025/11/12 19:23:12 START of EMsync
Run=1
Run=2
Run=3
Run=4
Run=5
Run=6
Run=7
Run=8
Run=9
Run=10
Run=11
Run=12
Run=13
Run=14
Run=15
Run=16
Run=17
Run=18
Run=19
Run=20
Run=21
Run=22
Run=23
Run=24
Run=25
2025/11/12 19:23:12 Runs=25
2025/11/12 19:23:12 END of EMsync
2025/11/12 19:23:12 Filter before=2
2025/11/12 19:23:12 Filter after=2
2025/11/12 19:23:12 START of Creating AB Cluster Vectors
Cluster 1 Abundance=241.01134335779187 Length=16168.173737759447 LowLimit=163 HighLimit=318
Cluster 2 Abundance=75.538888587297 Length=49367.82626224055 LowLimit=32 HighLimit=118
2025/11/12 19:23:12 Trove size/4=18022
2025/11/12 19:23:12 Trove size/4=18022
2025/11/12 19:23:12 Cluster 1 size in kmers=65536 norm=126.50589485137961
2025/11/12 19:23:12 Cluster 2 size in kmers=65536 norm=221.81983091435748
2025/11/12 19:23:12 END of Creating AB Cluster Vectors
cpus=24
using=1
2025/11/12 19:23:12 START of AB Binning
2025/11/12 19:23:12 FastaManager: START READ
2025/11/12 19:23:12 SequenceProcessor: 0 AB_BINNING START
2025/11/12 19:23:12 FastaManager: lines read 53328
2025/11/12 19:23:12 FastaManager: END READ
2025/11/12 19:23:12 FastaManager: FASTA
2025/11/12 19:23:13 SequenceProcessor: 0 AB_BINNING EXIT
2025/11/12 19:23:13 END of AB Binning
cpus=24
using=1
2025/11/12 19:23:13 START of CB Counting
2025/11/12 19:23:13 FastaManager: START READ
2025/11/12 19:23:13 SequenceProcessor: 0 CB_SEQUENCEVECTORBUILD START
2025/11/12 19:23:13 FastaManager: lines read 53328
2025/11/12 19:23:13 FastaManager: END READ
2025/11/12 19:23:13 FastaManager: FASTA
2025/11/12 19:23:14 SequenceProcessor: 0 CB_SEQUENCEVECTORBUILD EXIT
2025/11/12 19:23:14 END of CB Counting
2025/11/12 19:23:14 Loaded sequences: 26664
##### Heap utilization statistics [GB] #####
Max Memory=0.5
Current Total Memory=0.5
Current Used Memory=0.282
Current Free Memory=0.218
############################################
2025/11/12 19:23:14 AB Cluster=1 Size=19871
2025/11/12 19:23:14 AB Cluster=2 Size=6793
cpus=24
using=1
ABid size abundance EMLength newLength EMspecies newspecies
----- ---- --------- -------- --------- --------- ----------
1 19,871 241.01134 16,168 12,367 1 1
2025/11/12 19:23:14 START of Creating CB Clusters for AB Cluster=1 Size=19871
K-Means clustering started
... centers initialized
... concurrent processing mode with 1 subtask threads
... iteration 1 moves = 0
...end. 1.35 seconds.
2025/11/12 19:23:15 : kMeans cleanup.
2025/11/12 19:23:15 END of Creating CB Clusters for AB Cluster=1
cpus=24
using=1
ABid size abundance EMLength newLength EMspecies newspecies
----- ---- --------- -------- --------- --------- ----------
2 6,793 75.53889 49,367 13,489 1 1
2025/11/12 19:23:15 START of Creating CB Clusters for AB Cluster=2 Size=6793
K-Means clustering started
... centers initialized
... concurrent processing mode with 1 subtask threads
... iteration 1 moves = 0
...end. 0.47 seconds.
2025/11/12 19:23:15 : kMeans cleanup.
2025/11/12 19:23:15 END of Creating CB Clusters for AB Cluster=2
##### Heap utilization statistics [GB] #####
Max Memory=0.5
Current Total Memory=0.5
Current Used Memory=0.313
Current Free Memory=0.187
############################################
cpus=24
using=1
2025/11/12 19:23:15 START of CB Binning
2025/11/12 19:23:15 FastaManager: START READ
2025/11/12 19:23:15 SequenceProcessor: 0 CB_BINNING START
2025/11/12 19:23:15 FastaManager: lines read 53328
2025/11/12 19:23:15 FastaManager: END READ
2025/11/12 19:23:15 FastaManager: FASTA
2025/11/12 19:23:16 SequenceProcessor: 0 CB_BINNING EXIT
Clustered reads:
ABxCB Cluster 1: 19871
ABxCB Cluster 2: 6793
##### Heap utilization statistics [GB] #####
Max Memory=0.5
Current Total Memory=0.5
Current Used Memory=0.44
Current Free Memory=0.06
############################################
[ FAIL 0 | WARN 0 | SKIP 0 | PASS 52 ]
>
> proc.time()
user system elapsed
15.573 0.626 11.167
metabinR.Rcheck/metabinR-Ex.timings
| name | user | system | elapsed | |
| abundance_based_binning | 3.507 | 0.448 | 2.755 | |
| composition_based_binning | 3.002 | 0.353 | 1.182 | |
| hierarchical_binning | 2.408 | 0.286 | 2.027 | |