Back to Multiple platform build/check report for BioC 3.23:   simplified   long
ABCDEFGHIJ[K]LMNOPQRSTUVWXYZ

This page was generated on 2025-11-22 11:38 -0500 (Sat, 22 Nov 2025).

HostnameOSArch (*)R versionInstalled pkgs
nebbiolo1Linux (Ubuntu 24.04.3 LTS)x86_64R Under development (unstable) (2025-10-20 r88955) -- "Unsuffered Consequences" 4829
lconwaymacOS 12.7.6 Montereyx86_64R Under development (unstable) (2025-10-21 r88958) -- "Unsuffered Consequences" 4603
kjohnson3macOS 13.7.7 Venturaarm64R Under development (unstable) (2025-11-04 r88984) -- "Unsuffered Consequences" 4567
Click on any hostname to see more info about the system (e.g. compilers)      (*) as reported by 'uname -p', except on Windows and Mac OS X

Package 1094/2327HostnameOS / ArchINSTALLBUILDCHECKBUILD BIN
karyoploteR 1.37.0  (landing page)
Bernat Gel
Snapshot Date: 2025-11-21 13:40 -0500 (Fri, 21 Nov 2025)
git_url: https://git.bioconductor.org/packages/karyoploteR
git_branch: devel
git_last_commit: fd32b1e
git_last_commit_date: 2025-10-29 10:36:38 -0500 (Wed, 29 Oct 2025)
nebbiolo1Linux (Ubuntu 24.04.3 LTS) / x86_64  OK    OK    OK  UNNEEDED, same version is already published
lconwaymacOS 12.7.6 Monterey / x86_64  OK    OK    OK    OK  NO, package depends on 'GenomicRanges' which is only available as a source package that needs compilation
kjohnson3macOS 13.7.7 Ventura / arm64  OK    OK    OK    OK  NO, package depends on 'GenomicRanges' which is only available as a source package that needs compilation


CHECK results for karyoploteR on lconway

To the developers/maintainers of the karyoploteR package:
- Allow up to 24 hours (and sometimes 48 hours) for your latest push to git@git.bioconductor.org:packages/karyoploteR.git to reflect on this report. See Troubleshooting Build Report for more information.
- Use the following Renviron settings to reproduce errors and warnings.
- If 'R CMD check' started to fail recently on the Linux builder(s) over a missing dependency, add the missing dependency to 'Suggests:' in your DESCRIPTION file. See Renviron.bioc for more information.

raw results


Summary

Package: karyoploteR
Version: 1.37.0
Command: /Library/Frameworks/R.framework/Resources/bin/R CMD check --install=check:karyoploteR.install-out.txt --library=/Library/Frameworks/R.framework/Resources/library --no-vignettes --timings karyoploteR_1.37.0.tar.gz
StartedAt: 2025-11-21 21:58:05 -0500 (Fri, 21 Nov 2025)
EndedAt: 2025-11-21 22:10:18 -0500 (Fri, 21 Nov 2025)
EllapsedTime: 732.7 seconds
RetCode: 0
Status:   OK  
CheckDir: karyoploteR.Rcheck
Warnings: 0

Command output

##############################################################################
##############################################################################
###
### Running command:
###
###   /Library/Frameworks/R.framework/Resources/bin/R CMD check --install=check:karyoploteR.install-out.txt --library=/Library/Frameworks/R.framework/Resources/library --no-vignettes --timings karyoploteR_1.37.0.tar.gz
###
##############################################################################
##############################################################################


* using log directory ‘/Users/biocbuild/bbs-3.23-bioc/meat/karyoploteR.Rcheck’
* using R Under development (unstable) (2025-10-21 r88958)
* using platform: x86_64-apple-darwin20
* R was compiled by
    Apple clang version 14.0.0 (clang-1400.0.29.202)
    GNU Fortran (GCC) 14.2.0
* running under: macOS Ventura 13.7.8
* using session charset: UTF-8
* using option ‘--no-vignettes’
* checking for file ‘karyoploteR/DESCRIPTION’ ... OK
* checking extension type ... Package
* this is package ‘karyoploteR’ version ‘1.37.0’
* package encoding: UTF-8
* checking package namespace information ... OK
* checking package dependencies ... OK
* checking if this is a source package ... OK
* checking if there is a namespace ... OK
* checking for hidden files and directories ... OK
* checking for portable file names ... OK
* checking for sufficient/correct file permissions ... OK
* checking whether package ‘karyoploteR’ can be installed ... OK
* checking installed package size ... OK
* checking package directory ... OK
* checking ‘build’ directory ... OK
* checking DESCRIPTION meta-information ... NOTE
Packages listed in more than one of Depends, Imports, Suggests, Enhances:
  ‘regioneR’ ‘GenomicRanges’
A package should be listed in only one of these fields.
* checking top-level files ... OK
* checking for left-over files ... OK
* checking index information ... OK
* checking package subdirectories ... NOTE
Problems with news in ‘NEWS’:
  Cannot process chunk/lines:
    NEW FEATURES
  Cannot process chunk/lines:
    SIGNIFICANT USER-VISIBLE CHANGES
  Cannot process chunk/lines:
    NEW FEATURES
  Cannot process chunk/lines:
    SIGNIFICANT USER-VISIBLE CHANGES
* checking code files for non-ASCII characters ... OK
* checking R files for syntax errors ... OK
* checking whether the package can be loaded ... OK
* checking whether the package can be loaded with stated dependencies ... OK
* checking whether the package can be unloaded cleanly ... OK
* checking whether the namespace can be loaded with stated dependencies ... OK
* checking whether the namespace can be unloaded cleanly ... OK
* checking whether startup messages can be suppressed ... OK
* checking dependencies in R code ... OK
* checking S3 generic/method consistency ... OK
* checking replacement functions ... OK
* checking foreign function calls ... OK
* checking R code for possible problems ... OK
* checking Rd files ... NOTE
checkRd: (-1) kpPlotBAMCoverage.Rd:48: Lost braces
    48 | There's more information at the \url{https://bernatgel.github.io/karyoploter_tutorial/}{karyoploteR tutorial}.
       |                                                                                        ^
checkRd: (-1) kpPlotBAMDensity.Rd:48: Lost braces
    48 | There's more information at the \url{https://bernatgel.github.io/karyoploter_tutorial/}{karyoploteR tutorial}.
       |                                                                                        ^
checkRd: (-1) kpPlotCoverage.Rd:46: Lost braces
    46 |  There's more information at the \url{https://bernatgel.github.io/karyoploter_tutorial/}{karyoploteR tutorial}.
       |                                                                                         ^
checkRd: (-1) kpPlotDensity.Rd:42: Lost braces
    42 | There's more information at the \url{https://bernatgel.github.io/karyoploter_tutorial/}{karyoploteR tutorial}.
       |                                                                                        ^
checkRd: (-1) kpPlotManhattan.Rd:80: Lost braces
    80 | There's more information at the \url{https://bernatgel.github.io/karyoploter_tutorial/}{karyoploteR tutorial}.
       |                                                                                        ^
checkRd: (-1) kpPlotMarkers.Rd:81: Lost braces
    81 | There's more information at the \url{https://bernatgel.github.io/karyoploter_tutorial/}{karyoploteR tutorial}.
       |                                                                                        ^
checkRd: (-1) kpPlotRainfall.Rd:47: Lost braces
    47 | There's more information at the \url{https://bernatgel.github.io/karyoploter_tutorial/}{karyoploteR tutorial}.
       |                                                                                        ^
checkRd: (-1) kpPoints.Rd:54: Lost braces
    54 | There's more information at the \url{https://bernatgel.github.io/karyoploter_tutorial/}{karyoploteR tutorial}.
       |                                                                                        ^
checkRd: (-1) kpRect.Rd:55: Lost braces
    55 | There's more information at the \url{https://bernatgel.github.io/karyoploter_tutorial/}{karyoploteR tutorial}.
       |                                                                                        ^
checkRd: (-1) plotKaryotype.Rd:61: Lost braces
    61 | There's more information at the \url{https://bernatgel.github.io/karyoploter_tutorial/}{karyoploteR tutorial}.
       |                                                                                        ^
* checking Rd metadata ... OK
* checking Rd cross-references ... NOTE
Found the following Rd file(s) with Rd \link{} targets missing package
anchors:
  getCytobands.Rd: GenomicRanges, memoise, forget
  kpPlotBAMCoverage.Rd: bamsignals
  kpPlotBAMDensity.Rd: Rsamtools
  kpPlotBigWig.Rd: BigWigFile
Please provide package anchors for all Rd \link{} targets not in the
package itself and the base packages.
* checking for missing documentation entries ... OK
* checking for code/documentation mismatches ... OK
* checking Rd \usage sections ... OK
* checking Rd contents ... OK
* checking for unstated dependencies in examples ... OK
* checking R/sysdata.rda ... OK
* checking files in ‘vignettes’ ... OK
* checking examples ... OK
Examples with CPU (user + system) or elapsed time > 5s
                         user system elapsed
mergeTranscripts      104.928  1.255 107.229
kpPlotGenes            82.230  1.507  84.420
kpPlotDensity          43.565  3.692  47.759
kpPlotHorizon          16.553  0.135  16.826
kpPlotRegions          12.851  0.129  13.111
kpPlotBAMCoverage       7.713  0.300   8.075
kpPlotTranscripts       7.549  0.065   7.670
makeGenesDataFromTxDb   7.338  0.178   7.575
addGeneNames            6.258  0.226   6.535
kpPlotManhattan         5.003  0.148   5.201
* checking for unstated dependencies in ‘tests’ ... OK
* checking tests ...
  Running ‘testthat.R’
 OK
* checking for unstated dependencies in vignettes ... OK
* checking package vignettes ... OK
* checking running R code from vignettes ... SKIPPED
* checking re-building of vignette outputs ... SKIPPED
* checking PDF version of manual ... OK
* DONE

Status: 4 NOTEs
See
  ‘/Users/biocbuild/bbs-3.23-bioc/meat/karyoploteR.Rcheck/00check.log’
for details.


Installation output

karyoploteR.Rcheck/00install.out

##############################################################################
##############################################################################
###
### Running command:
###
###   /Library/Frameworks/R.framework/Resources/bin/R CMD INSTALL karyoploteR
###
##############################################################################
##############################################################################


* installing to library ‘/Library/Frameworks/R.framework/Versions/4.6-x86_64/Resources/library’
* installing *source* package ‘karyoploteR’ ...
** this is package ‘karyoploteR’ version ‘1.37.0’
** using staged installation
** R
** inst
** byte-compile and prepare package for lazy loading
** help
*** installing help indices
** building package indices
** installing vignettes
** testing if installed package can be loaded from temporary location
** testing if installed package can be loaded from final location
** testing if installed package keeps a record of temporary installation path
* DONE (karyoploteR)

Tests output

karyoploteR.Rcheck/tests/testthat.Rout


R Under development (unstable) (2025-10-21 r88958) -- "Unsuffered Consequences"
Copyright (C) 2025 The R Foundation for Statistical Computing
Platform: x86_64-apple-darwin20

R is free software and comes with ABSOLUTELY NO WARRANTY.
You are welcome to redistribute it under certain conditions.
Type 'license()' or 'licence()' for distribution details.

R is a collaborative project with many contributors.
Type 'contributors()' for more information and
'citation()' on how to cite R or R packages in publications.

Type 'demo()' for some demos, 'help()' for on-line help, or
'help.start()' for an HTML browser interface to help.
Type 'q()' to quit R.

> library(testthat)
> library(karyoploteR)
Loading required package: regioneR
Loading required package: GenomicRanges
Loading required package: stats4
Loading required package: BiocGenerics
Loading required package: generics

Attaching package: 'generics'

The following objects are masked from 'package:base':

    as.difftime, as.factor, as.ordered, intersect, is.element, setdiff,
    setequal, union


Attaching package: 'BiocGenerics'

The following objects are masked from 'package:stats':

    IQR, mad, sd, var, xtabs

The following objects are masked from 'package:base':

    Filter, Find, Map, Position, Reduce, anyDuplicated, aperm, append,
    as.data.frame, basename, cbind, colnames, dirname, do.call,
    duplicated, eval, evalq, get, grep, grepl, is.unsorted, lapply,
    mapply, match, mget, order, paste, pmax, pmax.int, pmin, pmin.int,
    rank, rbind, rownames, sapply, saveRDS, table, tapply, unique,
    unsplit, which.max, which.min

Loading required package: S4Vectors

Attaching package: 'S4Vectors'

The following object is masked from 'package:utils':

    findMatches

The following objects are masked from 'package:base':

    I, expand.grid, unname

Loading required package: IRanges
Loading required package: Seqinfo
> 
> test_check("karyoploteR")
[ FAIL 0 | WARN 0 | SKIP 3 | PASS 177 ]

══ Skipped tests (3) ═══════════════════════════════════════════════════════════
• empty test (3): 'test_plotKaryotype.R:27:1', 'test_plotKaryotype.R:34:1',
  'test_plotKaryotype.R:44:1'

[ FAIL 0 | WARN 0 | SKIP 3 | PASS 177 ]
> 
> proc.time()
   user  system elapsed 
 20.918   1.237  22.396 

Example timings

karyoploteR.Rcheck/karyoploteR-Ex.timings

nameusersystemelapsed
addGeneNames6.2580.2266.535
autotrack0.0010.0000.001
colByCategory0.0020.0000.003
colByChr0.6480.0200.675
colByRegion1.2340.1371.381
colByValue0.2310.0060.238
darker0.0010.0010.001
filterParams0.0010.0000.001
findIntersections0.1430.0020.146
getChromosomeNamesBoundingBox0.0620.0020.065
getColorSchemas0.0020.0030.004
getCytobandColors0.0000.0010.002
getCytobands0.0010.0000.001
getDataPanelBoundingBox0.0590.0020.062
getDefaultPlotParams0.0900.0090.099
getMainTitleBoundingBox0.0520.0020.055
getTextSize0.1210.0020.125
getVariantsColors0.0000.0000.001
horizonColors0.0050.0000.005
is.color0.0010.0000.001
kpAbline2.7701.1974.011
kpAddBaseNumbers0.4570.0050.467
kpAddChromosomeNames0.0450.0010.047
kpAddChromosomeSeparators0.6460.0070.661
kpAddColorRect0.1740.0020.178
kpAddCytobandLabels0.4340.0060.444
kpAddCytobands0.0400.0010.041
kpAddCytobandsAsLine0.0880.0030.091
kpAddLabels0.5230.0080.535
kpAddMainTitle0.0450.0020.047
kpArea0.4040.0060.411
kpArrows0.6390.0090.652
kpAxis0.3720.0050.381
kpBars0.2350.0040.240
kpDataBackground0.2860.0030.289
kpHeatmap0.1750.0040.183
kpLines0.3320.0040.339
kpPlotBAMCoverage7.7130.3008.075
kpPlotBAMDensity1.6700.0531.745
kpPlotBigWig0.9700.0411.023
kpPlotCoverage0.4520.0060.461
kpPlotDensity43.565 3.69247.759
kpPlotGenes82.230 1.50784.420
kpPlotHorizon16.553 0.13516.826
kpPlotLinks1.1720.0141.200
kpPlotLoess0.0740.0020.079
kpPlotManhattan5.0030.1485.201
kpPlotMarkers1.9090.0351.965
kpPlotNames0.1340.0040.139
kpPlotRainfall0.8780.0190.904
kpPlotRegions12.851 0.12913.111
kpPlotRibbon0.1060.0030.110
kpPlotTranscripts7.5490.0657.670
kpPoints0.2890.0060.297
kpPolygon0.2660.0050.273
kpRect0.8790.0070.891
kpSegments0.6090.0070.622
kpText0.3030.0050.310
lighter0.0010.0000.001
makeGenesDataFromTxDb7.3380.1787.575
mergeTranscripts104.928 1.255107.229
plotDefaultPlotParams0.3010.0030.310
plotKaryotype1.2090.0361.274
plotPalettes0.0190.0040.024
prepareParameters20.0480.0030.052
prepareParameters40.0400.0020.042
processClipping0.0440.0010.045
transparent0.0000.0000.001