| Back to Build/check report for BioC 3.23: simplified long |
|
This page was generated on 2025-11-12 11:32 -0500 (Wed, 12 Nov 2025).
| Hostname | OS | Arch (*) | R version | Installed pkgs |
|---|---|---|---|---|
| nebbiolo1 | Linux (Ubuntu 24.04.3 LTS) | x86_64 | R Under development (unstable) (2025-10-20 r88955) -- "Unsuffered Consequences" | 4823 |
| Click on any hostname to see more info about the system (e.g. compilers) (*) as reported by 'uname -p', except on Windows and Mac OS X | ||||
| Package 872/2325 | Hostname | OS / Arch | INSTALL | BUILD | CHECK | BUILD BIN | ||||||||
| ggtree 4.1.1 (landing page) Guangchuang Yu
| nebbiolo1 | Linux (Ubuntu 24.04.3 LTS) / x86_64 | OK | OK | OK | |||||||||
|
To the developers/maintainers of the ggtree package: - Allow up to 24 hours (and sometimes 48 hours) for your latest push to git@git.bioconductor.org:packages/ggtree.git to reflect on this report. See Troubleshooting Build Report for more information. - Use the following Renviron settings to reproduce errors and warnings. - If 'R CMD check' started to fail recently on the Linux builder(s) over a missing dependency, add the missing dependency to 'Suggests:' in your DESCRIPTION file. See Renviron.bioc for more information. |
| Package: ggtree |
| Version: 4.1.1 |
| Command: /home/biocbuild/bbs-3.23-bioc/R/bin/R CMD check --install=check:ggtree.install-out.txt --library=/home/biocbuild/bbs-3.23-bioc/R/site-library --timings ggtree_4.1.1.tar.gz |
| StartedAt: 2025-11-12 00:02:17 -0500 (Wed, 12 Nov 2025) |
| EndedAt: 2025-11-12 00:03:49 -0500 (Wed, 12 Nov 2025) |
| EllapsedTime: 92.2 seconds |
| RetCode: 0 |
| Status: OK |
| CheckDir: ggtree.Rcheck |
| Warnings: 0 |
##############################################################################
##############################################################################
###
### Running command:
###
### /home/biocbuild/bbs-3.23-bioc/R/bin/R CMD check --install=check:ggtree.install-out.txt --library=/home/biocbuild/bbs-3.23-bioc/R/site-library --timings ggtree_4.1.1.tar.gz
###
##############################################################################
##############################################################################
* using log directory ‘/home/biocbuild/bbs-3.23-bioc/meat/ggtree.Rcheck’
* using R Under development (unstable) (2025-10-20 r88955)
* using platform: x86_64-pc-linux-gnu
* R was compiled by
gcc (Ubuntu 13.3.0-6ubuntu2~24.04) 13.3.0
GNU Fortran (Ubuntu 13.3.0-6ubuntu2~24.04) 13.3.0
* running under: Ubuntu 24.04.3 LTS
* using session charset: UTF-8
* checking for file ‘ggtree/DESCRIPTION’ ... OK
* checking extension type ... Package
* this is package ‘ggtree’ version ‘4.1.1’
* package encoding: UTF-8
* checking package namespace information ... OK
* checking package dependencies ... OK
* checking if this is a source package ... OK
* checking if there is a namespace ... OK
* checking for hidden files and directories ... OK
* checking for portable file names ... OK
* checking for sufficient/correct file permissions ... OK
* checking whether package ‘ggtree’ can be installed ... OK
* checking installed package size ... OK
* checking package directory ... OK
* checking ‘build’ directory ... OK
* checking DESCRIPTION meta-information ... OK
* checking top-level files ... OK
* checking for left-over files ... OK
* checking index information ... OK
* checking package subdirectories ... OK
* checking code files for non-ASCII characters ... OK
* checking R files for syntax errors ... OK
* checking whether the package can be loaded ... OK
* checking whether the package can be loaded with stated dependencies ... OK
* checking whether the package can be unloaded cleanly ... OK
* checking whether the namespace can be loaded with stated dependencies ... OK
* checking whether the namespace can be unloaded cleanly ... OK
* checking loading without being on the library search path ... OK
* checking whether startup messages can be suppressed ... OK
* checking dependencies in R code ... OK
* checking S3 generic/method consistency ... OK
* checking replacement functions ... OK
* checking foreign function calls ... OK
* checking R code for possible problems ... OK
* checking Rd files ... OK
* checking Rd metadata ... OK
* checking Rd cross-references ... NOTE
Non-topic package-anchored link(s) in Rd file 'reexports.Rd':
‘[ggfun:attacher]{%<+%}’ ‘[ggplot2:scale_manual]{scale_color_manual}’
‘[ggplot2:scale_manual]{scale_colour_manual}’
‘[ggplot2:scale_manual]{scale_fill_manual}’
‘[ggplot2:scale_continuous]{scale_x_continuous}’
‘[magrittr:pipe]{%>%}’
See section 'Cross-references' in the 'Writing R Extensions' manual.
* checking for missing documentation entries ... OK
* checking for code/documentation mismatches ... OK
* checking Rd \usage sections ... OK
* checking Rd contents ... OK
* checking for unstated dependencies in examples ... OK
* checking files in ‘vignettes’ ... OK
* checking examples ... OK
Examples with CPU (user + system) or elapsed time > 5s
user system elapsed
geom-hilight 8.001 0.101 8.188
* checking for unstated dependencies in ‘tests’ ... OK
* checking tests ...
Running ‘testthat.R’
OK
* checking for unstated dependencies in vignettes ... OK
* checking package vignettes ... OK
* checking re-building of vignette outputs ... OK
* checking PDF version of manual ... OK
* DONE
Status: 1 NOTE
See
‘/home/biocbuild/bbs-3.23-bioc/meat/ggtree.Rcheck/00check.log’
for details.
ggtree.Rcheck/00install.out
############################################################################## ############################################################################## ### ### Running command: ### ### /home/biocbuild/bbs-3.23-bioc/R/bin/R CMD INSTALL ggtree ### ############################################################################## ############################################################################## * installing to library ‘/home/biocbuild/bbs-3.23-bioc/R/site-library’ * installing *source* package ‘ggtree’ ... ** this is package ‘ggtree’ version ‘4.1.1’ ** using staged installation ** R ** inst ** byte-compile and prepare package for lazy loading ** help *** installing help indices ** building package indices ** installing vignettes ** testing if installed package can be loaded from temporary location ** testing if installed package can be loaded from final location ** testing if installed package keeps a record of temporary installation path * DONE (ggtree)
ggtree.Rcheck/tests/testthat.Rout
R Under development (unstable) (2025-10-20 r88955) -- "Unsuffered Consequences"
Copyright (C) 2025 The R Foundation for Statistical Computing
Platform: x86_64-pc-linux-gnu
R is free software and comes with ABSOLUTELY NO WARRANTY.
You are welcome to redistribute it under certain conditions.
Type 'license()' or 'licence()' for distribution details.
R is a collaborative project with many contributors.
Type 'contributors()' for more information and
'citation()' on how to cite R or R packages in publications.
Type 'demo()' for some demos, 'help()' for on-line help, or
'help.start()' for an HTML browser interface to help.
Type 'q()' to quit R.
> library(testthat)
> library(ggtree)
ggtree v4.1.1 Learn more at https://yulab-smu.top/contribution-tree-data/
Please cite:
S Xu, Z Dai, P Guo, X Fu, S Liu, L Zhou, W Tang, T Feng, M Chen, L
Zhan, T Wu, E Hu, Y Jiang, X Bo, G Yu. ggtreeExtra: Compact
visualization of richly annotated phylogenetic data. Molecular Biology
and Evolution. 2021, 38(9):4039-4042. doi: 10.1093/molbev/msab166
>
> test_check("ggtree")
[ FAIL 0 | WARN 2 | SKIP 0 | PASS 14 ]
[ FAIL 0 | WARN 2 | SKIP 0 | PASS 14 ]
>
> proc.time()
user system elapsed
3.296 0.195 3.477
ggtree.Rcheck/ggtree-Ex.timings
| name | user | system | elapsed | |
| collapse | 0.618 | 0.059 | 0.677 | |
| expand | 0.299 | 0.001 | 0.299 | |
| facet-plot | 0.338 | 0.000 | 0.339 | |
| flip | 0.290 | 0.001 | 0.291 | |
| geom-hilight | 8.001 | 0.101 | 8.188 | |
| geom_balance | 0.367 | 0.000 | 0.368 | |
| geom_cladelab | 0.563 | 0.000 | 0.563 | |
| geom_label2 | 0.335 | 0.001 | 0.335 | |
| geom_point2 | 1.443 | 0.005 | 1.449 | |
| geom_rootedge | 1.319 | 0.040 | 1.359 | |
| geom_rootpoint | 0.578 | 0.001 | 0.580 | |
| geom_strip | 0.309 | 0.000 | 0.310 | |
| geom_striplab | 0.378 | 0.002 | 0.381 | |
| geom_tiplab | 0.286 | 0.000 | 0.287 | |
| geom_tiplab2 | 0.367 | 0.001 | 0.368 | |
| geom_tippoint | 0.288 | 0.000 | 0.287 | |
| geom_tree | 0.196 | 0.001 | 0.197 | |
| get_taxa_name | 0.15 | 0.00 | 0.15 | |
| ggdensitree | 3.383 | 0.035 | 3.419 | |
| ggexpand | 0.414 | 0.005 | 0.419 | |
| ggtree-format-painter | 0.346 | 0.001 | 0.347 | |
| ggtree | 0.305 | 0.000 | 0.305 | |
| label_pad | 0.001 | 0.000 | 0.000 | |
| open_tree | 0.448 | 0.003 | 0.451 | |
| reexports | 0.44 | 0.00 | 0.44 | |
| revts | 0.389 | 0.001 | 0.390 | |
| rotate | 0.524 | 0.002 | 0.526 | |
| rotate_tree | 0.375 | 0.017 | 0.392 | |
| scaleClade | 0.296 | 0.000 | 0.297 | |
| theme_tree | 0.303 | 0.000 | 0.303 | |
| theme_tree2 | 0.314 | 0.000 | 0.315 | |
| tree-layout | 1.628 | 0.001 | 1.628 | |
| viewClade | 0.342 | 0.000 | 0.342 | |
| xlim_expand | 0.373 | 0.000 | 0.372 | |
| xlim_tree | 0.381 | 0.001 | 0.381 | |
| zoomClade | 0 | 0 | 0 | |