Back to Build/check report for BioC 3.23:   simplified   long
ABCDEF[G]HIJKLMNOPQRSTUVWXYZ

This page was generated on 2025-11-12 11:32 -0500 (Wed, 12 Nov 2025).

HostnameOSArch (*)R versionInstalled pkgs
nebbiolo1Linux (Ubuntu 24.04.3 LTS)x86_64R Under development (unstable) (2025-10-20 r88955) -- "Unsuffered Consequences" 4823
Click on any hostname to see more info about the system (e.g. compilers)      (*) as reported by 'uname -p', except on Windows and Mac OS X

Package 796/2325HostnameOS / ArchINSTALLBUILDCHECKBUILD BIN
gDRutils 1.9.1  (landing page)
Arkadiusz Gladki
Snapshot Date: 2025-11-11 13:40 -0500 (Tue, 11 Nov 2025)
git_url: https://git.bioconductor.org/packages/gDRutils
git_branch: devel
git_last_commit: 4a412dc
git_last_commit_date: 2025-10-30 05:33:15 -0500 (Thu, 30 Oct 2025)
nebbiolo1Linux (Ubuntu 24.04.3 LTS) / x86_64  OK    OK    OK  UNNEEDED, same version is already published


CHECK results for gDRutils on nebbiolo1

To the developers/maintainers of the gDRutils package:
- Allow up to 24 hours (and sometimes 48 hours) for your latest push to git@git.bioconductor.org:packages/gDRutils.git to reflect on this report. See Troubleshooting Build Report for more information.
- Use the following Renviron settings to reproduce errors and warnings.
- If 'R CMD check' started to fail recently on the Linux builder(s) over a missing dependency, add the missing dependency to 'Suggests:' in your DESCRIPTION file. See Renviron.bioc for more information.

raw results


Summary

Package: gDRutils
Version: 1.9.1
Command: /home/biocbuild/bbs-3.23-bioc/R/bin/R CMD check --install=check:gDRutils.install-out.txt --library=/home/biocbuild/bbs-3.23-bioc/R/site-library --timings gDRutils_1.9.1.tar.gz
StartedAt: 2025-11-11 23:47:09 -0500 (Tue, 11 Nov 2025)
EndedAt: 2025-11-11 23:51:50 -0500 (Tue, 11 Nov 2025)
EllapsedTime: 280.5 seconds
RetCode: 0
Status:   OK  
CheckDir: gDRutils.Rcheck
Warnings: 0

Command output

##############################################################################
##############################################################################
###
### Running command:
###
###   /home/biocbuild/bbs-3.23-bioc/R/bin/R CMD check --install=check:gDRutils.install-out.txt --library=/home/biocbuild/bbs-3.23-bioc/R/site-library --timings gDRutils_1.9.1.tar.gz
###
##############################################################################
##############################################################################


* using log directory ‘/home/biocbuild/bbs-3.23-bioc/meat/gDRutils.Rcheck’
* using R Under development (unstable) (2025-10-20 r88955)
* using platform: x86_64-pc-linux-gnu
* R was compiled by
    gcc (Ubuntu 13.3.0-6ubuntu2~24.04) 13.3.0
    GNU Fortran (Ubuntu 13.3.0-6ubuntu2~24.04) 13.3.0
* running under: Ubuntu 24.04.3 LTS
* using session charset: UTF-8
* checking for file ‘gDRutils/DESCRIPTION’ ... OK
* checking extension type ... Package
* this is package ‘gDRutils’ version ‘1.9.1’
* package encoding: UTF-8
* checking package namespace information ... OK
* checking package dependencies ... OK
* checking if this is a source package ... OK
* checking if there is a namespace ... OK
* checking for hidden files and directories ... OK
* checking for portable file names ... OK
* checking for sufficient/correct file permissions ... OK
* checking whether package ‘gDRutils’ can be installed ... OK
* checking installed package size ... OK
* checking package directory ... OK
* checking ‘build’ directory ... OK
* checking DESCRIPTION meta-information ... OK
* checking top-level files ... OK
* checking for left-over files ... OK
* checking index information ... OK
* checking package subdirectories ... OK
* checking code files for non-ASCII characters ... OK
* checking R files for syntax errors ... OK
* checking whether the package can be loaded ... OK
* checking whether the package can be loaded with stated dependencies ... OK
* checking whether the package can be unloaded cleanly ... OK
* checking whether the namespace can be loaded with stated dependencies ... OK
* checking whether the namespace can be unloaded cleanly ... OK
* checking loading without being on the library search path ... OK
* checking dependencies in R code ... OK
* checking S3 generic/method consistency ... OK
* checking replacement functions ... OK
* checking foreign function calls ... OK
* checking R code for possible problems ... OK
* checking Rd files ... OK
* checking Rd metadata ... OK
* checking Rd cross-references ... NOTE
Found the following Rd file(s) with Rd \link{} targets missing package
anchors:
  SE_metadata.Rd: SummarizedExperiment-class
  convert_mae_assay_to_dt.Rd: SummarizedExperiment-class,
    MultiAssayExperiment-class
  convert_se_assay_to_dt.Rd: SummarizedExperiment-class
  is_exp_empty.Rd: SummarizedExperiment-class
  split_SE_components.Rd: SummarizedExperiment-class
  validate_se_assay_name.Rd: SummarizedExperiment-class
Please provide package anchors for all Rd \link{} targets not in the
package itself and the base packages.
* checking for missing documentation entries ... OK
* checking for code/documentation mismatches ... OK
* checking Rd \usage sections ... OK
* checking Rd contents ... OK
* checking for unstated dependencies in examples ... OK
* checking files in ‘vignettes’ ... OK
* checking examples ... OK
Examples with CPU (user + system) or elapsed time > 5s
           user system elapsed
merge_MAE 4.368  0.708   3.817
* checking for unstated dependencies in ‘tests’ ... OK
* checking tests ...
  Running ‘testthat.R’
 OK
* checking for unstated dependencies in vignettes ... OK
* checking package vignettes ... OK
* checking re-building of vignette outputs ... OK
* checking PDF version of manual ... OK
* DONE

Status: 1 NOTE
See
  ‘/home/biocbuild/bbs-3.23-bioc/meat/gDRutils.Rcheck/00check.log’
for details.


Installation output

gDRutils.Rcheck/00install.out

##############################################################################
##############################################################################
###
### Running command:
###
###   /home/biocbuild/bbs-3.23-bioc/R/bin/R CMD INSTALL gDRutils
###
##############################################################################
##############################################################################


* installing to library ‘/home/biocbuild/bbs-3.23-bioc/R/site-library’
* installing *source* package ‘gDRutils’ ...
** this is package ‘gDRutils’ version ‘1.9.1’
** using staged installation
** R
** inst
** byte-compile and prepare package for lazy loading
** help
*** installing help indices
** building package indices
** installing vignettes
** testing if installed package can be loaded from temporary location
** testing if installed package can be loaded from final location
** testing if installed package keeps a record of temporary installation path
* DONE (gDRutils)

Tests output

gDRutils.Rcheck/tests/testthat.Rout


R Under development (unstable) (2025-10-20 r88955) -- "Unsuffered Consequences"
Copyright (C) 2025 The R Foundation for Statistical Computing
Platform: x86_64-pc-linux-gnu

R is free software and comes with ABSOLUTELY NO WARRANTY.
You are welcome to redistribute it under certain conditions.
Type 'license()' or 'licence()' for distribution details.

R is a collaborative project with many contributors.
Type 'contributors()' for more information and
'citation()' on how to cite R or R packages in publications.

Type 'demo()' for some demos, 'help()' for on-line help, or
'help.start()' for an HTML browser interface to help.
Type 'q()' to quit R.

> library("gDRutils")
> library("testthat")
> 
> test_check("gDRutils")
[ FAIL 0 | WARN 0 | SKIP 0 | PASS 845 ]
> 
> proc.time()
   user  system elapsed 
 97.575   2.357  97.497 

Example timings

gDRutils.Rcheck/gDRutils-Ex.timings

nameusersystemelapsed
MAEpply0.3840.0450.430
SE_metadata0.0320.0030.035
addClass0.0010.0010.002
aggregate_assay1.1450.0041.144
apply_bumpy_function1.3590.1191.479
assert_choices000
average_biological_replicates_dt0.3470.0080.355
calc_sd0.0000.0010.001
capVals0.2650.0040.269
cap_assay_infinities0.2990.0030.257
cap_xc500.0000.0010.000
convert_colData_to_json0.1080.0010.109
convert_combo_data_to_dt0.3470.0090.302
convert_combo_field_to_assay0.0010.0010.002
convert_mae_assay_to_dt0.0620.0050.067
convert_mae_to_json0.0180.0000.017
convert_metadata_to_json0.010.000.01
convert_rowData_to_json0.0030.0000.003
convert_se_assay_to_custom_dt1.2810.0491.306
convert_se_assay_to_dt0.0560.0030.060
convert_se_to_json0.0140.0000.014
define_matrix_grid_positions0.0590.0000.051
demote_fields0.3950.0010.352
df_to_bm_assay0.1220.0010.123
dot-set_invalid_fit_params0.0000.0010.000
dot-standardize_conc0.0010.0000.000
extend_normalization_type_name0.0010.0000.000
fit_curves0.1340.0070.141
flatten0.0080.0000.008
gen_synthetic_data0.0050.0010.005
geometric_mean0.0010.0000.000
get_MAE_identifiers0.0050.0030.008
get_additional_variables0.0130.0000.013
get_assay_dt_duplicated_rows0.1620.0030.165
get_assay_names0.0000.0000.001
get_assay_req_uniq_cols0.1040.0020.106
get_combo_assay_names0.0000.0010.001
get_combo_base_assay_names0.0010.0000.001
get_combo_excess_field_names0.0010.0010.002
get_combo_score_assay_names0.0010.0000.001
get_combo_score_field_names0.0000.0010.001
get_default_identifiers0.0000.0010.001
get_duplicated_rows0.0030.0000.003
get_env_assay_names0.0000.0000.001
get_env_var0.0000.0010.000
get_expect_one_identifiers0.0000.0010.000
get_experiment_groups0.0010.0000.000
get_gDR_session_info0.0610.0040.062
get_identifiers_dt0.0060.0040.007
get_idfs_synonyms000
get_isobologram_columns0.0760.0020.079
get_non_empty_assays0.0490.0010.042
get_required_identifiers0.0000.0000.001
get_settings_from_json0.0020.0000.001
get_supported_experiments000
get_synthetic_data0.010.000.01
get_testdata0.0790.0260.099
get_testdata_codilution0.0760.0060.076
get_testdata_combo0.1850.0290.195
has_assay_dt_duplicated_rows0.1140.0010.115
has_dt_duplicated_rows0.0010.0000.000
has_single_codrug_data0.1450.0010.145
has_valid_codrug_data0.1370.0000.137
headers0.0210.0120.033
identifiers000
identify_unique_se_metadata_fields0.0080.0000.008
is_any_exp_empty0.0560.0010.047
is_combo_data0.1380.0110.147
is_exp_empty0.0580.0000.049
is_mae_empty0.1110.0020.098
logisticFit0.0300.0010.032
loop2.4900.0403.628
map_conc_to_standardized_conc0.0050.0010.005
mcolData0.0170.0040.021
merge_MAE4.3680.7083.817
merge_SE1.7290.2021.649
merge_assay0.3390.1090.403
merge_metadata0.0060.0040.010
modifyData0.2840.1490.433
mrowData0.0130.0070.020
predict_conc_from_efficacy0.0000.0000.001
predict_efficacy_from_conc0.0010.0000.001
predict_smooth_from_combo0.1950.0150.211
prettify_flat_metrics0.0390.0010.040
process_batch0.8380.3561.197
promote_fields0.1900.0310.209
refine_coldata0.0080.0030.013
refine_rowdata0.0400.0060.047
remove_codrug_data0.0590.0100.068
remove_drug_batch0.0010.0000.002
rename_DFrame0.0100.0000.011
rename_bumpy0.0290.0020.031
round_concentration0.0000.0000.001
set_constant_fit_params0.0000.0000.001
set_unique_cl_names0.0500.0020.052
set_unique_cl_names_dt0.0180.0000.019
set_unique_drug_names0.0520.0000.052
set_unique_drug_names_dt0.0350.0000.035
set_unique_identifiers0.2850.0830.368
set_unique_names_dt0.0200.0070.028
shorten_normalization_type_name0.0000.0000.001
split_SE_components0.0940.0360.131
split_big_table_for_xlsx0.0060.0020.008
standardize_mae0.1200.0430.163
standardize_se0.0360.0120.048
throw_msg_if_duplicates0.1280.0340.162
update_env_idfs_from_mae0.0000.0010.001
update_idfs_synonyms0.0010.0000.000
validate_MAE0.0770.0180.095
validate_SE0.0250.0090.034
validate_identifiers0.0080.0030.010
validate_json0.0010.0000.000
validate_mae_with_schema0.3810.1040.480
validate_se_assay_name0.0080.0010.009