Back to Multiple platform build/check report for BioC 3.23:   simplified   long
ABCDEF[G]HIJKLMNOPQRSTUVWXYZ

This page was generated on 2025-11-14 11:36 -0500 (Fri, 14 Nov 2025).

HostnameOSArch (*)R versionInstalled pkgs
nebbiolo1Linux (Ubuntu 24.04.3 LTS)x86_64R Under development (unstable) (2025-10-20 r88955) -- "Unsuffered Consequences" 4825
kjohnson3macOS 13.7.7 Venturaarm64R Under development (unstable) (2025-11-04 r88984) -- "Unsuffered Consequences" 4547
Click on any hostname to see more info about the system (e.g. compilers)      (*) as reported by 'uname -p', except on Windows and Mac OS X

Package 788/2325HostnameOS / ArchINSTALLBUILDCHECKBUILD BIN
gCrisprTools 2.17.0  (landing page)
Russell Bainer
Snapshot Date: 2025-11-13 13:40 -0500 (Thu, 13 Nov 2025)
git_url: https://git.bioconductor.org/packages/gCrisprTools
git_branch: devel
git_last_commit: d372d36
git_last_commit_date: 2025-10-29 10:34:14 -0500 (Wed, 29 Oct 2025)
nebbiolo1Linux (Ubuntu 24.04.3 LTS) / x86_64  OK    OK    OK  UNNEEDED, same version is already published
kjohnson3macOS 13.7.7 Ventura / arm64  OK    OK    OK    OK  YES


CHECK results for gCrisprTools on kjohnson3

To the developers/maintainers of the gCrisprTools package:
- Allow up to 24 hours (and sometimes 48 hours) for your latest push to git@git.bioconductor.org:packages/gCrisprTools.git to reflect on this report. See Troubleshooting Build Report for more information.
- Use the following Renviron settings to reproduce errors and warnings.
- If 'R CMD check' started to fail recently on the Linux builder(s) over a missing dependency, add the missing dependency to 'Suggests:' in your DESCRIPTION file. See Renviron.bioc for more information.

raw results


Summary

Package: gCrisprTools
Version: 2.17.0
Command: /Library/Frameworks/R.framework/Resources/bin/R CMD check --install=check:gCrisprTools.install-out.txt --library=/Library/Frameworks/R.framework/Resources/library --no-vignettes --timings gCrisprTools_2.17.0.tar.gz
StartedAt: 2025-11-13 20:02:57 -0500 (Thu, 13 Nov 2025)
EndedAt: 2025-11-13 20:05:57 -0500 (Thu, 13 Nov 2025)
EllapsedTime: 180.1 seconds
RetCode: 0
Status:   OK  
CheckDir: gCrisprTools.Rcheck
Warnings: 0

Command output

##############################################################################
##############################################################################
###
### Running command:
###
###   /Library/Frameworks/R.framework/Resources/bin/R CMD check --install=check:gCrisprTools.install-out.txt --library=/Library/Frameworks/R.framework/Resources/library --no-vignettes --timings gCrisprTools_2.17.0.tar.gz
###
##############################################################################
##############################################################################


* using log directory ‘/Users/biocbuild/bbs-3.23-bioc/meat/gCrisprTools.Rcheck’
* using R Under development (unstable) (2025-11-04 r88984)
* using platform: aarch64-apple-darwin20
* R was compiled by
    Apple clang version 16.0.0 (clang-1600.0.26.6)
    GNU Fortran (GCC) 14.2.0
* running under: macOS Ventura 13.7.8
* using session charset: UTF-8
* using option ‘--no-vignettes’
* checking for file ‘gCrisprTools/DESCRIPTION’ ... OK
* checking extension type ... Package
* this is package ‘gCrisprTools’ version ‘2.17.0’
* package encoding: UTF-8
* checking package namespace information ... OK
* checking package dependencies ... OK
* checking if this is a source package ... OK
* checking if there is a namespace ... OK
* checking for hidden files and directories ... OK
* checking for portable file names ... OK
* checking for sufficient/correct file permissions ... OK
* checking whether package ‘gCrisprTools’ can be installed ... OK
* checking installed package size ... OK
* checking package directory ... OK
* checking ‘build’ directory ... OK
* checking DESCRIPTION meta-information ... OK
* checking top-level files ... OK
* checking for left-over files ... OK
* checking index information ... OK
* checking package subdirectories ... OK
* checking code files for non-ASCII characters ... OK
* checking R files for syntax errors ... OK
* checking whether the package can be loaded ... OK
* checking whether the package can be loaded with stated dependencies ... OK
* checking whether the package can be unloaded cleanly ... OK
* checking whether the namespace can be loaded with stated dependencies ... OK
* checking whether the namespace can be unloaded cleanly ... OK
* checking dependencies in R code ... NOTE
Namespace in Imports field not imported from: ‘RobustRankAggreg’
  All declared Imports should be used.
* checking S3 generic/method consistency ... OK
* checking replacement functions ... OK
* checking foreign function calls ... OK
* checking R code for possible problems ... OK
* checking Rd files ... OK
* checking Rd metadata ... OK
* checking Rd cross-references ... OK
* checking for missing documentation entries ... OK
* checking for code/documentation mismatches ... OK
* checking Rd \usage sections ... NOTE
Documented arguments not in \usage in Rd file 'ct.targetSetEnrichment.Rd':
  ‘pvalue.cutoff’ ‘organism’ ‘db.cut’ ‘species’

Functions with \usage entries need to have the appropriate \alias
entries, and all their arguments documented.
The \usage entries must correspond to syntactically valid R code.
See chapter ‘Writing R documentation files’ in the ‘Writing R
Extensions’ manual.
* checking Rd contents ... OK
* checking for unstated dependencies in examples ... OK
* checking contents of ‘data’ directory ... OK
* checking data for non-ASCII characters ... OK
* checking data for ASCII and uncompressed saves ... OK
* checking files in ‘vignettes’ ... OK
* checking examples ... OK
Examples with CPU (user + system) or elapsed time > 5s
                user system elapsed
ct.GREATdb    29.947  0.593  31.555
ct.guideCDF    5.963  2.667   9.106
ct.makeReport  6.525  1.059   7.927
* checking for unstated dependencies in ‘tests’ ... OK
* checking tests ...
  Running ‘unit.tests.R’
 OK
* checking for unstated dependencies in vignettes ... OK
* checking package vignettes ... OK
* checking running R code from vignettes ... SKIPPED
* checking re-building of vignette outputs ... SKIPPED
* checking PDF version of manual ... OK
* DONE

Status: 2 NOTEs
See
  ‘/Users/biocbuild/bbs-3.23-bioc/meat/gCrisprTools.Rcheck/00check.log’
for details.


Installation output

gCrisprTools.Rcheck/00install.out

##############################################################################
##############################################################################
###
### Running command:
###
###   /Library/Frameworks/R.framework/Resources/bin/R CMD INSTALL gCrisprTools
###
##############################################################################
##############################################################################


* installing to library ‘/Library/Frameworks/R.framework/Versions/4.6-arm64/Resources/library’
* installing *source* package ‘gCrisprTools’ ...
** this is package ‘gCrisprTools’ version ‘2.17.0’
** using staged installation
** R
** data
** inst
** byte-compile and prepare package for lazy loading
** help
*** installing help indices
** building package indices
** installing vignettes
** testing if installed package can be loaded from temporary location
** testing if installed package can be loaded from final location
** testing if installed package keeps a record of temporary installation path
* DONE (gCrisprTools)

Tests output

gCrisprTools.Rcheck/tests/unit.tests.Rout


R Under development (unstable) (2025-11-04 r88984) -- "Unsuffered Consequences"
Copyright (C) 2025 The R Foundation for Statistical Computing
Platform: aarch64-apple-darwin20

R is free software and comes with ABSOLUTELY NO WARRANTY.
You are welcome to redistribute it under certain conditions.
Type 'license()' or 'licence()' for distribution details.

R is a collaborative project with many contributors.
Type 'contributors()' for more information and
'citation()' on how to cite R or R packages in publications.

Type 'demo()' for some demos, 'help()' for on-line help, or
'help.start()' for an HTML browser interface to help.
Type 'q()' to quit R.

> #require("BiocGenerics", quietly = TRUE)
> BiocGenerics:::testPackage("gCrisprTools")


RUNIT TEST PROTOCOL -- Thu Nov 13 20:05:51 2025 
*********************************************** 
Number of test functions: 0 
Number of errors: 0 
Number of failures: 0 

 
1 Test Suite : 
gCrisprTools RUnit Tests - 0 test functions, 0 errors, 0 failures
Number of test functions: 0 
Number of errors: 0 
Number of failures: 0 
> 
> proc.time()
   user  system elapsed 
  3.367   0.144   3.648 

Example timings

gCrisprTools.Rcheck/gCrisprTools-Ex.timings

nameusersystemelapsed
aln0.0010.0010.002
ann0.0260.0010.031
ct.CAT0.5440.0550.646
ct.DirectionalTests0.1230.0880.223
ct.GCbias2.7990.1533.026
ct.GREATdb29.947 0.59331.555
ct.PRC1.0550.0661.160
ct.ROC0.6020.0200.635
ct.RRAaPvals0.1390.0090.163
ct.RRAalpha0.1100.0030.123
ct.alignmentChart0.0020.0010.002
ct.alphaBeta000
ct.applyAlpha0.0010.0020.002
ct.buildSE0.1980.0050.227
ct.compareContrasts3.4900.3624.049
ct.contrastBarchart2.2500.0172.478
ct.expandAnnotation0.0280.0020.031
ct.filterReads0.0970.0090.111
ct.gRNARankByReplicate0.1530.0150.191
ct.generateResults0.1890.0090.219
ct.guideCDF5.9632.6679.106
ct.keyCheck0.0420.0030.046
ct.makeContrastReport3.2800.5844.108
ct.makeQCReport1.5390.2191.854
ct.makeReport6.5251.0597.927
ct.makeRhoNull0.0000.0000.001
ct.normalizeBySlope0.6310.0550.715
ct.normalizeFQ0.3620.0410.406
ct.normalizeGuides1.3430.1441.509
ct.normalizeMedians0.2990.0330.336
ct.normalizeNTC0.3500.0330.385
ct.normalizeSpline0.4180.0370.459
ct.parseGeneSymbol0.0000.0000.001
ct.prepareAnnotation0.2530.0180.275
ct.preprocessFit0.5710.1100.708
ct.rankSimple1.3530.0071.373
ct.rawCountDensities0.0620.0060.071
ct.regularizeContrasts0.0410.0010.042
ct.resultCheck0.0260.0010.027
ct.scatter0.1410.0040.145
ct.seas4.2710.4184.861
ct.seasPrep0.7750.1030.938
ct.signalSummary0.5520.0130.576
ct.simpleResult0.5070.0500.568
ct.softLog0.0000.0000.001
ct.stackGuides1.9110.5732.504
ct.targetSetEnrichment0.4830.0560.551
ct.topTargets0.1480.0060.154
ct.upSet3.0920.4323.592
ct.viewControls0.0960.0150.117
ct.viewGuides0.1340.0070.144
es0.0250.0020.032
essential.genes0.0000.0010.002
fit0.0830.0040.088
resultsDF0.0270.0020.035