Back to Multiple platform build/check report for BioC 3.23:   simplified   long
ABCDE[F]GHIJKLMNOPQRSTUVWXYZ

This page was generated on 2025-11-14 11:35 -0500 (Fri, 14 Nov 2025).

HostnameOSArch (*)R versionInstalled pkgs
nebbiolo1Linux (Ubuntu 24.04.3 LTS)x86_64R Under development (unstable) (2025-10-20 r88955) -- "Unsuffered Consequences" 4825
kjohnson3macOS 13.7.7 Venturaarm64R Under development (unstable) (2025-11-04 r88984) -- "Unsuffered Consequences" 4547
Click on any hostname to see more info about the system (e.g. compilers)      (*) as reported by 'uname -p', except on Windows and Mac OS X

All results for package flowPeaks


To the developers/maintainers of the flowPeaks package:
- Allow up to 24 hours (and sometimes 48 hours) for your latest push to git@git.bioconductor.org:packages/flowPeaks.git to reflect on this report. See Troubleshooting Build Report for more information.
- Use the following Renviron settings to reproduce errors and warnings.
- If 'R CMD check' started to fail recently on the Linux builder(s) over a missing dependency, add the missing dependency to 'Suggests:' in your DESCRIPTION file. See Renviron.bioc for more information.

raw results

Package 752/2325HostnameOS / ArchINSTALLBUILDCHECKBUILD BIN
flowPeaks 1.57.0  (landing page)
Yongchao Ge
Snapshot Date: 2025-11-13 13:40 -0500 (Thu, 13 Nov 2025)
git_url: https://git.bioconductor.org/packages/flowPeaks
git_branch: devel
git_last_commit: 7ccd7be
git_last_commit_date: 2025-10-29 10:11:17 -0500 (Wed, 29 Oct 2025)
nebbiolo1Linux (Ubuntu 24.04.3 LTS) / x86_64  OK    OK    OK  UNNEEDED, same version is already published
kjohnson3macOS 13.7.7 Ventura / arm64  OK    OK    OK    OK  YES



Results for Bioconductor software packages that depend directly on package flowPeaks

QUICK STATSOS / ArchINSTALLBUILDCHECKBUILD BIN
nebbiolo1Linux (Ubuntu 24.04.3 LTS) / x86_64
003
003
0012
kjohnson3macOS 13.7.7 Ventura / arm64
003
003
0012
003
Package 1/3HostnameOS / ArchINSTALLBUILDCHECKBUILD BIN
CONFESS 1.39.0  (landing page)
Diana LOW
git_last_commit: b97e3ac
git_last_commit_date: 2025-10-29 10:31:27 -0500
nebbiolo1Linux (Ubuntu 24.04.3 LTS) / x86_64  OK    OK    WARNINGS  UNNEEDED, same version is already published
kjohnson3macOS 13.7.7 Ventura / arm64  OK    OK    WARNINGS    OK  YES
Package 2/3HostnameOS / ArchINSTALLBUILDCHECKBUILD BIN
ddPCRclust 1.31.0  (landing page)
Benedikt G. Brink
git_last_commit: 3ada4f8
git_last_commit_date: 2025-10-29 10:43:29 -0500
nebbiolo1Linux (Ubuntu 24.04.3 LTS) / x86_64  OK    OK    OK  UNNEEDED, same version is already published
kjohnson3macOS 13.7.7 Ventura / arm64  OK    OK    OK    OK  YES
Package 3/3HostnameOS / ArchINSTALLBUILDCHECKBUILD BIN
Polytect 1.3.0  (landing page)
Yao Chen
git_last_commit: cb9d858
git_last_commit_date: 2025-10-29 11:33:29 -0500
nebbiolo1Linux (Ubuntu 24.04.3 LTS) / x86_64  OK    OK    OK  UNNEEDED, same version is already published
kjohnson3macOS 13.7.7 Ventura / arm64  OK    OK    OK    OK  YES