Back to Build/check report for BioC 3.23:   simplified   long
ABCDE[F]GHIJKLMNOPQRSTUVWXYZ

This page was generated on 2025-11-13 11:32 -0500 (Thu, 13 Nov 2025).

HostnameOSArch (*)R versionInstalled pkgs
kjohnson3macOS 13.7.7 Venturaarm64R Under development (unstable) (2025-11-04 r88984) -- "Unsuffered Consequences" 4013
Click on any hostname to see more info about the system (e.g. compilers)      (*) as reported by 'uname -p', except on Windows and Mac OS X

Package 748/2325HostnameOS / ArchINSTALLBUILDCHECKBUILD BIN
flowGraph 1.19.0  (landing page)
Alice Yue
Snapshot Date: 2025-11-12 13:40 -0500 (Wed, 12 Nov 2025)
git_url: https://git.bioconductor.org/packages/flowGraph
git_branch: devel
git_last_commit: 7de3bf9
git_last_commit_date: 2025-10-29 11:04:59 -0500 (Wed, 29 Oct 2025)
kjohnson3macOS 13.7.7 Ventura / arm64  OK    OK    OK    OK  YES


CHECK results for flowGraph on kjohnson3

To the developers/maintainers of the flowGraph package:
- Allow up to 24 hours (and sometimes 48 hours) for your latest push to git@git.bioconductor.org:packages/flowGraph.git to reflect on this report. See Troubleshooting Build Report for more information.
- Use the following Renviron settings to reproduce errors and warnings.
- If 'R CMD check' started to fail recently on the Linux builder(s) over a missing dependency, add the missing dependency to 'Suggests:' in your DESCRIPTION file. See Renviron.bioc for more information.

raw results


Summary

Package: flowGraph
Version: 1.19.0
Command: /Library/Frameworks/R.framework/Resources/bin/R CMD check --install=check:flowGraph.install-out.txt --library=/Library/Frameworks/R.framework/Resources/library --no-vignettes --timings flowGraph_1.19.0.tar.gz
StartedAt: 2025-11-12 18:49:20 -0500 (Wed, 12 Nov 2025)
EndedAt: 2025-11-12 18:51:18 -0500 (Wed, 12 Nov 2025)
EllapsedTime: 117.6 seconds
RetCode: 0
Status:   OK  
CheckDir: flowGraph.Rcheck
Warnings: 0

Command output

##############################################################################
##############################################################################
###
### Running command:
###
###   /Library/Frameworks/R.framework/Resources/bin/R CMD check --install=check:flowGraph.install-out.txt --library=/Library/Frameworks/R.framework/Resources/library --no-vignettes --timings flowGraph_1.19.0.tar.gz
###
##############################################################################
##############################################################################


* using log directory ‘/Users/biocbuild/bbs-3.23-bioc/meat/flowGraph.Rcheck’
* using R Under development (unstable) (2025-11-04 r88984)
* using platform: aarch64-apple-darwin20
* R was compiled by
    Apple clang version 16.0.0 (clang-1600.0.26.6)
    GNU Fortran (GCC) 14.2.0
* running under: macOS Ventura 13.7.8
* using session charset: UTF-8
* using option ‘--no-vignettes’
* checking for file ‘flowGraph/DESCRIPTION’ ... OK
* checking extension type ... Package
* this is package ‘flowGraph’ version ‘1.19.0’
* checking package namespace information ... OK
* checking package dependencies ... OK
* checking if this is a source package ... OK
* checking if there is a namespace ... OK
* checking for hidden files and directories ... OK
* checking for portable file names ... OK
* checking for sufficient/correct file permissions ... OK
* checking whether package ‘flowGraph’ can be installed ... OK
* checking installed package size ... OK
* checking package directory ... OK
* checking ‘build’ directory ... OK
* checking DESCRIPTION meta-information ... OK
* checking top-level files ... OK
* checking for left-over files ... OK
* checking index information ... OK
* checking package subdirectories ... OK
* checking code files for non-ASCII characters ... OK
* checking R files for syntax errors ... OK
* checking whether the package can be loaded ... OK
* checking whether the package can be loaded with stated dependencies ... OK
* checking whether the package can be unloaded cleanly ... OK
* checking whether the namespace can be loaded with stated dependencies ... OK
* checking whether the namespace can be unloaded cleanly ... OK
* checking dependencies in R code ... OK
* checking S3 generic/method consistency ... OK
* checking replacement functions ... OK
* checking foreign function calls ... OK
* checking R code for possible problems ... NOTE
get_child: no visible binding for global variable ‘no_cores’
get_paren: no visible binding for global variable ‘no_cores’
ms_psig: no visible binding for global variable ‘meta’
Undefined global functions or variables:
  meta no_cores
* checking Rd files ... NOTE
checkRd: (-1) fg_get_graph.Rd:13: Lost braces
    13 | A list containing two data frames (\code{v} and ]code{e})
       |                                                      ^
checkRd: (-1) ggdf.Rd:22: Lost braces
    22 | code{ggdf} adds to the data frames \code{v} and \code{e} in slot
       |     ^
* checking Rd metadata ... OK
* checking Rd cross-references ... OK
* checking for missing documentation entries ... OK
* checking for code/documentation mismatches ... OK
* checking Rd \usage sections ... OK
* checking Rd contents ... OK
* checking for unstated dependencies in examples ... OK
* checking contents of ‘data’ directory ... OK
* checking data for non-ASCII characters ... OK
* checking data for ASCII and uncompressed saves ... OK
* checking files in ‘vignettes’ ... OK
* checking examples ... OK
Examples with CPU (user + system) or elapsed time > 5s
                user system elapsed
fg_save_plots 21.935  0.105  23.168
fg_load       21.810  0.113  23.112
fg_save       21.616  0.086  23.030
* checking for unstated dependencies in ‘tests’ ... OK
* checking tests ...
  Running ‘testthat.R’
 OK
* checking for unstated dependencies in vignettes ... OK
* checking package vignettes ... OK
* checking running R code from vignettes ... SKIPPED
* checking re-building of vignette outputs ... SKIPPED
* checking PDF version of manual ... OK
* DONE

Status: 2 NOTEs
See
  ‘/Users/biocbuild/bbs-3.23-bioc/meat/flowGraph.Rcheck/00check.log’
for details.


Installation output

flowGraph.Rcheck/00install.out

##############################################################################
##############################################################################
###
### Running command:
###
###   /Library/Frameworks/R.framework/Resources/bin/R CMD INSTALL flowGraph
###
##############################################################################
##############################################################################


* installing to library ‘/Library/Frameworks/R.framework/Versions/4.6-arm64/Resources/library’
* installing *source* package ‘flowGraph’ ...
** this is package ‘flowGraph’ version ‘1.19.0’
** using staged installation
** R
** data
** inst
** byte-compile and prepare package for lazy loading
** help
Loading required namespace: flowGraph
*** installing help indices
** building package indices
** installing vignettes
** testing if installed package can be loaded from temporary location
** testing if installed package can be loaded from final location
** testing if installed package keeps a record of temporary installation path
* DONE (flowGraph)

Tests output

flowGraph.Rcheck/tests/testthat.Rout


R Under development (unstable) (2025-11-04 r88984) -- "Unsuffered Consequences"
Copyright (C) 2025 The R Foundation for Statistical Computing
Platform: aarch64-apple-darwin20

R is free software and comes with ABSOLUTELY NO WARRANTY.
You are welcome to redistribute it under certain conditions.
Type 'license()' or 'licence()' for distribution details.

R is a collaborative project with many contributors.
Type 'contributors()' for more information and
'citation()' on how to cite R or R packages in publications.

Type 'demo()' for some demos, 'help()' for on-line help, or
'help.start()' for an HTML browser interface to help.
Type 'q()' to quit R.

> library(testthat)
> library(flowGraph)
> 
> test_check("flowGraph")
[ FAIL 0 | WARN 1 | SKIP 0 | PASS 34 ]

[ FAIL 0 | WARN 1 | SKIP 0 | PASS 34 ]
> 
> proc.time()
   user  system elapsed 
  2.076   0.114   2.292 

Example timings

flowGraph.Rcheck/flowGraph-Ex.timings

nameusersystemelapsed
cell_type_layers0.0010.0000.002
fg_add_feature0.1150.0030.122
fg_add_summary0.3130.0030.320
fg_clean_phen000
fg_clear_features0.2640.0020.272
fg_clear_summary0.1030.0010.104
fg_extract_phenotypes0.0860.0010.091
fg_extract_raw0.2540.0020.268
fg_extract_samples0.0880.0020.095
fg_feat_cumsum0.0820.0020.089
fg_feat_edge_specenr0.1420.0020.149
fg_feat_mean_class0.0900.0010.095
fg_feat_node_prop0.0820.0010.085
fg_feat_node_specenr0.1400.0020.144
fg_feat_prop_edge0.0860.0010.092
fg_get_feature0.0810.0010.087
fg_get_feature_desc0.2810.0030.294
fg_get_feature_means0.4040.0020.417
fg_get_graph0.0900.0010.092
fg_get_markers0.0860.0020.093
fg_get_meta0.0860.0010.087
fg_get_summary0.6000.0110.617
fg_get_summary_desc0.2420.0020.260
fg_get_summary_index0.5040.0030.529
fg_get_summary_tables0.3440.0020.351
fg_gsub_ids0.0690.0010.071
fg_gsub_markers0.0900.0010.091
fg_load21.810 0.11323.112
fg_merge0.0950.0020.098
fg_merge_samples0.0910.0010.094
fg_plot0.1470.0010.163
fg_plot_box0.2560.0030.284
fg_plot_pVSdiff0.1260.0010.132
fg_plot_qq0.5390.0300.605
fg_replace_meta0.0890.0010.096
fg_rm_feature0.2940.0030.334
fg_rm_summary0.1130.0020.135
fg_save21.616 0.08623.030
fg_save_plots21.935 0.10523.168
fg_set_layout0.0900.0010.093
fg_summary0.1120.0010.113
flowGraph-class0.0000.0010.001
flowGraph0.4100.0040.428
flowGraphSubset0.0000.0000.001
flowGraphSubset_summary_adjust0.0010.0000.001
flowGraphSubset_summary_pars0.0000.0010.001
get_phen_list0.0040.0010.005
get_phen_meta0.0010.0000.001
ggdf0.0880.0020.093
loop_ind_f0.0000.0010.001
meandiff0.0000.0000.001
plot_gr0.4980.0080.536
set_layout_graph0.0940.0120.108
summary_table0.0010.0000.001
time_output0.0000.0000.001
tstr000