Back to Multiple platform build/check report for BioC 3.23:   simplified   long
ABCD[E]FGHIJKLMNOPQRSTUVWXYZ

This page was generated on 2025-11-17 11:39 -0500 (Mon, 17 Nov 2025).

HostnameOSArch (*)R versionInstalled pkgs
nebbiolo1Linux (Ubuntu 24.04.3 LTS)x86_64R Under development (unstable) (2025-10-20 r88955) -- "Unsuffered Consequences" 4826
lconwaymacOS 12.7.6 Montereyx86_64R Under development (unstable) (2025-10-21 r88958) -- "Unsuffered Consequences" 4491
kjohnson3macOS 13.7.7 Venturaarm64R Under development (unstable) (2025-11-04 r88984) -- "Unsuffered Consequences" 4562
Click on any hostname to see more info about the system (e.g. compilers)      (*) as reported by 'uname -p', except on Windows and Mac OS X

Package 675/2325HostnameOS / ArchINSTALLBUILDCHECKBUILD BIN
epiregulon 2.1.2  (landing page)
Xiaosai Yao
Snapshot Date: 2025-11-16 13:40 -0500 (Sun, 16 Nov 2025)
git_url: https://git.bioconductor.org/packages/epiregulon
git_branch: devel
git_last_commit: 9dec0f9
git_last_commit_date: 2025-11-13 10:16:00 -0500 (Thu, 13 Nov 2025)
nebbiolo1Linux (Ubuntu 24.04.3 LTS) / x86_64  OK    OK    OK  UNNEEDED, same version is already published
lconwaymacOS 12.7.6 Monterey / x86_64  ERROR    ERROR  skippedskipped
kjohnson3macOS 13.7.7 Ventura / arm64  OK    OK    OK    OK  NO, package depends on 'scran' which is only available as a source package that needs compilation


INSTALL results for epiregulon on lconway

To the developers/maintainers of the epiregulon package:
- Allow up to 24 hours (and sometimes 48 hours) for your latest push to git@git.bioconductor.org:packages/epiregulon.git to reflect on this report. See Troubleshooting Build Report for more information.
- Use the following Renviron settings to reproduce errors and warnings.
- If 'R CMD check' started to fail recently on the Linux builder(s) over a missing dependency, add the missing dependency to 'Suggests:' in your DESCRIPTION file. See Renviron.bioc for more information.

raw results


Summary

Package: epiregulon
Version: 2.1.2
Command: /Library/Frameworks/R.framework/Resources/bin/R CMD INSTALL epiregulon
StartedAt: 2025-11-16 20:52:50 -0500 (Sun, 16 Nov 2025)
EndedAt: 2025-11-16 20:52:51 -0500 (Sun, 16 Nov 2025)
EllapsedTime: 1.1 seconds
RetCode: 1
Status:   ERROR  

Command output

##############################################################################
##############################################################################
###
### Running command:
###
###   /Library/Frameworks/R.framework/Resources/bin/R CMD INSTALL epiregulon
###
##############################################################################
##############################################################################


* installing to library ‘/Library/Frameworks/R.framework/Versions/4.6-x86_64/Resources/library’
ERROR: dependency ‘scrapper’ is not available for package ‘epiregulon’
Perhaps try a variation of:
install.packages('scrapper')
* removing ‘/Library/Frameworks/R.framework/Versions/4.6-x86_64/Resources/library/epiregulon’