| Back to Multiple platform build/check report for BioC 3.23: simplified long |
|
This page was generated on 2025-11-14 11:36 -0500 (Fri, 14 Nov 2025).
| Hostname | OS | Arch (*) | R version | Installed pkgs |
|---|---|---|---|---|
| nebbiolo1 | Linux (Ubuntu 24.04.3 LTS) | x86_64 | R Under development (unstable) (2025-10-20 r88955) -- "Unsuffered Consequences" | 4825 |
| kjohnson3 | macOS 13.7.7 Ventura | arm64 | R Under development (unstable) (2025-11-04 r88984) -- "Unsuffered Consequences" | 4547 |
| Click on any hostname to see more info about the system (e.g. compilers) (*) as reported by 'uname -p', except on Windows and Mac OS X | ||||
| Package 615/2325 | Hostname | OS / Arch | INSTALL | BUILD | CHECK | BUILD BIN | ||||||||
| drawProteins 1.31.0 (landing page) Paul Brennan
| nebbiolo1 | Linux (Ubuntu 24.04.3 LTS) / x86_64 | OK | OK | ERROR | |||||||||
| kjohnson3 | macOS 13.7.7 Ventura / arm64 | OK | OK | ERROR | OK | |||||||||
|
To the developers/maintainers of the drawProteins package: - Allow up to 24 hours (and sometimes 48 hours) for your latest push to git@git.bioconductor.org:packages/drawProteins.git to reflect on this report. See Troubleshooting Build Report for more information. - Use the following Renviron settings to reproduce errors and warnings. - If 'R CMD check' started to fail recently on the Linux builder(s) over a missing dependency, add the missing dependency to 'Suggests:' in your DESCRIPTION file. See Renviron.bioc for more information. |
| Package: drawProteins |
| Version: 1.31.0 |
| Command: /Library/Frameworks/R.framework/Resources/bin/R CMD check --install=check:drawProteins.install-out.txt --library=/Library/Frameworks/R.framework/Resources/library --no-vignettes --timings drawProteins_1.31.0.tar.gz |
| StartedAt: 2025-11-13 19:43:39 -0500 (Thu, 13 Nov 2025) |
| EndedAt: 2025-11-13 19:44:08 -0500 (Thu, 13 Nov 2025) |
| EllapsedTime: 29.4 seconds |
| RetCode: 1 |
| Status: ERROR |
| CheckDir: drawProteins.Rcheck |
| Warnings: NA |
##############################################################################
##############################################################################
###
### Running command:
###
### /Library/Frameworks/R.framework/Resources/bin/R CMD check --install=check:drawProteins.install-out.txt --library=/Library/Frameworks/R.framework/Resources/library --no-vignettes --timings drawProteins_1.31.0.tar.gz
###
##############################################################################
##############################################################################
* using log directory ‘/Users/biocbuild/bbs-3.23-bioc/meat/drawProteins.Rcheck’
* using R Under development (unstable) (2025-11-04 r88984)
* using platform: aarch64-apple-darwin20
* R was compiled by
Apple clang version 16.0.0 (clang-1600.0.26.6)
GNU Fortran (GCC) 14.2.0
* running under: macOS Ventura 13.7.8
* using session charset: UTF-8
* using option ‘--no-vignettes’
* checking for file ‘drawProteins/DESCRIPTION’ ... OK
* this is package ‘drawProteins’ version ‘1.31.0’
* package encoding: UTF-8
* checking package namespace information ... OK
* checking package dependencies ... OK
* checking if this is a source package ... OK
* checking if there is a namespace ... OK
* checking for hidden files and directories ... OK
* checking for portable file names ... OK
* checking for sufficient/correct file permissions ... OK
* checking whether package ‘drawProteins’ can be installed ... OK
* checking installed package size ... OK
* checking package directory ... OK
* checking ‘build’ directory ... OK
* checking DESCRIPTION meta-information ... NOTE
License stub is invalid DCF.
* checking top-level files ... OK
* checking for left-over files ... OK
* checking index information ... OK
* checking package subdirectories ... NOTE
Problems with news in ‘NEWS’:
Cannot process chunk/lines:
CHANGES VERSION 0.98.1
* checking code files for non-ASCII characters ... OK
* checking R files for syntax errors ... OK
* checking whether the package can be loaded ... OK
* checking whether the package can be loaded with stated dependencies ... OK
* checking whether the package can be unloaded cleanly ... OK
* checking whether the namespace can be loaded with stated dependencies ... OK
* checking whether the namespace can be unloaded cleanly ... OK
* checking dependencies in R code ... OK
* checking S3 generic/method consistency ... OK
* checking replacement functions ... OK
* checking foreign function calls ... OK
* checking R code for possible problems ... OK
* checking Rd files ... OK
* checking Rd metadata ... OK
* checking Rd cross-references ... OK
* checking for missing documentation entries ... OK
* checking for code/documentation mismatches ... OK
* checking Rd \usage sections ... OK
* checking Rd contents ... OK
* checking for unstated dependencies in examples ... OK
* checking contents of ‘data’ directory ... OK
* checking data for non-ASCII characters ... OK
* checking LazyData ... OK
* checking data for ASCII and uncompressed saves ... OK
* checking files in ‘vignettes’ ... OK
* checking examples ... OK
* checking for unstated dependencies in ‘tests’ ... OK
* checking tests ...
Running ‘testthat.R’
ERROR
Running the tests in ‘tests/testthat.R’ failed.
Last 13 lines of output:
Expected `mode(p)` to equal "list".
Differences:
1/1 mismatches
x[1]: "object"
y[1]: "list"
── Failure ('test-parsers.R:79:3'): parse_gff ──────────────────────────────────
Expected `length(p)` to equal 11.
Differences:
1/1 mismatches
[1] 1 - 11 == -10
[ FAIL 24 | WARN 1 | SKIP 0 | PASS 159 ]
Error:
! Test failures.
Execution halted
* checking for unstated dependencies in vignettes ... OK
* checking package vignettes ... OK
* checking running R code from vignettes ... SKIPPED
* checking re-building of vignette outputs ... SKIPPED
* checking PDF version of manual ... OK
* DONE
Status: 1 ERROR, 2 NOTEs
See
‘/Users/biocbuild/bbs-3.23-bioc/meat/drawProteins.Rcheck/00check.log’
for details.
drawProteins.Rcheck/00install.out
############################################################################## ############################################################################## ### ### Running command: ### ### /Library/Frameworks/R.framework/Resources/bin/R CMD INSTALL drawProteins ### ############################################################################## ############################################################################## * installing to library ‘/Library/Frameworks/R.framework/Versions/4.6-arm64/Resources/library’ * installing *source* package ‘drawProteins’ ... ** this is package ‘drawProteins’ version ‘1.31.0’ ** using staged installation ** R ** data *** moving datasets to lazyload DB ** inst ** byte-compile and prepare package for lazy loading ** help *** installing help indices ** building package indices ** installing vignettes ** testing if installed package can be loaded from temporary location ** testing if installed package can be loaded from final location ** testing if installed package keeps a record of temporary installation path * DONE (drawProteins)
drawProteins.Rcheck/tests/testthat.Rout.fail
R Under development (unstable) (2025-11-04 r88984) -- "Unsuffered Consequences"
Copyright (C) 2025 The R Foundation for Statistical Computing
Platform: aarch64-apple-darwin20
R is free software and comes with ABSOLUTELY NO WARRANTY.
You are welcome to redistribute it under certain conditions.
Type 'license()' or 'licence()' for distribution details.
R is a collaborative project with many contributors.
Type 'contributors()' for more information and
'citation()' on how to cite R or R packages in publications.
Type 'demo()' for some demos, 'help()' for on-line help, or
'help.start()' for an HTML browser interface to help.
Type 'q()' to quit R.
> library(testthat)
> library(drawProteins)
>
> test_check("drawProteins")
Saving _problems/test-geoms-18.R
Saving _problems/test-geoms-19.R
Saving _problems/test-geoms-47.R
Saving _problems/test-geoms-48.R
Saving _problems/test-geoms-81.R
Saving _problems/test-geoms-82.R
Saving _problems/test-geoms-119.R
Saving _problems/test-geoms-120.R
Saving _problems/test-geoms-153.R
Saving _problems/test-geoms-154.R
Saving _problems/test-geoms-198.R
Saving _problems/test-geoms-199.R
Saving _problems/test-geoms-244.R
Saving _problems/test-geoms-245.R
Saving _problems/test-geoms-288.R
Saving _problems/test-geoms-289.R
Saving _problems/test-geoms-315.R
Saving _problems/test-geoms-316.R
Saving _problems/test-geoms-373.R
Saving _problems/test-geoms-374.R
[1] "Download has worked"
[1] "An error has occured. Code: 400"
Saving _problems/test-parsers-30.R
Saving _problems/test-parsers-31.R
Saving _problems/test-parsers-78.R
Saving _problems/test-parsers-79.R
[ FAIL 24 | WARN 1 | SKIP 0 | PASS 159 ]
══ Failed tests ════════════════════════════════════════════════════════════════
── Failure ('test-geoms.R:18:3'): draw_canvas ──────────────────────────────────
Expected `mode(p)` to equal "list".
Differences:
1/1 mismatches
x[1]: "object"
y[1]: "list"
── Failure ('test-geoms.R:19:3'): draw_canvas ──────────────────────────────────
Expected `length(p)` to equal 11.
Differences:
1/1 mismatches
[1] 1 - 11 == -10
── Failure ('test-geoms.R:47:3'): draw_chains ──────────────────────────────────
Expected `mode(p)` to equal "list".
Differences:
1/1 mismatches
x[1]: "object"
y[1]: "list"
── Failure ('test-geoms.R:48:3'): draw_chains ──────────────────────────────────
Expected `length(p)` to equal 11.
Differences:
1/1 mismatches
[1] 1 - 11 == -10
── Failure ('test-geoms.R:81:3'): draw_domains ─────────────────────────────────
Expected `mode(p)` to equal "list".
Differences:
1/1 mismatches
x[1]: "object"
y[1]: "list"
── Failure ('test-geoms.R:82:3'): draw_domains ─────────────────────────────────
Expected `length(p)` to equal 11.
Differences:
1/1 mismatches
[1] 1 - 11 == -10
── Failure ('test-geoms.R:119:3'): draw_phospho ────────────────────────────────
Expected `mode(p)` to equal "list".
Differences:
1/1 mismatches
x[1]: "object"
y[1]: "list"
── Failure ('test-geoms.R:120:3'): draw_phospho ────────────────────────────────
Expected `length(p)` to equal 11.
Differences:
1/1 mismatches
[1] 1 - 11 == -10
── Failure ('test-geoms.R:153:3'): draw_motif ──────────────────────────────────
Expected `mode(p)` to equal "list".
Differences:
1/1 mismatches
x[1]: "object"
y[1]: "list"
── Failure ('test-geoms.R:154:3'): draw_motif ──────────────────────────────────
Expected `length(p)` to equal 11.
Differences:
1/1 mismatches
[1] 1 - 11 == -10
── Failure ('test-geoms.R:198:3'): draw_regions ────────────────────────────────
Expected `mode(p)` to equal "list".
Differences:
1/1 mismatches
x[1]: "object"
y[1]: "list"
── Failure ('test-geoms.R:199:3'): draw_regions ────────────────────────────────
Expected `length(p)` to equal 11.
Differences:
1/1 mismatches
[1] 1 - 11 == -10
── Failure ('test-geoms.R:244:3'): draw_repeat ─────────────────────────────────
Expected `mode(p)` to equal "list".
Differences:
1/1 mismatches
x[1]: "object"
y[1]: "list"
── Failure ('test-geoms.R:245:3'): draw_repeat ─────────────────────────────────
Expected `length(p)` to equal 11.
Differences:
1/1 mismatches
[1] 1 - 11 == -10
── Failure ('test-geoms.R:288:3'): draw_recept_dom ─────────────────────────────
Expected `mode(p)` to equal "list".
Differences:
1/1 mismatches
x[1]: "object"
y[1]: "list"
── Failure ('test-geoms.R:289:3'): draw_recept_dom ─────────────────────────────
Expected `length(p)` to equal 11.
Differences:
1/1 mismatches
[1] 1 - 11 == -10
── Failure ('test-geoms.R:315:3'): draw_recept_dom ─────────────────────────────
Expected `mode(p)` to equal "list".
Differences:
1/1 mismatches
x[1]: "object"
y[1]: "list"
── Failure ('test-geoms.R:316:3'): draw_recept_dom ─────────────────────────────
Expected `length(p)` to equal 11.
Differences:
1/1 mismatches
[1] 1 - 11 == -10
── Failure ('test-geoms.R:373:3'): draw_folding ────────────────────────────────
Expected `mode(p)` to equal "list".
Differences:
1/1 mismatches
x[1]: "object"
y[1]: "list"
── Failure ('test-geoms.R:374:3'): draw_folding ────────────────────────────────
Expected `length(p)` to equal 11.
Differences:
1/1 mismatches
[1] 1 - 11 == -10
── Failure ('test-parsers.R:30:3'): parse_gff ──────────────────────────────────
Expected `mode(p)` to equal "list".
Differences:
1/1 mismatches
x[1]: "object"
y[1]: "list"
── Failure ('test-parsers.R:31:3'): parse_gff ──────────────────────────────────
Expected `length(p)` to equal 11.
Differences:
1/1 mismatches
[1] 1 - 11 == -10
── Failure ('test-parsers.R:78:3'): parse_gff ──────────────────────────────────
Expected `mode(p)` to equal "list".
Differences:
1/1 mismatches
x[1]: "object"
y[1]: "list"
── Failure ('test-parsers.R:79:3'): parse_gff ──────────────────────────────────
Expected `length(p)` to equal 11.
Differences:
1/1 mismatches
[1] 1 - 11 == -10
[ FAIL 24 | WARN 1 | SKIP 0 | PASS 159 ]
Error:
! Test failures.
Execution halted
drawProteins.Rcheck/drawProteins-Ex.timings
| name | user | system | elapsed | |
| draw_canvas | 0.089 | 0.004 | 0.097 | |
| draw_chains | 0.194 | 0.003 | 0.208 | |
| draw_domains | 0.158 | 0.001 | 0.176 | |
| draw_folding | 0.209 | 0.002 | 0.213 | |
| draw_motif | 0.099 | 0.001 | 0.103 | |
| draw_phospho | 0.080 | 0.001 | 0.081 | |
| draw_recept_dom | 0.145 | 0.002 | 0.151 | |
| draw_regions | 0.108 | 0.001 | 0.113 | |
| draw_repeat | 0.096 | 0.001 | 0.098 | |
| extract_feat_acc | 0.003 | 0.001 | 0.004 | |
| extract_names | 0.002 | 0.001 | 0.003 | |
| extract_transcripts | 0.007 | 0.000 | 0.007 | |
| feature_to_dataframe | 0.006 | 0.002 | 0.007 | |
| get_features | 0.029 | 0.006 | 1.473 | |
| parse_gff | 0.241 | 0.017 | 1.344 | |
| phospho_site_info | 0.001 | 0.001 | 0.002 | |