Back to Build/check report for BioC 3.23:   simplified   long
ABC[D]EFGHIJKLMNOPQRSTUVWXYZ

This page was generated on 2025-11-13 11:32 -0500 (Thu, 13 Nov 2025).

HostnameOSArch (*)R versionInstalled pkgs
kjohnson3macOS 13.7.7 Venturaarm64R Under development (unstable) (2025-11-04 r88984) -- "Unsuffered Consequences" 4013
Click on any hostname to see more info about the system (e.g. compilers)      (*) as reported by 'uname -p', except on Windows and Mac OS X

Package 606/2325HostnameOS / ArchINSTALLBUILDCHECKBUILD BIN
dominatR 0.99.4  (landing page)
Simon Lizarazo
Snapshot Date: 2025-11-12 13:40 -0500 (Wed, 12 Nov 2025)
git_url: https://git.bioconductor.org/packages/dominatR
git_branch: devel
git_last_commit: de43091
git_last_commit_date: 2025-10-28 16:24:19 -0500 (Tue, 28 Oct 2025)
kjohnson3macOS 13.7.7 Ventura / arm64  OK    OK    WARNINGS    OK  YES


INSTALL results for dominatR on kjohnson3

To the developers/maintainers of the dominatR package:
- Allow up to 24 hours (and sometimes 48 hours) for your latest push to git@git.bioconductor.org:packages/dominatR.git to reflect on this report. See Troubleshooting Build Report for more information.
- Use the following Renviron settings to reproduce errors and warnings.
- If 'R CMD check' started to fail recently on the Linux builder(s) over a missing dependency, add the missing dependency to 'Suggests:' in your DESCRIPTION file. See Renviron.bioc for more information.

raw results


Summary

Package: dominatR
Version: 0.99.4
Command: /Library/Frameworks/R.framework/Resources/bin/R CMD INSTALL dominatR
StartedAt: 2025-11-12 15:26:10 -0500 (Wed, 12 Nov 2025)
EndedAt: 2025-11-12 15:26:20 -0500 (Wed, 12 Nov 2025)
EllapsedTime: 9.9 seconds
RetCode: 0
Status:   OK  

Command output

##############################################################################
##############################################################################
###
### Running command:
###
###   /Library/Frameworks/R.framework/Resources/bin/R CMD INSTALL dominatR
###
##############################################################################
##############################################################################


* installing to library ‘/Library/Frameworks/R.framework/Versions/4.6-arm64/Resources/library’
* installing *source* package ‘dominatR’ ...
** this is package ‘dominatR’ version ‘0.99.4’
** using staged installation
** R
** byte-compile and prepare package for lazy loading
2025-11-12 15:26:13.228 R[16926:1369517] XType: Using static font registry.
** help
*** installing help indices
*** copying figures
** building package indices
** installing vignettes
** testing if installed package can be loaded from temporary location
2025-11-12 15:26:16.854 R[17204:1370272] XType: Using static font registry.
** testing if installed package can be loaded from final location
2025-11-12 15:26:19.773 R[17394:1370843] XType: Using static font registry.
** testing if installed package keeps a record of temporary installation path
* DONE (dominatR)