Back to Build/check report for BioC 3.23:   simplified   long
ABC[D]EFGHIJKLMNOPQRSTUVWXYZ

This page was generated on 2025-11-13 11:32 -0500 (Thu, 13 Nov 2025).

HostnameOSArch (*)R versionInstalled pkgs
kjohnson3macOS 13.7.7 Venturaarm64R Under development (unstable) (2025-11-04 r88984) -- "Unsuffered Consequences" 4013
Click on any hostname to see more info about the system (e.g. compilers)      (*) as reported by 'uname -p', except on Windows and Mac OS X

Package 590/2325HostnameOS / ArchINSTALLBUILDCHECKBUILD BIN
divergence 1.27.0  (landing page)
Wikum Dinalankara , Luigi Marchionni
Snapshot Date: 2025-11-12 13:40 -0500 (Wed, 12 Nov 2025)
git_url: https://git.bioconductor.org/packages/divergence
git_branch: devel
git_last_commit: 3e893d2
git_last_commit_date: 2025-10-29 10:49:51 -0500 (Wed, 29 Oct 2025)
kjohnson3macOS 13.7.7 Ventura / arm64  OK    OK    OK    OK  YES


CHECK results for divergence on kjohnson3

To the developers/maintainers of the divergence package:
- Allow up to 24 hours (and sometimes 48 hours) for your latest push to git@git.bioconductor.org:packages/divergence.git to reflect on this report. See Troubleshooting Build Report for more information.
- Use the following Renviron settings to reproduce errors and warnings.
- If 'R CMD check' started to fail recently on the Linux builder(s) over a missing dependency, add the missing dependency to 'Suggests:' in your DESCRIPTION file. See Renviron.bioc for more information.

raw results


Summary

Package: divergence
Version: 1.27.0
Command: /Library/Frameworks/R.framework/Resources/bin/R CMD check --install=check:divergence.install-out.txt --library=/Library/Frameworks/R.framework/Resources/library --no-vignettes --timings divergence_1.27.0.tar.gz
StartedAt: 2025-11-12 18:35:40 -0500 (Wed, 12 Nov 2025)
EndedAt: 2025-11-12 18:36:57 -0500 (Wed, 12 Nov 2025)
EllapsedTime: 76.9 seconds
RetCode: 0
Status:   OK  
CheckDir: divergence.Rcheck
Warnings: 0

Command output

##############################################################################
##############################################################################
###
### Running command:
###
###   /Library/Frameworks/R.framework/Resources/bin/R CMD check --install=check:divergence.install-out.txt --library=/Library/Frameworks/R.framework/Resources/library --no-vignettes --timings divergence_1.27.0.tar.gz
###
##############################################################################
##############################################################################


* using log directory ‘/Users/biocbuild/bbs-3.23-bioc/meat/divergence.Rcheck’
* using R Under development (unstable) (2025-11-04 r88984)
* using platform: aarch64-apple-darwin20
* R was compiled by
    Apple clang version 16.0.0 (clang-1600.0.26.6)
    GNU Fortran (GCC) 14.2.0
* running under: macOS Ventura 13.7.8
* using session charset: UTF-8
* using option ‘--no-vignettes’
* checking for file ‘divergence/DESCRIPTION’ ... OK
* this is package ‘divergence’ version ‘1.27.0’
* package encoding: UTF-8
* checking package namespace information ... OK
* checking package dependencies ... OK
* checking if this is a source package ... OK
* checking if there is a namespace ... OK
* checking for hidden files and directories ... OK
* checking for portable file names ... OK
* checking for sufficient/correct file permissions ... OK
* checking whether package ‘divergence’ can be installed ... OK
* checking installed package size ... OK
* checking package directory ... OK
* checking ‘build’ directory ... OK
* checking DESCRIPTION meta-information ... OK
* checking top-level files ... NOTE
File
  LICENSE
is not mentioned in the DESCRIPTION file.
* checking for left-over files ... OK
* checking index information ... OK
* checking package subdirectories ... OK
* checking code files for non-ASCII characters ... OK
* checking R files for syntax errors ... OK
* checking whether the package can be loaded ... OK
* checking whether the package can be loaded with stated dependencies ... OK
* checking whether the package can be unloaded cleanly ... OK
* checking whether the namespace can be loaded with stated dependencies ... OK
* checking whether the namespace can be unloaded cleanly ... OK
* checking dependencies in R code ... OK
* checking S3 generic/method consistency ... OK
* checking replacement functions ... OK
* checking foreign function calls ... OK
* checking R code for possible problems ... NOTE
check_SE: no visible binding for global variable ‘data’
computeSingleFeaturesetBinaryVector: no visible global function
  definition for ‘dist’
computeSingleFeaturesetSupport: no visible global function definition
  for ‘dist’
computeSingleFeaturesetSupport: no visible global function definition
  for ‘quantile’
computeSingleRange: no visible global function definition for
  ‘quantile’
getRangesBySections: no visible global function definition for
  ‘detectCores’
rowChiSq: no visible global function definition for ‘chisq.test’
rowChiSq: no visible global function definition for ‘xtabs’
Undefined global functions or variables:
  chisq.test data detectCores dist quantile xtabs
Consider adding
  importFrom("stats", "chisq.test", "dist", "quantile", "xtabs")
  importFrom("utils", "data")
to your NAMESPACE file.
* checking Rd files ... NOTE
checkRd: (-1) computeMultivariateDigitization.Rd:26: Lost braces; missing escapes or markup?
    26 | By default gamma = {0.01, 0.02, ... 0.09, 0.1, 0.2, ..., 0.9}.}
       |                    ^
checkRd: (-1) computeUnivariateDigitization.Rd:22: Lost braces; missing escapes or markup?
    22 | By default gamma = {0.01, 0.02, ... 0.09, 0.1, 0.2, ..., 0.9}.}
       |                    ^
* checking Rd metadata ... OK
* checking Rd cross-references ... OK
* checking for missing documentation entries ... OK
* checking for code/documentation mismatches ... OK
* checking Rd \usage sections ... OK
* checking Rd contents ... OK
* checking for unstated dependencies in examples ... OK
* checking contents of ‘data’ directory ... OK
* checking data for non-ASCII characters ... OK
* checking LazyData ... OK
* checking data for ASCII and uncompressed saves ... OK
* checking files in ‘vignettes’ ... OK
* checking examples ... OK
Examples with CPU (user + system) or elapsed time > 5s
                                user system elapsed
computeChiSquaredTest          7.626 10.229   2.541
findUnivariateGammaWithSupport 6.996  9.422   1.964
computeUnivariateDigitization  6.624  9.013   1.992
* checking for unstated dependencies in vignettes ... OK
* checking package vignettes ... NOTE
Package vignette with \VignetteEngine{} not specifying an engine package:
  ‘divergence.Rmd’
Engines should be specified as \VignetteEngine{PKG::ENG}.
* checking running R code from vignettes ... SKIPPED
* checking re-building of vignette outputs ... SKIPPED
* checking PDF version of manual ... OK
* DONE

Status: 4 NOTEs
See
  ‘/Users/biocbuild/bbs-3.23-bioc/meat/divergence.Rcheck/00check.log’
for details.


Installation output

divergence.Rcheck/00install.out

##############################################################################
##############################################################################
###
### Running command:
###
###   /Library/Frameworks/R.framework/Resources/bin/R CMD INSTALL divergence
###
##############################################################################
##############################################################################


* installing to library ‘/Library/Frameworks/R.framework/Versions/4.6-arm64/Resources/library’
* installing *source* package ‘divergence’ ...
** this is package ‘divergence’ version ‘1.27.0’
** using staged installation
** R
** data
*** moving datasets to lazyload DB
** byte-compile and prepare package for lazy loading
** help
*** installing help indices
** building package indices
** installing vignettes
** testing if installed package can be loaded from temporary location
** testing if installed package can be loaded from final location
** testing if installed package keeps a record of temporary installation path
* DONE (divergence)

Tests output


Example timings

divergence.Rcheck/divergence-Ex.timings

nameusersystemelapsed
computeChiSquaredTest 7.62610.229 2.541
computeMultivariateBinaryMatrix0.5660.0920.732
computeMultivariateDigitization1.2060.1221.386
computeMultivariateSupport0.0960.0070.108
computeQuantileMatrix0.0160.0000.020
computeUnivariateDigitization6.6249.0131.992
computeUnivariateSupport0.6141.0310.226
computeUnivariateTernaryMatrix0.9100.9260.678
findMultivariateGammaWithSupport0.1940.0320.243
findUnivariateGammaWithSupport6.9969.4221.964