| Back to Build/check report for BioC 3.23: simplified long |
|
This page was generated on 2025-11-12 11:32 -0500 (Wed, 12 Nov 2025).
| Hostname | OS | Arch (*) | R version | Installed pkgs |
|---|---|---|---|---|
| nebbiolo1 | Linux (Ubuntu 24.04.3 LTS) | x86_64 | R Under development (unstable) (2025-10-20 r88955) -- "Unsuffered Consequences" | 4823 |
| Click on any hostname to see more info about the system (e.g. compilers) (*) as reported by 'uname -p', except on Windows and Mac OS X | ||||
| Package 514/2325 | Hostname | OS / Arch | INSTALL | BUILD | CHECK | BUILD BIN | ||||||||
| dar 1.7.0 (landing page) Francesc Catala-Moll
| nebbiolo1 | Linux (Ubuntu 24.04.3 LTS) / x86_64 | OK | OK | OK | |||||||||
|
To the developers/maintainers of the dar package: - Allow up to 24 hours (and sometimes 48 hours) for your latest push to git@git.bioconductor.org:packages/dar.git to reflect on this report. See Troubleshooting Build Report for more information. - Use the following Renviron settings to reproduce errors and warnings. - If 'R CMD check' started to fail recently on the Linux builder(s) over a missing dependency, add the missing dependency to 'Suggests:' in your DESCRIPTION file. See Renviron.bioc for more information. |
| Package: dar |
| Version: 1.7.0 |
| Command: /home/biocbuild/bbs-3.23-bioc/R/bin/R CMD check --install=check:dar.install-out.txt --library=/home/biocbuild/bbs-3.23-bioc/R/site-library --timings dar_1.7.0.tar.gz |
| StartedAt: 2025-11-11 22:42:28 -0500 (Tue, 11 Nov 2025) |
| EndedAt: 2025-11-11 22:58:35 -0500 (Tue, 11 Nov 2025) |
| EllapsedTime: 967.2 seconds |
| RetCode: 0 |
| Status: OK |
| CheckDir: dar.Rcheck |
| Warnings: 0 |
##############################################################################
##############################################################################
###
### Running command:
###
### /home/biocbuild/bbs-3.23-bioc/R/bin/R CMD check --install=check:dar.install-out.txt --library=/home/biocbuild/bbs-3.23-bioc/R/site-library --timings dar_1.7.0.tar.gz
###
##############################################################################
##############################################################################
* using log directory ‘/home/biocbuild/bbs-3.23-bioc/meat/dar.Rcheck’
* using R Under development (unstable) (2025-10-20 r88955)
* using platform: x86_64-pc-linux-gnu
* R was compiled by
gcc (Ubuntu 13.3.0-6ubuntu2~24.04) 13.3.0
GNU Fortran (Ubuntu 13.3.0-6ubuntu2~24.04) 13.3.0
* running under: Ubuntu 24.04.3 LTS
* using session charset: UTF-8
* checking for file ‘dar/DESCRIPTION’ ... OK
* this is package ‘dar’ version ‘1.7.0’
* package encoding: UTF-8
* checking package namespace information ... OK
* checking package dependencies ... INFO
Imports includes 21 non-default packages.
Importing from so many packages makes the package vulnerable to any of
them becoming unavailable. Move as many as possible to Suggests and
use conditionally.
* checking if this is a source package ... OK
* checking if there is a namespace ... OK
* checking for hidden files and directories ... OK
* checking for portable file names ... OK
* checking for sufficient/correct file permissions ... OK
* checking whether package ‘dar’ can be installed ... OK
* checking installed package size ... OK
* checking package directory ... OK
* checking ‘build’ directory ... OK
* checking DESCRIPTION meta-information ... OK
* checking top-level files ... OK
* checking for left-over files ... OK
* checking index information ... OK
* checking package subdirectories ... OK
* checking code files for non-ASCII characters ... OK
* checking R files for syntax errors ... OK
* checking whether the package can be loaded ... OK
* checking whether the package can be loaded with stated dependencies ... OK
* checking whether the package can be unloaded cleanly ... OK
* checking whether the namespace can be loaded with stated dependencies ... OK
* checking whether the namespace can be unloaded cleanly ... OK
* checking loading without being on the library search path ... OK
* checking dependencies in R code ... OK
* checking S3 generic/method consistency ... OK
* checking replacement functions ... OK
* checking foreign function calls ... OK
* checking R code for possible problems ... OK
* checking Rd files ... OK
* checking Rd metadata ... OK
* checking Rd cross-references ... OK
* checking for missing documentation entries ... OK
* checking for code/documentation mismatches ... OK
* checking Rd \usage sections ... OK
* checking Rd contents ... OK
* checking for unstated dependencies in examples ... OK
* checking contents of ‘data’ directory ... OK
* checking data for non-ASCII characters ... OK
* checking data for ASCII and uncompressed saves ... OK
* checking R/sysdata.rda ... OK
* checking files in ‘vignettes’ ... OK
* checking examples ... OK
Examples with CPU (user + system) or elapsed time > 5s
user system elapsed
step_aldex 15.299 0.829 16.128
prep 6.640 0.374 53.315
step_deseq 6.167 0.073 6.241
import_steps 4.610 0.584 40.715
step_metagenomeseq 3.469 0.017 11.087
export_steps 2.880 0.235 13.564
recipe 2.857 0.174 22.430
* checking for unstated dependencies in ‘tests’ ... OK
* checking tests ...
Running ‘testthat.R’
OK
* checking for unstated dependencies in vignettes ... OK
* checking package vignettes ... OK
* checking re-building of vignette outputs ... OK
* checking PDF version of manual ... OK
* DONE
Status: OK
dar.Rcheck/00install.out
############################################################################## ############################################################################## ### ### Running command: ### ### /home/biocbuild/bbs-3.23-bioc/R/bin/R CMD INSTALL dar ### ############################################################################## ############################################################################## * installing to library ‘/home/biocbuild/bbs-3.23-bioc/R/site-library’ * installing *source* package ‘dar’ ... ** this is package ‘dar’ version ‘1.7.0’ ** using staged installation ** R ** data ** inst ** byte-compile and prepare package for lazy loading ** help *** installing help indices *** copying figures ** building package indices ** installing vignettes ** testing if installed package can be loaded from temporary location ** testing if installed package can be loaded from final location ** testing if installed package keeps a record of temporary installation path * DONE (dar)
dar.Rcheck/tests/testthat.Rout
R Under development (unstable) (2025-10-20 r88955) -- "Unsuffered Consequences"
Copyright (C) 2025 The R Foundation for Statistical Computing
Platform: x86_64-pc-linux-gnu
R is free software and comes with ABSOLUTELY NO WARRANTY.
You are welcome to redistribute it under certain conditions.
Type 'license()' or 'licence()' for distribution details.
R is a collaborative project with many contributors.
Type 'contributors()' for more information and
'citation()' on how to cite R or R packages in publications.
Type 'demo()' for some demos, 'help()' for on-line help, or
'help.start()' for an HTML browser interface to help.
Type 'q()' to quit R.
> library(testthat)
> library(dar)
>
> test_check("dar")
Starting 2 test processes
[ FAIL 0 | WARN 3 | SKIP 10 | PASS 81 ]
══ Skipped tests (10) ══════════════════════════════════════════════════════════
• On CRAN (9): 'test-roxytest-tests-bake.R:18:3',
'test-roxytest-tests-lefse.R:15:3', 'test-roxytest-tests-maaslin2.R:16:3',
'test-roxytest-tests-pkg_check.R:6:3', 'test-roxytest-tests-misc.R:73:3',
'test-roxytest-tests-misc.R:101:3', 'test-roxytest-tests-misc.R:108:3',
'test-roxytest-tests-read_data.R:24:3',
'test-roxytest-tests-steps_and_checks.R:7:3'
• Temporary disabling due to problems with the ANCOM package (1):
'test-roxytest-tests-ancom.R:6:3'
[ FAIL 0 | WARN 3 | SKIP 10 | PASS 81 ]
>
> proc.time()
user system elapsed
220.264 12.574 273.767
dar.Rcheck/dar-Ex.timings
| name | user | system | elapsed | |
| abundance_plt | 2.532 | 0.204 | 2.735 | |
| add_tax | 0.164 | 0.000 | 0.163 | |
| add_var | 0.156 | 0.002 | 0.157 | |
| bake | 0.503 | 0.010 | 0.512 | |
| contains_rarefaction | 0.942 | 0.107 | 1.050 | |
| cool | 0.275 | 0.001 | 0.275 | |
| corr_heatmap | 4.777 | 0.141 | 4.922 | |
| exclusion_plt | 1.124 | 0.003 | 1.127 | |
| export_steps | 2.880 | 0.235 | 13.564 | |
| find_intersections | 0.179 | 0.001 | 0.180 | |
| get_comparisons | 0.021 | 0.001 | 0.022 | |
| get_phy | 0.020 | 0.001 | 0.021 | |
| get_tax | 0.023 | 0.002 | 0.025 | |
| get_var | 0.025 | 0.001 | 0.026 | |
| import_steps | 4.610 | 0.584 | 40.715 | |
| intersection_df | 0.154 | 0.001 | 0.155 | |
| intersection_plt | 2.217 | 0.027 | 2.244 | |
| mutual_plt | 2.470 | 0.062 | 2.533 | |
| otu_table | 0.418 | 0.033 | 0.452 | |
| overlap_df | 0.235 | 0.007 | 0.243 | |
| phy_qc | 1.143 | 0.042 | 1.184 | |
| prep | 6.640 | 0.374 | 53.315 | |
| rand_id | 0 | 0 | 0 | |
| read_data | 1.324 | 0.578 | 1.717 | |
| recipe | 2.857 | 0.174 | 22.430 | |
| required_deps | 0.036 | 0.005 | 0.041 | |
| sample_data | 0.034 | 0.002 | 0.036 | |
| step_aldex | 15.299 | 0.829 | 16.128 | |
| step_ancom | 0.000 | 0.001 | 0.000 | |
| step_corncob | 2.009 | 0.014 | 2.024 | |
| step_deseq | 6.167 | 0.073 | 6.241 | |
| step_filter_by_abundance | 0.042 | 0.002 | 0.044 | |
| step_filter_by_prevalence | 0.044 | 0.000 | 0.043 | |
| step_filter_by_rarity | 0.041 | 0.002 | 0.043 | |
| step_filter_by_variance | 0.043 | 0.001 | 0.043 | |
| step_filter_taxa | 0.042 | 0.000 | 0.041 | |
| step_lefse | 0.067 | 0.004 | 0.072 | |
| step_maaslin | 3.204 | 0.029 | 3.234 | |
| step_metagenomeseq | 3.469 | 0.017 | 11.087 | |
| step_rarefaction | 0.052 | 0.004 | 0.056 | |
| step_subset_taxa | 0.042 | 0.002 | 0.044 | |
| step_wilcox | 2.138 | 0.045 | 2.183 | |
| steps_ids | 0.012 | 0.000 | 0.011 | |
| tax_table | 0.047 | 0.000 | 0.047 | |
| tidyeval | 0.013 | 0.001 | 0.015 | |
| to_tibble | 0.375 | 0.001 | 0.377 | |
| use_rarefy | 0.015 | 0.000 | 0.015 | |
| zero_otu | 0.425 | 0.002 | 0.428 | |