| Back to Build/check report for BioC 3.23: simplified long |
|
This page was generated on 2025-11-13 11:32 -0500 (Thu, 13 Nov 2025).
| Hostname | OS | Arch (*) | R version | Installed pkgs |
|---|---|---|---|---|
| kjohnson3 | macOS 13.7.7 Ventura | arm64 | R Under development (unstable) (2025-11-04 r88984) -- "Unsuffered Consequences" | 4013 |
| Click on any hostname to see more info about the system (e.g. compilers) (*) as reported by 'uname -p', except on Windows and Mac OS X | ||||
| Package 444/2325 | Hostname | OS / Arch | INSTALL | BUILD | CHECK | BUILD BIN | ||||||||
| corral 1.21.0 (landing page) Lauren Hsu
| kjohnson3 | macOS 13.7.7 Ventura / arm64 | OK | OK | OK | OK | ||||||||
|
To the developers/maintainers of the corral package: - Allow up to 24 hours (and sometimes 48 hours) for your latest push to git@git.bioconductor.org:packages/corral.git to reflect on this report. See Troubleshooting Build Report for more information. - Use the following Renviron settings to reproduce errors and warnings. - If 'R CMD check' started to fail recently on the Linux builder(s) over a missing dependency, add the missing dependency to 'Suggests:' in your DESCRIPTION file. See Renviron.bioc for more information. |
| Package: corral |
| Version: 1.21.0 |
| Command: /Library/Frameworks/R.framework/Resources/bin/R CMD check --install=check:corral.install-out.txt --library=/Library/Frameworks/R.framework/Resources/library --no-vignettes --timings corral_1.21.0.tar.gz |
| StartedAt: 2025-11-12 18:26:04 -0500 (Wed, 12 Nov 2025) |
| EndedAt: 2025-11-12 18:28:11 -0500 (Wed, 12 Nov 2025) |
| EllapsedTime: 127.6 seconds |
| RetCode: 0 |
| Status: OK |
| CheckDir: corral.Rcheck |
| Warnings: 0 |
##############################################################################
##############################################################################
###
### Running command:
###
### /Library/Frameworks/R.framework/Resources/bin/R CMD check --install=check:corral.install-out.txt --library=/Library/Frameworks/R.framework/Resources/library --no-vignettes --timings corral_1.21.0.tar.gz
###
##############################################################################
##############################################################################
* using log directory ‘/Users/biocbuild/bbs-3.23-bioc/meat/corral.Rcheck’
* using R Under development (unstable) (2025-11-04 r88984)
* using platform: aarch64-apple-darwin20
* R was compiled by
Apple clang version 16.0.0 (clang-1600.0.26.6)
GNU Fortran (GCC) 14.2.0
* running under: macOS Ventura 13.7.8
* using session charset: UTF-8
* using option ‘--no-vignettes’
* checking for file ‘corral/DESCRIPTION’ ... OK
* this is package ‘corral’ version ‘1.21.0’
* package encoding: UTF-8
* checking package namespace information ... OK
* checking package dependencies ... OK
* checking if this is a source package ... OK
* checking if there is a namespace ... OK
* checking for hidden files and directories ... OK
* checking for portable file names ... OK
* checking for sufficient/correct file permissions ... OK
* checking whether package ‘corral’ can be installed ... OK
* checking installed package size ... OK
* checking package directory ... OK
* checking ‘build’ directory ... OK
* checking DESCRIPTION meta-information ... OK
* checking top-level files ... OK
* checking for left-over files ... OK
* checking index information ... OK
* checking package subdirectories ... OK
* checking code files for non-ASCII characters ... OK
* checking R files for syntax errors ... OK
* checking whether the package can be loaded ... OK
* checking whether the package can be loaded with stated dependencies ... OK
* checking whether the package can be unloaded cleanly ... OK
* checking whether the namespace can be loaded with stated dependencies ... OK
* checking whether the namespace can be unloaded cleanly ... OK
* checking dependencies in R code ... NOTE
Unexported object imported by a ':::' call: ‘ggthemes:::check_pal_n’
See the note in ?`:::` about the use of this operator.
* checking S3 generic/method consistency ... OK
* checking replacement functions ... OK
* checking foreign function calls ... OK
* checking R code for possible problems ... NOTE
biplot_corral: no visible binding for global variable ‘Name’
plot_embedding: no visible binding for global variable ‘Xdim’
plot_embedding: no visible binding for global variable ‘Ydim’
scal_var: no visible binding for global variable ‘PC_ind’
scal_var: no visible binding for global variable ‘sv’
scal_var: no visible binding for global variable ‘Batch’
Undefined global functions or variables:
Batch Name PC_ind Xdim Ydim sv
* checking Rd files ... NOTE
prepare_Rd: corral_preproc.Rd:41-43: Dropping empty section \details
* checking Rd metadata ... OK
* checking Rd cross-references ... NOTE
Found the following Rd file(s) with Rd \link{} targets missing package
anchors:
corral.Rd: SingleCellExperiment
corralm.Rd: SingleCellExperiment
plot_embedding.Rd: ggplot2
plot_embedding_sce.Rd: SingleCellExperiment, ggplot2
scal_var.Rd: ggplot2
Please provide package anchors for all Rd \link{} targets not in the
package itself and the base packages.
* checking for missing documentation entries ... OK
* checking for code/documentation mismatches ... OK
* checking Rd \usage sections ... OK
* checking Rd contents ... OK
* checking for unstated dependencies in examples ... OK
* checking files in ‘vignettes’ ... OK
* checking examples ... OK
Examples with CPU (user + system) or elapsed time > 5s
user system elapsed
biplot_corral 15.314 1.371 17.690
corralm 5.280 0.584 6.479
corral 4.921 0.606 6.140
add_embeddings2scelist 4.852 0.232 5.804
* checking for unstated dependencies in ‘tests’ ... OK
* checking tests ...
Running ‘testthat.R’
OK
* checking for unstated dependencies in vignettes ... OK
* checking package vignettes ... OK
* checking running R code from vignettes ... SKIPPED
* checking re-building of vignette outputs ... SKIPPED
* checking PDF version of manual ... OK
* DONE
Status: 4 NOTEs
See
‘/Users/biocbuild/bbs-3.23-bioc/meat/corral.Rcheck/00check.log’
for details.
corral.Rcheck/00install.out
############################################################################## ############################################################################## ### ### Running command: ### ### /Library/Frameworks/R.framework/Resources/bin/R CMD INSTALL corral ### ############################################################################## ############################################################################## * installing to library ‘/Library/Frameworks/R.framework/Versions/4.6-arm64/Resources/library’ * installing *source* package ‘corral’ ... ** this is package ‘corral’ version ‘1.21.0’ ** using staged installation ** R ** inst ** byte-compile and prepare package for lazy loading ** help *** installing help indices ** building package indices ** installing vignettes ** testing if installed package can be loaded from temporary location ** testing if installed package can be loaded from final location ** testing if installed package keeps a record of temporary installation path * DONE (corral)
corral.Rcheck/tests/testthat.Rout
R Under development (unstable) (2025-11-04 r88984) -- "Unsuffered Consequences" Copyright (C) 2025 The R Foundation for Statistical Computing Platform: aarch64-apple-darwin20 R is free software and comes with ABSOLUTELY NO WARRANTY. You are welcome to redistribute it under certain conditions. Type 'license()' or 'licence()' for distribution details. R is a collaborative project with many contributors. Type 'contributors()' for more information and 'citation()' on how to cite R or R packages in publications. Type 'demo()' for some demos, 'help()' for on-line help, or 'help.start()' for an HTML browser interface to help. Type 'q()' to quit R. > > proc.time() user system elapsed 0.109 0.041 0.139
corral.Rcheck/corral-Ex.timings
| name | user | system | elapsed | |
| add_embeddings2scelist | 4.852 | 0.232 | 5.804 | |
| all_are | 0.001 | 0.000 | 0.000 | |
| biplot_corral | 15.314 | 1.371 | 17.690 | |
| compsvd | 0.002 | 0.002 | 0.003 | |
| corral | 4.921 | 0.606 | 6.140 | |
| corral_preproc | 0.003 | 0.001 | 0.003 | |
| corralm | 5.280 | 0.584 | 6.479 | |
| earthmover_dist | 0.010 | 0.001 | 0.012 | |
| get_pct_var_exp_svd | 0 | 0 | 0 | |
| get_weights | 0.001 | 0.000 | 0.001 | |
| list2mat | 0.000 | 0.000 | 0.001 | |
| na2zero | 0.007 | 0.009 | 0.016 | |
| pairwise_rv | 0.001 | 0.000 | 0.001 | |
| plot_embedding | 0.325 | 0.035 | 0.407 | |
| plot_embedding_sce | 2.736 | 0.248 | 3.400 | |
| rv | 0.000 | 0.000 | 0.001 | |
| scal_var | 0.114 | 0.001 | 0.132 | |
| scal_var_mat | 0.005 | 0.000 | 0.006 | |
| sce2matlist | 2.580 | 0.337 | 3.250 | |
| trim_matdist | 0.023 | 0.001 | 0.023 | |
| var_stabilize | 0 | 0 | 0 | |