Back to Build/check report for BioC 3.23:   simplified   long
AB[C]DEFGHIJKLMNOPQRSTUVWXYZ

This page was generated on 2025-11-12 11:32 -0500 (Wed, 12 Nov 2025).

HostnameOSArch (*)R versionInstalled pkgs
nebbiolo1Linux (Ubuntu 24.04.3 LTS)x86_64R Under development (unstable) (2025-10-20 r88955) -- "Unsuffered Consequences" 4823
Click on any hostname to see more info about the system (e.g. compilers)      (*) as reported by 'uname -p', except on Windows and Mac OS X

Package 415/2325HostnameOS / ArchINSTALLBUILDCHECKBUILD BIN
cola 2.17.0  (landing page)
Zuguang Gu
Snapshot Date: 2025-11-11 13:40 -0500 (Tue, 11 Nov 2025)
git_url: https://git.bioconductor.org/packages/cola
git_branch: devel
git_last_commit: 7589392
git_last_commit_date: 2025-10-29 10:49:39 -0500 (Wed, 29 Oct 2025)
nebbiolo1Linux (Ubuntu 24.04.3 LTS) / x86_64  OK    OK    OK  UNNEEDED, same version is already published


CHECK results for cola on nebbiolo1

To the developers/maintainers of the cola package:
- Allow up to 24 hours (and sometimes 48 hours) for your latest push to git@git.bioconductor.org:packages/cola.git to reflect on this report. See Troubleshooting Build Report for more information.
- Use the following Renviron settings to reproduce errors and warnings.
- If 'R CMD check' started to fail recently on the Linux builder(s) over a missing dependency, add the missing dependency to 'Suggests:' in your DESCRIPTION file. See Renviron.bioc for more information.

raw results


Summary

Package: cola
Version: 2.17.0
Command: /home/biocbuild/bbs-3.23-bioc/R/bin/R CMD check --install=check:cola.install-out.txt --library=/home/biocbuild/bbs-3.23-bioc/R/site-library --timings cola_2.17.0.tar.gz
StartedAt: 2025-11-11 22:17:46 -0500 (Tue, 11 Nov 2025)
EndedAt: 2025-11-11 22:20:43 -0500 (Tue, 11 Nov 2025)
EllapsedTime: 177.2 seconds
RetCode: 0
Status:   OK  
CheckDir: cola.Rcheck
Warnings: 0

Command output

##############################################################################
##############################################################################
###
### Running command:
###
###   /home/biocbuild/bbs-3.23-bioc/R/bin/R CMD check --install=check:cola.install-out.txt --library=/home/biocbuild/bbs-3.23-bioc/R/site-library --timings cola_2.17.0.tar.gz
###
##############################################################################
##############################################################################


* using log directory ‘/home/biocbuild/bbs-3.23-bioc/meat/cola.Rcheck’
* using R Under development (unstable) (2025-10-20 r88955)
* using platform: x86_64-pc-linux-gnu
* R was compiled by
    gcc (Ubuntu 13.3.0-6ubuntu2~24.04) 13.3.0
    GNU Fortran (Ubuntu 13.3.0-6ubuntu2~24.04) 13.3.0
* running under: Ubuntu 24.04.3 LTS
* using session charset: UTF-8
* checking for file ‘cola/DESCRIPTION’ ... OK
* checking extension type ... Package
* this is package ‘cola’ version ‘2.17.0’
* checking package namespace information ... OK
* checking package dependencies ... INFO
Imports includes 27 non-default packages.
Importing from so many packages makes the package vulnerable to any of
them becoming unavailable.  Move as many as possible to Suggests and
use conditionally.
* checking if this is a source package ... OK
* checking if there is a namespace ... OK
* checking for hidden files and directories ... OK
* checking for portable file names ... OK
* checking for sufficient/correct file permissions ... OK
* checking whether package ‘cola’ can be installed ... OK
* used C++ compiler: ‘g++ (Ubuntu 13.3.0-6ubuntu2~24.04) 13.3.0’
* checking installed package size ... INFO
  installed size is  6.1Mb
  sub-directories of 1Mb or more:
    data   3.3Mb
    libs   1.1Mb
* checking package directory ... OK
* checking ‘build’ directory ... OK
* checking DESCRIPTION meta-information ... NOTE
License stub is invalid DCF.
* checking top-level files ... OK
* checking for left-over files ... OK
* checking index information ... OK
* checking package subdirectories ... OK
* checking code files for non-ASCII characters ... OK
* checking R files for syntax errors ... OK
* checking whether the package can be loaded ... OK
* checking whether the package can be loaded with stated dependencies ... OK
* checking whether the package can be unloaded cleanly ... OK
* checking whether the namespace can be loaded with stated dependencies ... OK
* checking whether the namespace can be unloaded cleanly ... OK
* checking loading without being on the library search path ... OK
* checking whether startup messages can be suppressed ... OK
* checking dependencies in R code ... OK
* checking S3 generic/method consistency ... OK
* checking replacement functions ... OK
* checking foreign function calls ... OK
* checking R code for possible problems ... OK
* checking Rd files ... OK
* checking Rd metadata ... OK
* checking Rd cross-references ... NOTE
Non-topic package-anchored link(s) in Rd file 'collect_classes-ConsensusPartitionList-method.Rd':
  ‘[ComplexHeatmap:draw-HeatmapList-method]{draw,HeatmapList-method}’

See section 'Cross-references' in the 'Writing R Extensions' manual.

Found the following Rd file(s) with Rd \link{} targets missing package
anchors:
  predict_classes-ConsensusPartition-method.Rd: colorRamp2
  predict_classes-matrix-method.Rd: colorRamp2
Please provide package anchors for all Rd \link{} targets not in the
package itself and the base packages.
* checking for missing documentation entries ... OK
* checking for code/documentation mismatches ... OK
* checking Rd \usage sections ... OK
* checking Rd contents ... OK
* checking for unstated dependencies in examples ... OK
* checking contents of ‘data’ directory ... OK
* checking data for non-ASCII characters ... OK
* checking data for ASCII and uncompressed saves ... OK
* checking line endings in C/C++/Fortran sources/headers ... OK
* checking compiled code ... INFO
Note: information on .o files is not available
* checking files in ‘vignettes’ ... OK
* checking examples ... OK
Examples with CPU (user + system) or elapsed time > 5s
                                           user system elapsed
consensus_partition                      18.731  0.235  18.967
get_signatures-ConsensusPartition-method  4.929  0.129   5.059
* checking for unstated dependencies in ‘tests’ ... OK
* checking tests ...
  Running ‘test-all.R’
 OK
* checking for unstated dependencies in vignettes ... OK
* checking package vignettes ... OK
* checking re-building of vignette outputs ... OK
* checking PDF version of manual ... OK
* DONE

Status: 2 NOTEs
See
  ‘/home/biocbuild/bbs-3.23-bioc/meat/cola.Rcheck/00check.log’
for details.


Installation output

cola.Rcheck/00install.out

##############################################################################
##############################################################################
###
### Running command:
###
###   /home/biocbuild/bbs-3.23-bioc/R/bin/R CMD INSTALL cola
###
##############################################################################
##############################################################################


* installing to library ‘/home/biocbuild/bbs-3.23-bioc/R/site-library’
* installing *source* package ‘cola’ ...
** this is package ‘cola’ version ‘2.17.0’
** using staged installation
** libs
using C++ compiler: ‘g++ (Ubuntu 13.3.0-6ubuntu2~24.04) 13.3.0’
g++ -std=gnu++17 -I"/home/biocbuild/bbs-3.23-bioc/R/include" -DNDEBUG  -I'/home/biocbuild/bbs-3.23-bioc/R/site-library/Rcpp/include' -I/usr/local/include    -fpic  -g -O2  -Wall -Werror=format-security  -c RcppExports.cpp -o RcppExports.o
g++ -std=gnu++17 -I"/home/biocbuild/bbs-3.23-bioc/R/include" -DNDEBUG  -I'/home/biocbuild/bbs-3.23-bioc/R/site-library/Rcpp/include' -I/usr/local/include    -fpic  -g -O2  -Wall -Werror=format-security  -c atc.cpp -o atc.o
g++ -std=gnu++17 -I"/home/biocbuild/bbs-3.23-bioc/R/include" -DNDEBUG  -I'/home/biocbuild/bbs-3.23-bioc/R/site-library/Rcpp/include' -I/usr/local/include    -fpic  -g -O2  -Wall -Werror=format-security  -c cal_consensus_mat.cpp -o cal_consensus_mat.o
g++ -std=gnu++17 -I"/home/biocbuild/bbs-3.23-bioc/R/include" -DNDEBUG  -I'/home/biocbuild/bbs-3.23-bioc/R/site-library/Rcpp/include' -I/usr/local/include    -fpic  -g -O2  -Wall -Werror=format-security  -c pdist.cpp -o pdist.o
g++ -std=gnu++17 -shared -L/home/biocbuild/bbs-3.23-bioc/R/lib -L/usr/local/lib -o cola.so RcppExports.o atc.o cal_consensus_mat.o pdist.o -L/home/biocbuild/bbs-3.23-bioc/R/lib -lR
installing to /home/biocbuild/bbs-3.23-bioc/R/site-library/00LOCK-cola/00new/cola/libs
** R
** data
** inst
** byte-compile and prepare package for lazy loading
** help
*** installing help indices
** building package indices
** installing vignettes
** testing if installed package can be loaded from temporary location
** checking absolute paths in shared objects and dynamic libraries
** testing if installed package can be loaded from final location
** testing if installed package keeps a record of temporary installation path
* DONE (cola)

Tests output

cola.Rcheck/tests/test-all.Rout


R Under development (unstable) (2025-10-20 r88955) -- "Unsuffered Consequences"
Copyright (C) 2025 The R Foundation for Statistical Computing
Platform: x86_64-pc-linux-gnu

R is free software and comes with ABSOLUTELY NO WARRANTY.
You are welcome to redistribute it under certain conditions.
Type 'license()' or 'licence()' for distribution details.

R is a collaborative project with many contributors.
Type 'contributors()' for more information and
'citation()' on how to cite R or R packages in publications.

Type 'demo()' for some demos, 'help()' for on-line help, or
'help.start()' for an HTML browser interface to help.
Type 'q()' to quit R.

> library(testthat)
> suppressWarnings(suppressPackageStartupMessages(library(cola)))
> 
> test_check("cola")
[ FAIL 0 | WARN 0 | SKIP 0 | PASS 18 ]
> 
> 
> proc.time()
   user  system elapsed 
  4.041   0.287   4.315 

Example timings

cola.Rcheck/cola-Ex.timings

nameusersystemelapsed
ATC0.0260.0000.026
ATC_approx0.0010.0000.000
ConsensusPartition-class0.0010.0000.000
ConsensusPartitionList-class000
DownSamplingConsensusPartition-class0.0000.0000.001
Extract.ConsensusPartitionList0.4290.0130.443
Extract.HierarchicalPartition0.2300.0060.237
ExtractExtract.ConsensusPartitionList0.1660.0060.172
ExtractExtract.HierarchicalPartition0.0010.0000.000
FCC0.1650.0110.175
HierarchicalPartition-class000
PAC0.4460.0060.452
aPAC0.1430.0200.163
adjust_matrix0.0080.0000.008
adjust_outlier0.0000.0010.001
all_leaves-HierarchicalPartition-method0.1210.0100.131
all_nodes-HierarchicalPartition-method0.1280.0130.142
all_partition_methods0.0000.0000.001
all_top_value_methods000
cola0.0460.0040.050
cola_opt0.0190.0050.024
cola_report-ConsensusPartition-method000
cola_report-ConsensusPartitionList-method000
cola_report-HierarchicalPartition-method0.0000.0000.001
cola_report-dispatch000
cola_rl0.0730.0060.079
collect_classes-ConsensusPartition-method1.7840.1031.886
collect_classes-ConsensusPartitionList-method2.7630.0502.812
collect_classes-HierarchicalPartition-method1.5340.0341.568
collect_classes-dispatch000
collect_plots-ConsensusPartition-method000
collect_plots-ConsensusPartitionList-method0.0000.0000.001
collect_plots-dispatch000
collect_stats-ConsensusPartition-method000
collect_stats-ConsensusPartitionList-method0.4230.0350.459
collect_stats-dispatch000
colnames-ConsensusPartition-method000
colnames-ConsensusPartitionList-method000
colnames-DownSamplingConsensusPartition-method000
colnames-HierarchicalPartition-method000
colnames-dispatch0.0010.0000.001
compare_partitions-ConsensusPartition-method000
compare_signatures-ConsensusPartition-method000
compare_signatures-HierarchicalPartition-method4.1530.2624.418
compare_signatures-dispatch000
concordance0.1530.0160.170
config_ATC0.0010.0000.001
consensus_heatmap-ConsensusPartition-method0.5090.0080.517
consensus_partition18.731 0.23518.967
consensus_partition_by_down_sampling0.0010.0000.001
correspond_between_rankings0.0550.0010.056
correspond_between_two_rankings0.0250.0020.027
david_enrichment0.0010.0000.000
dim.ConsensusPartition0.0000.0010.000
dim.ConsensusPartitionList000
dim.DownSamplingConsensusPartition000
dim.HierarchicalPartition000
dimension_reduction-ConsensusPartition-method0.6310.0240.655
dimension_reduction-DownSamplingConsensusPartition-method1.0430.0081.051
dimension_reduction-HierarchicalPartition-method0.5560.0080.564
dimension_reduction-dispatch0.0010.0000.001
dimension_reduction-matrix-method000
find_best_km000
functional_enrichment-ANY-method0.0010.0000.001
functional_enrichment-ConsensusPartition-method000
functional_enrichment-ConsensusPartitionList-method000
functional_enrichment-HierarchicalPartition-method0.0010.0000.001
functional_enrichment-dispatch000
get_anno-ConsensusPartition-method000
get_anno-ConsensusPartitionList-method0.0010.0000.000
get_anno-DownSamplingConsensusPartition-method0.0820.0030.085
get_anno-HierarchicalPartition-method000
get_anno-dispatch0.0000.0010.000
get_anno_col-ConsensusPartition-method000
get_anno_col-ConsensusPartitionList-method000
get_anno_col-HierarchicalPartition-method000
get_anno_col-dispatch0.0000.0000.001
get_children_nodes-HierarchicalPartition-method000
get_classes-ConsensusPartition-method0.1440.0090.153
get_classes-ConsensusPartitionList-method0.1480.0080.157
get_classes-DownSamplingConsensusPartition-method0.0790.0080.087
get_classes-HierarchicalPartition-method0.1340.0070.142
get_classes-dispatch0.0000.0010.000
get_consensus-ConsensusPartition-method0.1430.0370.180
get_matrix-ConsensusPartition-method0.3140.6170.932
get_matrix-ConsensusPartitionList-method0.2900.6310.921
get_matrix-DownSamplingConsensusPartition-method000
get_matrix-HierarchicalPartition-method0.0010.0000.000
get_matrix-dispatch0.0000.0000.001
get_membership-ConsensusPartition-method0.1470.0530.200
get_membership-ConsensusPartitionList-method0.1390.0100.149
get_membership-dispatch0.0010.0000.000
get_param-ConsensusPartition-method0.1620.0120.174
get_signatures-ConsensusPartition-method4.9290.1295.059
get_signatures-DownSamplingConsensusPartition-method000
get_signatures-HierarchicalPartition-method0.0000.0000.001
get_signatures-dispatch000
get_stats-ConsensusPartition-method0.1350.0140.148
get_stats-ConsensusPartitionList-method0.1370.0120.148
get_stats-dispatch000
golub_cola0.1690.0060.175
golub_cola_ds0.1050.0040.110
golub_cola_rh0.1660.0150.182
hierarchical_partition000
is_best_k-ConsensusPartition-method0.1390.0110.151
is_best_k-ConsensusPartitionList-method0.1430.0100.154
is_best_k-dispatch000
is_leaf_node-HierarchicalPartition-method0.1280.0020.130
is_stable_k-ConsensusPartition-method0.1500.0180.168
is_stable_k-ConsensusPartitionList-method0.1470.0100.158
is_stable_k-dispatch0.0000.0000.001
knee_finder20.0320.0000.033
knitr_add_tab_item000
knitr_insert_tabs000
map_to_entrez_id0.0010.0000.000
max_depth-HierarchicalPartition-method0.1250.0040.131
membership_heatmap-ConsensusPartition-method0.4520.0270.480
merge_node-HierarchicalPartition-method000
merge_node_param0.0000.0000.001
ncol-ConsensusPartition-method0.0000.0010.000
ncol-ConsensusPartitionList-method000
ncol-DownSamplingConsensusPartition-method0.0000.0000.001
ncol-HierarchicalPartition-method0.0000.0010.000
ncol-dispatch000
node_info-HierarchicalPartition-method0.0000.0000.001
node_level-HierarchicalPartition-method000
nrow-ConsensusPartition-method0.0000.0010.000
nrow-ConsensusPartitionList-method000
nrow-HierarchicalPartition-method0.0000.0000.001
nrow-dispatch000
plot_ecdf-ConsensusPartition-method0.1520.0080.159
predict_classes-ConsensusPartition-method0.0000.0010.000
predict_classes-dispatch000
predict_classes-matrix-method000
print.hc_table_suggest_best_k000
recalc_stats000
register_NMF000
register_SOM0.0000.0000.001
register_partition_methods0.6820.0350.718
register_top_value_methods0.0010.0000.002
relabel_class0.0080.0010.010
remove_partition_methods0.0000.0000.001
remove_top_value_methods000
rownames-ConsensusPartition-method0.0000.0010.000
rownames-ConsensusPartitionList-method000
rownames-HierarchicalPartition-method000
rownames-dispatch000
run_all_consensus_partition_methods000
select_partition_number-ConsensusPartition-method0.1540.0100.165
show-ConsensusPartition-method0.0000.0000.001
show-ConsensusPartitionList-method000
show-DownSamplingConsensusPartition-method0.1080.0040.111
show-HierarchicalPartition-method0.1680.0040.171
show-dispatch0.0000.0010.000
split_node-HierarchicalPartition-method000
suggest_best_k-ConsensusPartition-method0.1380.0110.150
suggest_best_k-ConsensusPartitionList-method0.1450.0120.158
suggest_best_k-HierarchicalPartition-method0.1340.0010.136
suggest_best_k-dispatch0.0000.0000.001
test_between_factors0.0080.0010.008
test_to_known_factors-ConsensusPartition-method0.1620.0060.168
test_to_known_factors-ConsensusPartitionList-method0.2570.0100.268
test_to_known_factors-DownSamplingConsensusPartition-method0.1000.0050.106
test_to_known_factors-HierarchicalPartition-method0.1410.0030.144
test_to_known_factors-dispatch0.0000.0000.001
top_elements_overlap0.1890.0040.194
top_rows_heatmap-ConsensusPartition-method000
top_rows_heatmap-ConsensusPartitionList-method000
top_rows_heatmap-HierarchicalPartition-method0.0000.0000.001
top_rows_heatmap-dispatch000
top_rows_heatmap-matrix-method2.9030.1203.006
top_rows_overlap-ConsensusPartitionList-method0.7420.0110.754
top_rows_overlap-HierarchicalPartition-method0.4800.0060.485
top_rows_overlap-dispatch000
top_rows_overlap-matrix-method0.1190.0010.120