Back to Build/check report for BioC 3.23:   simplified   long
AB[C]DEFGHIJKLMNOPQRSTUVWXYZ

This page was generated on 2025-11-12 11:32 -0500 (Wed, 12 Nov 2025).

HostnameOSArch (*)R versionInstalled pkgs
nebbiolo1Linux (Ubuntu 24.04.3 LTS)x86_64R Under development (unstable) (2025-10-20 r88955) -- "Unsuffered Consequences" 4823
Click on any hostname to see more info about the system (e.g. compilers)      (*) as reported by 'uname -p', except on Windows and Mac OS X

Package 385/2325HostnameOS / ArchINSTALLBUILDCHECKBUILD BIN
clustifyr 1.23.0  (landing page)
Rui Fu
Snapshot Date: 2025-11-11 13:40 -0500 (Tue, 11 Nov 2025)
git_url: https://git.bioconductor.org/packages/clustifyr
git_branch: devel
git_last_commit: a7c098e
git_last_commit_date: 2025-10-29 10:56:51 -0500 (Wed, 29 Oct 2025)
nebbiolo1Linux (Ubuntu 24.04.3 LTS) / x86_64  OK    OK    OK  UNNEEDED, same version is already published


CHECK results for clustifyr on nebbiolo1

To the developers/maintainers of the clustifyr package:
- Allow up to 24 hours (and sometimes 48 hours) for your latest push to git@git.bioconductor.org:packages/clustifyr.git to reflect on this report. See Troubleshooting Build Report for more information.
- Use the following Renviron settings to reproduce errors and warnings.
- If 'R CMD check' started to fail recently on the Linux builder(s) over a missing dependency, add the missing dependency to 'Suggests:' in your DESCRIPTION file. See Renviron.bioc for more information.

raw results


Summary

Package: clustifyr
Version: 1.23.0
Command: /home/biocbuild/bbs-3.23-bioc/R/bin/R CMD check --install=check:clustifyr.install-out.txt --library=/home/biocbuild/bbs-3.23-bioc/R/site-library --timings clustifyr_1.23.0.tar.gz
StartedAt: 2025-11-11 22:11:59 -0500 (Tue, 11 Nov 2025)
EndedAt: 2025-11-11 22:24:04 -0500 (Tue, 11 Nov 2025)
EllapsedTime: 725.0 seconds
RetCode: 0
Status:   OK  
CheckDir: clustifyr.Rcheck
Warnings: 0

Command output

##############################################################################
##############################################################################
###
### Running command:
###
###   /home/biocbuild/bbs-3.23-bioc/R/bin/R CMD check --install=check:clustifyr.install-out.txt --library=/home/biocbuild/bbs-3.23-bioc/R/site-library --timings clustifyr_1.23.0.tar.gz
###
##############################################################################
##############################################################################


* using log directory ‘/home/biocbuild/bbs-3.23-bioc/meat/clustifyr.Rcheck’
* using R Under development (unstable) (2025-10-20 r88955)
* using platform: x86_64-pc-linux-gnu
* R was compiled by
    gcc (Ubuntu 13.3.0-6ubuntu2~24.04) 13.3.0
    GNU Fortran (Ubuntu 13.3.0-6ubuntu2~24.04) 13.3.0
* running under: Ubuntu 24.04.3 LTS
* using session charset: UTF-8
* checking for file ‘clustifyr/DESCRIPTION’ ... OK
* this is package ‘clustifyr’ version ‘1.23.0’
* package encoding: UTF-8
* checking package namespace information ... OK
* checking package dependencies ... OK
* checking if this is a source package ... OK
* checking if there is a namespace ... OK
* checking for hidden files and directories ... OK
* checking for portable file names ... OK
* checking for sufficient/correct file permissions ... OK
* checking whether package ‘clustifyr’ can be installed ... OK
* checking installed package size ... OK
* checking package directory ... OK
* checking ‘build’ directory ... OK
* checking DESCRIPTION meta-information ... NOTE
License stub is invalid DCF.
* checking top-level files ... OK
* checking for left-over files ... OK
* checking index information ... OK
* checking package subdirectories ... OK
* checking code files for non-ASCII characters ... OK
* checking R files for syntax errors ... OK
* checking whether the package can be loaded ... OK
* checking whether the package can be loaded with stated dependencies ... OK
* checking whether the package can be unloaded cleanly ... OK
* checking whether the namespace can be loaded with stated dependencies ... OK
* checking whether the namespace can be unloaded cleanly ... OK
* checking loading without being on the library search path ... OK
* checking dependencies in R code ... OK
* checking S3 generic/method consistency ... OK
* checking replacement functions ... OK
* checking foreign function calls ... OK
* checking R code for possible problems ... OK
* checking Rd files ... OK
* checking Rd metadata ... OK
* checking Rd cross-references ... OK
* checking for missing documentation entries ... OK
* checking for code/documentation mismatches ... OK
* checking Rd \usage sections ... OK
* checking Rd contents ... OK
* checking for unstated dependencies in examples ... OK
* checking contents of ‘data’ directory ... OK
* checking data for non-ASCII characters ... OK
* checking LazyData ... OK
* checking data for ASCII and uncompressed saves ... OK
* checking files in ‘vignettes’ ... OK
* checking examples ... OK
Examples with CPU (user + system) or elapsed time > 5s
                         user system elapsed
plot_pathway_gsea      17.933  0.225  18.162
calculate_pathway_gsea 14.435  0.172  14.610
* checking for unstated dependencies in ‘tests’ ... OK
* checking tests ...
  Running ‘testthat.R’
 OK
* checking for unstated dependencies in vignettes ... OK
* checking package vignettes ... OK
* checking re-building of vignette outputs ... OK
* checking PDF version of manual ... OK
* DONE

Status: 1 NOTE
See
  ‘/home/biocbuild/bbs-3.23-bioc/meat/clustifyr.Rcheck/00check.log’
for details.


Installation output

clustifyr.Rcheck/00install.out

##############################################################################
##############################################################################
###
### Running command:
###
###   /home/biocbuild/bbs-3.23-bioc/R/bin/R CMD INSTALL clustifyr
###
##############################################################################
##############################################################################


* installing to library ‘/home/biocbuild/bbs-3.23-bioc/R/site-library’
* installing *source* package ‘clustifyr’ ...
** this is package ‘clustifyr’ version ‘1.23.0’
** using staged installation
** R
** data
*** moving datasets to lazyload DB
** inst
** byte-compile and prepare package for lazy loading
** help
*** installing help indices
*** copying figures
** building package indices
** installing vignettes
** testing if installed package can be loaded from temporary location
** testing if installed package can be loaded from final location
** testing if installed package keeps a record of temporary installation path
* DONE (clustifyr)

Tests output

clustifyr.Rcheck/tests/testthat.Rout


R Under development (unstable) (2025-10-20 r88955) -- "Unsuffered Consequences"
Copyright (C) 2025 The R Foundation for Statistical Computing
Platform: x86_64-pc-linux-gnu

R is free software and comes with ABSOLUTELY NO WARRANTY.
You are welcome to redistribute it under certain conditions.
Type 'license()' or 'licence()' for distribution details.

R is a collaborative project with many contributors.
Type 'contributors()' for more information and
'citation()' on how to cite R or R packages in publications.

Type 'demo()' for some demos, 'help()' for on-line help, or
'help.start()' for an HTML browser interface to help.
Type 'q()' to quit R.

> library(testthat)
> library(clustifyr)
> 
> test_check("clustifyr")
[ FAIL 0 | WARN 1 | SKIP 0 | PASS 183 ]

[ FAIL 0 | WARN 1 | SKIP 0 | PASS 183 ]
> 
> proc.time()
   user  system elapsed 
434.304   6.284 440.642 

Example timings

clustifyr.Rcheck/clustifyr-Ex.timings

nameusersystemelapsed
append_genes0.0330.0030.036
assess_rank_bias000
average_clusters0.0540.0100.065
binarize_expr0.1230.0060.129
build_atlas0.8190.0500.868
calc_distance0.0040.0000.005
calculate_pathway_gsea14.435 0.17214.610
call_consensus0.1920.0120.204
call_to_metadata0.1290.1820.310
check_raw_counts0.7640.0530.816
clustify1.7540.1091.863
clustify_lists0.0520.0060.058
clustify_nudge0.9060.0280.935
clustifyr_methods0.0000.0000.001
collapse_to_cluster1.2190.0041.223
compare_lists0.1090.0090.117
cor_to_call0.0690.0040.073
cor_to_call_rank0.0580.0000.058
cor_to_call_topn0.0590.0030.061
downsample_matrix0.0110.0010.011
feature_select_PCA0.0080.0010.010
file_marker_parse0.0020.0000.003
find_rank_bias0.0290.0010.031
gene_pct_markerm0.2860.0050.292
get_ucsc_reference000
get_vargenes0.0000.0010.001
gmt_to_list0.0360.0040.039
insert_meta_object0.2120.0090.221
make_comb_ref0.0130.0000.013
marker_select0.0230.0010.024
matrixize_markers0.0230.0050.028
object_data0.2740.0090.283
object_ref0.9130.1521.065
overcluster0.8400.0330.873
overcluster_test2.2830.0882.372
parse_loc_object0.1990.0200.219
plot_best_call0.5810.0060.587
plot_cor0.8330.0090.842
plot_cor_heatmap0.8470.0040.851
plot_dims0.3550.0010.356
plot_gene0.6840.0020.686
plot_pathway_gsea17.933 0.22518.162
plot_rank_bias000
pos_neg_marker0.0060.0010.007
pos_neg_select0.0600.0040.064
query_rank_bias0.0380.0000.038
ref_feature_select0.0300.0020.032
ref_marker_select0.1580.0000.157
reverse_marker_matrix0.0020.0030.006
run_clustifyr_app0.0000.0000.001
seurat_meta0.2650.0060.271
seurat_ref0.2240.0240.247
write_meta0.2670.0110.279