Back to Multiple platform build/check report for BioC 3.23:   simplified   long
AB[C]DEFGHIJKLMNOPQRSTUVWXYZ

This page was generated on 2025-11-15 11:35 -0500 (Sat, 15 Nov 2025).

HostnameOSArch (*)R versionInstalled pkgs
nebbiolo1Linux (Ubuntu 24.04.3 LTS)x86_64R Under development (unstable) (2025-10-20 r88955) -- "Unsuffered Consequences" 4826
kjohnson3macOS 13.7.7 Venturaarm64R Under development (unstable) (2025-11-04 r88984) -- "Unsuffered Consequences" 4561
Click on any hostname to see more info about the system (e.g. compilers)      (*) as reported by 'uname -p', except on Windows and Mac OS X

Package 306/2325HostnameOS / ArchINSTALLBUILDCHECKBUILD BIN
cellmigRation 1.19.0  (landing page)
Waldir Leoncio
Snapshot Date: 2025-11-14 13:40 -0500 (Fri, 14 Nov 2025)
git_url: https://git.bioconductor.org/packages/cellmigRation
git_branch: devel
git_last_commit: 18cb9ed
git_last_commit_date: 2025-10-29 11:08:05 -0500 (Wed, 29 Oct 2025)
nebbiolo1Linux (Ubuntu 24.04.3 LTS) / x86_64  OK    OK    OK  UNNEEDED, same version is already published
kjohnson3macOS 13.7.7 Ventura / arm64  OK    OK    OK    OK  UNNEEDED, same version is already published


CHECK results for cellmigRation on kjohnson3

To the developers/maintainers of the cellmigRation package:
- Allow up to 24 hours (and sometimes 48 hours) for your latest push to git@git.bioconductor.org:packages/cellmigRation.git to reflect on this report. See Troubleshooting Build Report for more information.
- Use the following Renviron settings to reproduce errors and warnings.
- If 'R CMD check' started to fail recently on the Linux builder(s) over a missing dependency, add the missing dependency to 'Suggests:' in your DESCRIPTION file. See Renviron.bioc for more information.

raw results


Summary

Package: cellmigRation
Version: 1.19.0
Command: /Library/Frameworks/R.framework/Resources/bin/R CMD check --install=check:cellmigRation.install-out.txt --library=/Library/Frameworks/R.framework/Resources/library --no-vignettes --timings cellmigRation_1.19.0.tar.gz
StartedAt: 2025-11-14 18:55:47 -0500 (Fri, 14 Nov 2025)
EndedAt: 2025-11-14 18:56:46 -0500 (Fri, 14 Nov 2025)
EllapsedTime: 58.7 seconds
RetCode: 0
Status:   OK  
CheckDir: cellmigRation.Rcheck
Warnings: 0

Command output

##############################################################################
##############################################################################
###
### Running command:
###
###   /Library/Frameworks/R.framework/Resources/bin/R CMD check --install=check:cellmigRation.install-out.txt --library=/Library/Frameworks/R.framework/Resources/library --no-vignettes --timings cellmigRation_1.19.0.tar.gz
###
##############################################################################
##############################################################################


* using log directory ‘/Users/biocbuild/bbs-3.23-bioc/meat/cellmigRation.Rcheck’
* using R Under development (unstable) (2025-11-04 r88984)
* using platform: aarch64-apple-darwin20
* R was compiled by
    Apple clang version 16.0.0 (clang-1600.0.26.6)
    GNU Fortran (GCC) 14.2.0
* running under: macOS Ventura 13.7.8
* using session charset: UTF-8
* using option ‘--no-vignettes’
* checking for file ‘cellmigRation/DESCRIPTION’ ... OK
* checking extension type ... Package
* this is package ‘cellmigRation’ version ‘1.19.0’
* package encoding: UTF-8
* checking package namespace information ... OK
* checking package dependencies ... OK
* checking if this is a source package ... OK
* checking if there is a namespace ... OK
* checking for hidden files and directories ... OK
* checking for portable file names ... OK
* checking for sufficient/correct file permissions ... OK
* checking whether package ‘cellmigRation’ can be installed ... OK
* checking installed package size ... OK
* checking package directory ... OK
* checking ‘build’ directory ... OK
* checking DESCRIPTION meta-information ... OK
* checking top-level files ... OK
* checking for left-over files ... OK
* checking index information ... OK
* checking package subdirectories ... OK
* checking code files for non-ASCII characters ... OK
* checking R files for syntax errors ... OK
* checking whether the package can be loaded ... OK
* checking whether the package can be loaded with stated dependencies ... OK
* checking whether the package can be unloaded cleanly ... OK
* checking whether the namespace can be loaded with stated dependencies ... OK
* checking whether the namespace can be unloaded cleanly ... OK
* checking dependencies in R code ... OK
* checking S3 generic/method consistency ... OK
* checking replacement functions ... OK
* checking foreign function calls ... OK
* checking R code for possible problems ... OK
* checking Rd files ... OK
* checking Rd metadata ... OK
* checking Rd cross-references ... OK
* checking for missing documentation entries ... OK
* checking for code/documentation mismatches ... OK
* checking Rd \usage sections ... NOTE
Documented arguments not in \usage in Rd file 'fixDA.Rd':
  ‘object’

Documented arguments not in \usage in Rd file 'fixFM1.Rd':
  ‘object’

Documented arguments not in \usage in Rd file 'fixFM2.Rd':
  ‘object’

Documented arguments not in \usage in Rd file 'fixFM3.Rd':
  ‘object’

Documented arguments not in \usage in Rd file 'fixFM4.Rd':
  ‘object’

Documented arguments not in \usage in Rd file 'fixFM5.Rd':
  ‘object’

Documented arguments not in \usage in Rd file 'fixFM6.Rd':
  ‘object’

Documented arguments not in \usage in Rd file 'fixID2.Rd':
  ‘TimeInterval’

Documented arguments not in \usage in Rd file 'fixID3.Rd':
  ‘TimeInterval’

Documented arguments not in \usage in Rd file 'fixID4.Rd':
  ‘TimeInterval’

Documented arguments not in \usage in Rd file 'fixMSD.Rd':
  ‘object’

Documented arguments not in \usage in Rd file 'fixPER1.Rd':
  ‘x’

Documented arguments not in \usage in Rd file 'fixPER2.Rd':
  ‘x’

Documented arguments not in \usage in Rd file 'innerBondRaster.Rd':
  ‘i’

Functions with \usage entries need to have the appropriate \alias
entries, and all their arguments documented.
The \usage entries must correspond to syntactically valid R code.
See chapter ‘Writing R documentation files’ in the ‘Writing R
Extensions’ manual.
* checking Rd contents ... OK
* checking for unstated dependencies in examples ... OK
* checking contents of ‘data’ directory ... OK
* checking data for non-ASCII characters ... OK
* checking data for ASCII and uncompressed saves ... OK
* checking files in ‘vignettes’ ... OK
* checking examples ... OK
* checking for unstated dependencies in ‘tests’ ... OK
* checking tests ...
  Running ‘runTests.R’
 OK
* checking for unstated dependencies in vignettes ... OK
* checking package vignettes ... OK
* checking running R code from vignettes ... SKIPPED
* checking re-building of vignette outputs ... SKIPPED
* checking PDF version of manual ... OK
* DONE

Status: 1 NOTE
See
  ‘/Users/biocbuild/bbs-3.23-bioc/meat/cellmigRation.Rcheck/00check.log’
for details.


Installation output

cellmigRation.Rcheck/00install.out

##############################################################################
##############################################################################
###
### Running command:
###
###   /Library/Frameworks/R.framework/Resources/bin/R CMD INSTALL cellmigRation
###
##############################################################################
##############################################################################


* installing to library ‘/Library/Frameworks/R.framework/Versions/4.6-arm64/Resources/library’
* installing *source* package ‘cellmigRation’ ...
** this is package ‘cellmigRation’ version ‘1.19.0’
** using staged installation
** R
** data
** inst
** byte-compile and prepare package for lazy loading
** help
*** installing help indices
** building package indices
** installing vignettes
** testing if installed package can be loaded from temporary location
** testing if installed package can be loaded from final location
** testing if installed package keeps a record of temporary installation path
* DONE (cellmigRation)

Tests output

cellmigRation.Rcheck/tests/runTests.Rout


R Under development (unstable) (2025-11-04 r88984) -- "Unsuffered Consequences"
Copyright (C) 2025 The R Foundation for Statistical Computing
Platform: aarch64-apple-darwin20

R is free software and comes with ABSOLUTELY NO WARRANTY.
You are welcome to redistribute it under certain conditions.
Type 'license()' or 'licence()' for distribution details.

R is a collaborative project with many contributors.
Type 'contributors()' for more information and
'citation()' on how to cite R or R packages in publications.

Type 'demo()' for some demos, 'help()' for on-line help, or
'help.start()' for an HTML browser interface to help.
Type 'q()' to quit R.

> BiocGenerics:::testPackage("cellmigRation")


RUNIT TEST PROTOCOL -- Fri Nov 14 18:56:40 2025 
*********************************************** 
Number of test functions: 7 
Number of errors: 0 
Number of failures: 0 

 
1 Test Suite : 
cellmigRation RUnit Tests - 7 test functions, 0 errors, 0 failures
Number of test functions: 7 
Number of errors: 0 
Number of failures: 0 
> 
> proc.time()
   user  system elapsed 
  1.326   0.128   1.487 

Example timings

cellmigRation.Rcheck/cellmigRation-Ex.timings

nameusersystemelapsed
AddDimension0.0000.0010.001
CellMig-class0.0130.0010.014
CellMigPCA0.6980.0200.802
CellMigPCAclust0.0030.0000.005
CellMigPCAclustALL0.2050.0040.235
CellTracker0.0080.0010.009
CellTrackerMainLoop0.0020.0040.011
CentroidArray0.0080.0010.010
CentroidValidation0.1580.0050.170
ComputeTracksStats0.0100.0010.010
DetectRadii0.0010.0000.001
DiAutoCor0.4540.0070.498
DiRatio0.0060.0010.007
DiRatioPlot0.0120.0050.016
EstimateDiameterRange0.0050.0000.005
FMI0.1620.0030.166
FianlizeOptiParams000
FilterTrackedCells0.0000.0000.001
FinRes0.2280.0060.262
ForwardMigration0.3320.0050.357
GenAllCombos0.0010.0000.001
LinearConv20.0080.0010.008
LoadTiff000
MSD0.5030.0250.550
MakeHypercube000
MigrationStats0.0010.0010.000
NextOdd000
NonParallel4OptimizeParams000
NonParallelTrackLoop000
OptimizeParams0.0060.0010.007
OptimizeParamsMainLoop0.0020.0050.008
Parallel4OptimizeParams000
ParallelTrackLoop0.0010.0000.000
PerAndSpeed0.0950.0110.108
PlotTracksSeparately0.0040.0010.004
PostProcessTracking0.0000.0000.001
Prep4OptimizeParams0.0330.0020.035
ThreeConditions0.0040.0010.005
TrackCellsDataset0.0070.0010.007
TrajectoryDataset0.0110.0010.012
ValidateTrackingArgs000
VeAutoCor0.3810.0090.403
VisualizeCntr0.0010.0010.001
VisualizeImg0.0010.0000.002
VisualizeStackCentroids0.0200.0030.024
WSADataset0.0040.0010.005
aggregateFR0.2270.0030.231
aggregateTrackedCells0.0080.0010.010
bpass0.0300.0010.037
circshift000
cntrd0.2480.0060.267
fixDA000
fixExpName000
fixFM1000
fixFM2000
fixFM3000
fixFM4000
fixFM50.0000.0010.000
fixFM6000
fixID1000
fixMSD000
fixPER1000
fixPER2000
fixPER30.0000.0010.001
getAvailableAggrMetrics0.3140.0040.331
getCellImages0.0880.3520.447
getCellMigSlot0.1300.2120.345
getCellTrackMeta0.0070.0020.008
getCellTrackStats0.0070.0010.009
getCellTracks0.0060.0020.008
getCellsMeta0.0070.0010.008
getCellsStats0.0070.0010.008
getDACtable0.6820.0090.706
getDiRatio0.0070.0010.009
getFMItable0.1640.0030.177
getForMigtable0.1860.0030.192
getImageCentroids0.0080.0010.010
getImageStacks0.0200.0030.023
getMSDtable1.2790.0161.333
getOptimizedParameters0.0080.0010.009
getOptimizedParams0.0080.0010.009
getPerAndSpeed0.0880.0090.099
getPopulationStats0.0070.0020.009
getProcessedImages0.0890.3610.458
getProcessingStatus0.0060.0010.008
getResults0.2370.0060.246
getTracks0.0100.0020.012
getVACtable0.3610.0060.392
initializeTrackParams000
innerBondRaster000
internalPermutation0.0000.0000.001
matfix0.0000.0000.001
nontrivialBondTracking0.0010.0000.000
pkfnd0.2370.0060.254
plot3DAllTracks0.0010.0000.001
plot3DTracks000
plotAllTracks0.0070.0020.009
plotSampleTracks0.0060.0010.007
preProcCellMig0.0030.0010.004
rmPreProcessing0.0320.0010.033
runTrackingPermutation0.0010.0000.001
setAnalyticParams0.0070.0010.008
setCellMigSlot0.0120.0010.016
setCellTracks0.0060.0010.007
setCellsMeta0.0060.0010.007
setExpName0.0110.0010.011
setOptimizedParams0.0070.0010.009
setProcessedImages0.0070.0010.008
setProcessingStatus0.0060.0010.007
setTrackedCellsMeta0.0130.0030.015
setTrackedCentroids0.0070.0010.009
setTrackedPositions0.0070.0010.007
setTrackingStats0.0060.0010.007
sinkAway0.0010.0000.000
subNetworkTracking0.0000.0000.001
track0.0030.0000.003
trackHypercubeBuild0.0000.0000.001
trackSlideProcessing000
trackSlideWrapUp000
trivialBondRaster0.0010.0000.000
trivialBondTracking0.0000.0000.001
visualizeCellTracks0.0210.0040.024
visualizeTrcks0.0150.0010.016
warnMessage000
wsaPreProcessing0.0180.0010.018