| Back to Build/check report for BioC 3.23: simplified long |
|
This page was generated on 2025-11-13 11:32 -0500 (Thu, 13 Nov 2025).
| Hostname | OS | Arch (*) | R version | Installed pkgs |
|---|---|---|---|---|
| kjohnson3 | macOS 13.7.7 Ventura | arm64 | R Under development (unstable) (2025-11-04 r88984) -- "Unsuffered Consequences" | 4013 |
| Click on any hostname to see more info about the system (e.g. compilers) (*) as reported by 'uname -p', except on Windows and Mac OS X | ||||
| Package 181/2325 | Hostname | OS / Arch | INSTALL | BUILD | CHECK | BUILD BIN | ||||||||
| bioCancer 1.39.0 (landing page) Karim Mezhoud
| kjohnson3 | macOS 13.7.7 Ventura / arm64 | OK | OK | OK | OK | ||||||||
|
To the developers/maintainers of the bioCancer package: - Allow up to 24 hours (and sometimes 48 hours) for your latest push to git@git.bioconductor.org:packages/bioCancer.git to reflect on this report. See Troubleshooting Build Report for more information. - Use the following Renviron settings to reproduce errors and warnings. - If 'R CMD check' started to fail recently on the Linux builder(s) over a missing dependency, add the missing dependency to 'Suggests:' in your DESCRIPTION file. See Renviron.bioc for more information. |
| Package: bioCancer |
| Version: 1.39.0 |
| Command: /Library/Frameworks/R.framework/Resources/bin/R CMD build --keep-empty-dirs --no-resave-data bioCancer |
| StartedAt: 2025-11-12 15:52:05 -0500 (Wed, 12 Nov 2025) |
| EndedAt: 2025-11-12 15:52:29 -0500 (Wed, 12 Nov 2025) |
| EllapsedTime: 24.3 seconds |
| RetCode: 0 |
| Status: OK |
| PackageFile: bioCancer_1.39.0.tar.gz |
| PackageFileSize: 9.459 MiB |
##############################################################################
##############################################################################
###
### Running command:
###
### /Library/Frameworks/R.framework/Resources/bin/R CMD build --keep-empty-dirs --no-resave-data bioCancer
###
##############################################################################
##############################################################################
* checking for file ‘bioCancer/DESCRIPTION’ ... OK
* preparing ‘bioCancer’:
* checking DESCRIPTION meta-information ... OK
* installing the package (it is needed to build vignettes)
* creating vignettes ... OK
* checking for LF line-endings in source and make files and shell scripts
* checking for empty or unneeded directories
NB: this package now depends on R (>= 4.1.0)
WARNING: Added dependency on R >= 4.1.0 because package code uses the
pipe |> or function shorthand \(...) syntax added in R 4.1.0.
File(s) using such syntax:
‘Enrich.R’ ‘cgdsr.R’ ‘geNetClassifier.R’ ‘getListProfData.R’
* building ‘bioCancer_1.39.0.tar.gz’