Back to Multiple platform build/check report for BioC 3.23:   simplified   long
A[B]CDEFGHIJKLMNOPQRSTUVWXYZ

This page was generated on 2025-11-14 11:36 -0500 (Fri, 14 Nov 2025).

HostnameOSArch (*)R versionInstalled pkgs
nebbiolo1Linux (Ubuntu 24.04.3 LTS)x86_64R Under development (unstable) (2025-10-20 r88955) -- "Unsuffered Consequences" 4825
kjohnson3macOS 13.7.7 Venturaarm64R Under development (unstable) (2025-11-04 r88984) -- "Unsuffered Consequences" 4547
Click on any hostname to see more info about the system (e.g. compilers)      (*) as reported by 'uname -p', except on Windows and Mac OS X

Package 128/2325HostnameOS / ArchINSTALLBUILDCHECKBUILD BIN
ballgown 2.43.0  (landing page)
Jack Fu
Snapshot Date: 2025-11-13 13:40 -0500 (Thu, 13 Nov 2025)
git_url: https://git.bioconductor.org/packages/ballgown
git_branch: devel
git_last_commit: dae077a
git_last_commit_date: 2025-10-29 10:20:34 -0500 (Wed, 29 Oct 2025)
nebbiolo1Linux (Ubuntu 24.04.3 LTS) / x86_64  OK    OK    ERROR  
kjohnson3macOS 13.7.7 Ventura / arm64  OK    OK    ERROR    OK  


CHECK results for ballgown on kjohnson3

To the developers/maintainers of the ballgown package:
- Allow up to 24 hours (and sometimes 48 hours) for your latest push to git@git.bioconductor.org:packages/ballgown.git to reflect on this report. See Troubleshooting Build Report for more information.
- Use the following Renviron settings to reproduce errors and warnings.
- If 'R CMD check' started to fail recently on the Linux builder(s) over a missing dependency, add the missing dependency to 'Suggests:' in your DESCRIPTION file. See Renviron.bioc for more information.

raw results


Summary

Package: ballgown
Version: 2.43.0
Command: /Library/Frameworks/R.framework/Resources/bin/R CMD check --install=check:ballgown.install-out.txt --library=/Library/Frameworks/R.framework/Resources/library --no-vignettes --timings ballgown_2.43.0.tar.gz
StartedAt: 2025-11-13 18:36:08 -0500 (Thu, 13 Nov 2025)
EndedAt: 2025-11-13 18:38:54 -0500 (Thu, 13 Nov 2025)
EllapsedTime: 165.9 seconds
RetCode: 1
Status:   ERROR  
CheckDir: ballgown.Rcheck
Warnings: NA

Command output

##############################################################################
##############################################################################
###
### Running command:
###
###   /Library/Frameworks/R.framework/Resources/bin/R CMD check --install=check:ballgown.install-out.txt --library=/Library/Frameworks/R.framework/Resources/library --no-vignettes --timings ballgown_2.43.0.tar.gz
###
##############################################################################
##############################################################################


* using log directory ‘/Users/biocbuild/bbs-3.23-bioc/meat/ballgown.Rcheck’
* using R Under development (unstable) (2025-11-04 r88984)
* using platform: aarch64-apple-darwin20
* R was compiled by
    Apple clang version 16.0.0 (clang-1600.0.26.6)
    GNU Fortran (GCC) 14.2.0
* running under: macOS Ventura 13.7.8
* using session charset: UTF-8
* using option ‘--no-vignettes’
* checking for file ‘ballgown/DESCRIPTION’ ... OK
* this is package ‘ballgown’ version ‘2.43.0’
* checking package namespace information ... OK
* checking package dependencies ... OK
* checking if this is a source package ... OK
* checking if there is a namespace ... OK
* checking for hidden files and directories ... OK
* checking for portable file names ... OK
* checking for sufficient/correct file permissions ... OK
* checking whether package ‘ballgown’ can be installed ... OK
* checking installed package size ... OK
* checking package directory ... OK
* checking ‘build’ directory ... OK
* checking DESCRIPTION meta-information ... OK
* checking top-level files ... OK
* checking for left-over files ... OK
* checking index information ... OK
* checking package subdirectories ... NOTE
Problems with news in ‘NEWS’:
  Cannot process chunk/lines:
    Version 1.99.6 released in Bioconductor 3.1 as Version 2.1.0.
  Cannot process chunk/lines:
    Version 0.99.1 was released on Bioconductor on 28 July 2014
* checking code files for non-ASCII characters ... OK
* checking R files for syntax errors ... OK
* checking whether the package can be loaded ... OK
* checking whether the package can be loaded with stated dependencies ... OK
* checking whether the package can be unloaded cleanly ... OK
* checking whether the namespace can be loaded with stated dependencies ... OK
* checking whether the namespace can be unloaded cleanly ... OK
* checking dependencies in R code ... OK
* checking S3 generic/method consistency ... OK
* checking replacement functions ... OK
* checking foreign function calls ... OK
* checking R code for possible problems ... NOTE
.readExon: no visible global function definition for ‘read.table’
.readIntron: no visible global function definition for ‘read.table’
.readTranscript: no visible global function definition for ‘read.table’
assessSim: no visible global function definition for ‘read.table’
assessSim: no visible global function definition for ‘lines’
assessSim: no visible global function definition for ‘legend’
ballgown: no visible global function definition for ‘read.table’
ballgownrsem: no visible global function definition for ‘read.table’
ballgownrsem : <anonymous>: no visible global function definition for
  ‘read.table’
checkAssembledTx: no visible global function definition for ‘par’
checkAssembledTx: no visible global function definition for ‘polygon’
checkAssembledTx: no visible global function definition for ‘lines’
checkAssembledTx: no visible global function definition for ‘abline’
checkAssembledTx: no visible global function definition for ‘title’
checkAssembledTx: no visible global function definition for ‘axis’
closestColor: no visible global function definition for ‘heat.colors’
clusterTranscripts: no visible global function definition for ‘cutree’
clusterTranscripts: no visible global function definition for ‘hclust’
clusterTranscripts: no visible global function definition for ‘as.dist’
clusterTranscripts: no visible global function definition for ‘kmeans’
gffRead: no visible global function definition for ‘read.table’
plotMeans: no visible global function definition for ‘par’
plotMeans: no visible global function definition for ‘polygon’
plotMeans: no visible global function definition for ‘lines’
plotMeans: no visible global function definition for ‘heat.colors’
plotMeans: no visible global function definition for ‘text’
plotMeans: no visible global function definition for ‘axis’
plotTranscripts: no visible global function definition for ‘par’
plotTranscripts: no visible global function definition for ‘title’
plotTranscripts: no visible global function definition for ‘polygon’
plotTranscripts: no visible global function definition for ‘lines’
plotTranscripts: no visible global function definition for
  ‘heat.colors’
plotTranscripts: no visible global function definition for ‘text’
plotTranscripts: no visible global function definition for ‘axis’
stattest: no visible global function definition for ‘model.matrix’
stattest: no visible global function definition for ‘p.adjust’
writeFiles: no visible global function definition for ‘write.table’
subset,ballgown: no visible binding for global variable ‘i_id’
subset,ballgown: no visible binding for global variable ‘e_id’
subset,ballgown: no visible binding for global variable ‘t_id’
Undefined global functions or variables:
  abline as.dist axis cutree e_id hclust heat.colors i_id kmeans legend
  lines model.matrix p.adjust par polygon read.table t_id text title
  write.table
Consider adding
  importFrom("grDevices", "heat.colors")
  importFrom("graphics", "abline", "axis", "legend", "lines", "par",
             "polygon", "text", "title")
  importFrom("stats", "as.dist", "cutree", "hclust", "kmeans",
             "model.matrix", "p.adjust")
  importFrom("utils", "read.table", "write.table")
to your NAMESPACE file.
* checking Rd files ... OK
* checking Rd metadata ... OK
* checking Rd cross-references ... OK
* checking for missing documentation entries ... OK
* checking for code/documentation mismatches ... OK
* checking Rd \usage sections ... OK
* checking Rd contents ... OK
* checking for unstated dependencies in examples ... OK
* checking contents of ‘data’ directory ... OK
* checking data for non-ASCII characters ... OK
* checking data for ASCII and uncompressed saves ... OK
* checking files in ‘vignettes’ ... OK
* checking examples ... OK
Examples with CPU (user + system) or elapsed time > 5s
                   user system elapsed
annotate_assembly 6.522  0.043   7.032
* checking for unstated dependencies in ‘tests’ ... OK
* checking tests ...
  Running ‘test-all.R’
 ERROR
Running the tests in ‘tests/test-all.R’ failed.
Last 13 lines of output:
  
  Saving _problems/test-annotation-42.R
  [ FAIL 1 | WARN 32 | SKIP 0 | PASS 127 ]
  
  ══ Failed tests ════════════════════════════════════════════════════════════════
  ── Error ('test-annotation.R:41:5'): splitting attribute fields works ──────────
  Error in `is_true()`: could not find function "is_true"
  Backtrace:
      ▆
   1. └─testthat::expect_that(...) at test-annotation.R:41:5
  
  [ FAIL 1 | WARN 32 | SKIP 0 | PASS 127 ]
  Error:
  ! Test failures.
  Execution halted
* checking for unstated dependencies in vignettes ... OK
* checking package vignettes ... OK
* checking running R code from vignettes ... SKIPPED
* checking re-building of vignette outputs ... SKIPPED
* checking PDF version of manual ... OK
* DONE

Status: 1 ERROR, 2 NOTEs
See
  ‘/Users/biocbuild/bbs-3.23-bioc/meat/ballgown.Rcheck/00check.log’
for details.


Installation output

ballgown.Rcheck/00install.out

##############################################################################
##############################################################################
###
### Running command:
###
###   /Library/Frameworks/R.framework/Resources/bin/R CMD INSTALL ballgown
###
##############################################################################
##############################################################################


* installing to library ‘/Library/Frameworks/R.framework/Versions/4.6-arm64/Resources/library’
* installing *source* package ‘ballgown’ ...
** this is package ‘ballgown’ version ‘2.43.0’
** using staged installation
** R
** data
** inst
** byte-compile and prepare package for lazy loading
Creating a new generic function for ‘structure’ in package ‘ballgown’
** help
*** installing help indices
** building package indices
** installing vignettes
** testing if installed package can be loaded from temporary location
** testing if installed package can be loaded from final location
** testing if installed package keeps a record of temporary installation path
* DONE (ballgown)

Tests output

ballgown.Rcheck/tests/test-all.Rout.fail


R Under development (unstable) (2025-11-04 r88984) -- "Unsuffered Consequences"
Copyright (C) 2025 The R Foundation for Statistical Computing
Platform: aarch64-apple-darwin20

R is free software and comes with ABSOLUTELY NO WARRANTY.
You are welcome to redistribute it under certain conditions.
Type 'license()' or 'licence()' for distribution details.

R is a collaborative project with many contributors.
Type 'contributors()' for more information and
'citation()' on how to cite R or R packages in publications.

Type 'demo()' for some demos, 'help()' for on-line help, or
'help.start()' for an HTML browser interface to help.
Type 'q()' to quit R.

> library(testthat)
> test_check('ballgown')
Loading required package: ballgown

Attaching package: 'ballgown'

The following object is masked from 'package:base':

    structure

Saving _problems/test-annotation-42.R
[ FAIL 1 | WARN 32 | SKIP 0 | PASS 127 ]

══ Failed tests ════════════════════════════════════════════════════════════════
── Error ('test-annotation.R:41:5'): splitting attribute fields works ──────────
Error in `is_true()`: could not find function "is_true"
Backtrace:
    ▆
 1. └─testthat::expect_that(...) at test-annotation.R:41:5

[ FAIL 1 | WARN 32 | SKIP 0 | PASS 127 ]
Error:
! Test failures.
Execution halted

Example timings

ballgown.Rcheck/ballgown-Ex.timings

nameusersystemelapsed
annotate_assembly6.5220.0437.032
ballgown-class0.0240.0020.028
ballgown-constructor0.0650.0080.079
ballgownrsem0.5490.0110.603
bg0.0140.0010.014
checkAssembledTx0.0000.0000.001
clusterTranscripts0.0920.0010.098
collapseTranscripts0.1080.0010.121
contains3.2090.0343.527
dirs0.0170.0010.021
eexpr0.0150.0020.017
expr-replace0.0150.0010.018
expr0.0130.0010.014
exprfilter0.0210.0010.023
geneIDs0.0130.0010.015
geneNames0.1210.0030.131
getAttributeField0.2670.0020.280
getGenes0.1050.0020.118
gexpr0.0410.0010.042
gffRead0.0450.0010.054
gffReadGR0.1440.0020.156
iexpr0.0160.0010.018
indexes-replace0.0150.0010.015
indexes0.0160.0010.020
last0.0000.0000.001
mergedDate0.0140.0010.015
pData-replace0.0150.0010.016
pData0.0140.0020.015
pctOverlap0.1080.0030.113
plotLatentTranscripts0.0000.0000.001
plotMeans000
plotTranscripts000
sampleNames0.0140.0010.014
seqnames0.0170.0010.022
stattest0.4780.0030.508
structure0.0170.0010.020
subset0.0560.0010.066
tGene0.0150.0010.016
texpr0.0150.0010.014
transcriptIDs0.0130.0010.022
transcriptNames0.0150.0010.017
writeFiles000